BEGIN:VCALENDAR
VERSION:2.0
PRODID:-//Press Play Salem - ECPv6.15.20//NONSGML v1.0//EN
CALSCALE:GREGORIAN
METHOD:PUBLISH
X-WR-CALNAME:Press Play Salem
X-ORIGINAL-URL:https://pressplaysalem.com
X-WR-CALDESC:Events for Press Play Salem
REFRESH-INTERVAL;VALUE=DURATION:PT1H
X-Robots-Tag:noindex
X-PUBLISHED-TTL:PT1H
BEGIN:VTIMEZONE
TZID:America/Vancouver
BEGIN:DAYLIGHT
TZOFFSETFROM:-0800
TZOFFSETTO:-0700
TZNAME:PDT
DTSTART:20250309T100000
END:DAYLIGHT
BEGIN:STANDARD
TZOFFSETFROM:-0700
TZOFFSETTO:-0800
TZNAME:PST
DTSTART:20251102T090000
END:STANDARD
BEGIN:DAYLIGHT
TZOFFSETFROM:-0800
TZOFFSETTO:-0700
TZNAME:PDT
DTSTART:20260308T100000
END:DAYLIGHT
BEGIN:STANDARD
TZOFFSETFROM:-0700
TZOFFSETTO:-0800
TZNAME:PST
DTSTART:20261101T090000
END:STANDARD
BEGIN:DAYLIGHT
TZOFFSETFROM:-0800
TZOFFSETTO:-0700
TZNAME:PDT
DTSTART:20270314T100000
END:DAYLIGHT
BEGIN:STANDARD
TZOFFSETFROM:-0700
TZOFFSETTO:-0800
TZNAME:PST
DTSTART:20271107T090000
END:STANDARD
END:VTIMEZONE
BEGIN:VEVENT
DTSTART;TZID=America/Vancouver:20260410T193000
DTEND;TZID=America/Vancouver:20260410T210000
DTSTAMP:20260423T162506
CREATED:20260208T211047Z
LAST-MODIFIED:20260208T211047Z
UID:10011502-1775849400-1775854800@pressplaysalem.com
SUMMARY:Ravel & Saint-Saëns
DESCRIPTION:Oregon Symphony in Salem presents \nRavel & Saint-Saëns\nA bracing whack from the percussionist’s “slap stick” launches Ravel’s Concerto on an effervescent romp\, evoking the Harlem jazz clubs he visited with Gershwin. Riffs from the brasses and piano fireworks make for a breathless dash to the finish. Ravel’s lush Daphnis et Chloé opens with a radiant sunrise—golden strings\, shimmering harps\, bird calls—and ends with an orgiastic paean to love.
URL:https://pressplaysalem.com/calendar/ravel-saint-saens/
LOCATION:Smith Auditorium\, 900 State St\, Salem\, 97301\, United States
CATEGORIES:concert + live music
ATTACH;FMTTYPE=image/webp:https://pressplaysalem.com/wp-content/uploads/2026/02/Ravel-Saint-Saens.webp
END:VEVENT
BEGIN:VEVENT
DTSTART;TZID=America/Vancouver:20260320T193000
DTEND;TZID=America/Vancouver:20260320T193000
DTSTAMP:20260423T162506
CREATED:20260208T210842Z
LAST-MODIFIED:20260208T211332Z
UID:10011504-1774035000-1774035000@pressplaysalem.com
SUMMARY:Mendelssohn’s Scottish Symphony
DESCRIPTION:Oregon Symphony in Salem presents \nMendelssohn’s Scottish Symphony\nThere’s nothing like hiking across moors and encountering castle ruins to ignite the creative process—as Mendelssohn experienced it on a tour of Scotland. Holyrood Castle (where Mary Queen of Scots was crowned) inspired the mysterious mood of the Third Symphony’s opening. But the mists ultimately lift in the sunny\, lively finale. Plus\, Portland favorite Conrad Tao dazzles in Mozart’s 21st Piano Concerto\, with its slow movement once described by biographer Maynard Solomon as “an entire movement of unrelieved\, time-stopping beauty…for something just short of eternity.”
URL:https://pressplaysalem.com/calendar/mendelssohns-scottish-symphony/
LOCATION:Smith Auditorium\, 900 State St\, Salem\, 97301\, United States
CATEGORIES:concert + live music
ATTACH;FMTTYPE=image/webp:https://pressplaysalem.com/wp-content/uploads/2026/02/mendelssohns-scottish-symphony.webp
END:VEVENT
BEGIN:VEVENT
DTSTART;TZID=America/Vancouver:20260314T193000
DTEND;TZID=America/Vancouver:20260314T210000
DTSTAMP:20260423T162506
CREATED:20260208T202849Z
LAST-MODIFIED:20260208T203318Z
UID:10000706-1773516600-1773522000@pressplaysalem.com
SUMMARY:The Breasts of Tirésias
DESCRIPTION:The Breasts of Tiresias\nMusic by Francis Poulenc and Lyics by Gillaume Apollinaiare\nGender norms pop like balloons in The Breasts of Tiresias\, Poulenc and Appollinaire’s bawdy surrealist romp. Frustrated with the life of a housewife\, Tiresias sheds her breasts and becomes the male General Tirésias. As she leads a new life fighting distant wars on foreign battlefields\, her stay-at-home husband discovers a way to make babies on his own – but not just one: 40\,049 of them. This delightfully sugar-coated pill coats the sublime in the ridiculous.
URL:https://pressplaysalem.com/calendar/the-breasts-of-tiresias/2026-03-14/
LOCATION:Smith Auditorium\, 900 State St\, Salem\, 97301\, United States
CATEGORIES:concert + live music
ATTACH;FMTTYPE=image/png:https://pressplaysalem.com/wp-content/uploads/2026/02/25-26-breasts-of-tiresias-showmoji.png
END:VEVENT
BEGIN:VEVENT
DTSTART;TZID=America/Vancouver:20260313T193000
DTEND;TZID=America/Vancouver:20260313T210000
DTSTAMP:20260423T162506
CREATED:20260208T202849Z
LAST-MODIFIED:20260208T203318Z
UID:10000705-1773430200-1773435600@pressplaysalem.com
SUMMARY:The Breasts of Tirésias
DESCRIPTION:The Breasts of Tiresias\nMusic by Francis Poulenc and Lyics by Gillaume Apollinaiare\nGender norms pop like balloons in The Breasts of Tiresias\, Poulenc and Appollinaire’s bawdy surrealist romp. Frustrated with the life of a housewife\, Tiresias sheds her breasts and becomes the male General Tirésias. As she leads a new life fighting distant wars on foreign battlefields\, her stay-at-home husband discovers a way to make babies on his own – but not just one: 40\,049 of them. This delightfully sugar-coated pill coats the sublime in the ridiculous.
URL:https://pressplaysalem.com/calendar/the-breasts-of-tiresias/2026-03-13/
LOCATION:Smith Auditorium\, 900 State St\, Salem\, 97301\, United States
CATEGORIES:concert + live music
ATTACH;FMTTYPE=image/png:https://pressplaysalem.com/wp-content/uploads/2026/02/25-26-breasts-of-tiresias-showmoji.png
END:VEVENT
END:VCALENDAR