BEGIN:VCALENDAR
VERSION:2.0
PRODID:-//Press Play Salem - ECPv6.15.20//NONSGML v1.0//EN
CALSCALE:GREGORIAN
METHOD:PUBLISH
X-ORIGINAL-URL:https://pressplaysalem.com
X-WR-CALDESC:Events for Press Play Salem
REFRESH-INTERVAL;VALUE=DURATION:PT1H
X-Robots-Tag:noindex
X-PUBLISHED-TTL:PT1H
BEGIN:VTIMEZONE
TZID:America/Vancouver
BEGIN:DAYLIGHT
TZOFFSETFROM:-0800
TZOFFSETTO:-0700
TZNAME:PDT
DTSTART:20250309T100000
END:DAYLIGHT
BEGIN:STANDARD
TZOFFSETFROM:-0700
TZOFFSETTO:-0800
TZNAME:PST
DTSTART:20251102T090000
END:STANDARD
BEGIN:DAYLIGHT
TZOFFSETFROM:-0800
TZOFFSETTO:-0700
TZNAME:PDT
DTSTART:20260308T100000
END:DAYLIGHT
BEGIN:STANDARD
TZOFFSETFROM:-0700
TZOFFSETTO:-0800
TZNAME:PST
DTSTART:20261101T090000
END:STANDARD
BEGIN:DAYLIGHT
TZOFFSETFROM:-0800
TZOFFSETTO:-0700
TZNAME:PDT
DTSTART:20270314T100000
END:DAYLIGHT
BEGIN:STANDARD
TZOFFSETFROM:-0700
TZOFFSETTO:-0800
TZNAME:PST
DTSTART:20271107T090000
END:STANDARD
END:VTIMEZONE
BEGIN:VEVENT
DTSTART;TZID=America/Vancouver:20260420T193000
DTEND;TZID=America/Vancouver:20260420T210000
DTSTAMP:20260423T152701
CREATED:20260124T222638Z
LAST-MODIFIED:20260124T222748Z
UID:10000037-1776713400-1776718800@pressplaysalem.com
SUMMARY:Weekly Drop-In Improv Comedy Class
DESCRIPTION:Date: Every Monday \nTime: 7:30pm – 9:00pm \nPrice: $5 (first class free!) – Pay at doors \nAll experience levels welcome \n15+‍ \nTake a break from real life to come play and let loose! Improv is all about teamwork\, communication and\, most importantly\, FUN!‍ \nWhether you’re a casual fan or seasoned performer\, this class is great for improvisers of all experience levels! Ages 15+ recommended. Classes are $5 each and your first class is FREE!
URL:https://pressplaysalem.com/calendar/weekly-drop-in-improv-comedy-class/2026-04-20/
LOCATION:Grand Ballroom\, 187 High St NE\, Salem\, Oregon\, 97301\, United States
CATEGORIES:activity,comedy
ATTACH;FMTTYPE=image/png:https://pressplaysalem.com/wp-content/uploads/2026/01/drop-in-comedy-at-grand-scaled.png
END:VEVENT
BEGIN:VEVENT
DTSTART;TZID=America/Vancouver:20260413T193000
DTEND;TZID=America/Vancouver:20260413T210000
DTSTAMP:20260423T152701
CREATED:20260124T222638Z
LAST-MODIFIED:20260124T222748Z
UID:10000035-1776108600-1776114000@pressplaysalem.com
SUMMARY:Weekly Drop-In Improv Comedy Class
DESCRIPTION:Date: Every Monday \nTime: 7:30pm – 9:00pm \nPrice: $5 (first class free!) – Pay at doors \nAll experience levels welcome \n15+‍ \nTake a break from real life to come play and let loose! Improv is all about teamwork\, communication and\, most importantly\, FUN!‍ \nWhether you’re a casual fan or seasoned performer\, this class is great for improvisers of all experience levels! Ages 15+ recommended. Classes are $5 each and your first class is FREE!
URL:https://pressplaysalem.com/calendar/weekly-drop-in-improv-comedy-class/2026-04-13/
LOCATION:Grand Ballroom\, 187 High St NE\, Salem\, Oregon\, 97301\, United States
CATEGORIES:activity,comedy
ATTACH;FMTTYPE=image/png:https://pressplaysalem.com/wp-content/uploads/2026/01/drop-in-comedy-at-grand-scaled.png
END:VEVENT
BEGIN:VEVENT
DTSTART;TZID=America/Vancouver:20260406T193000
DTEND;TZID=America/Vancouver:20260406T210000
DTSTAMP:20260423T152701
CREATED:20260124T222638Z
LAST-MODIFIED:20260124T222748Z
UID:10000033-1775503800-1775509200@pressplaysalem.com
SUMMARY:Weekly Drop-In Improv Comedy Class
DESCRIPTION:Date: Every Monday \nTime: 7:30pm – 9:00pm \nPrice: $5 (first class free!) – Pay at doors \nAll experience levels welcome \n15+‍ \nTake a break from real life to come play and let loose! Improv is all about teamwork\, communication and\, most importantly\, FUN!‍ \nWhether you’re a casual fan or seasoned performer\, this class is great for improvisers of all experience levels! Ages 15+ recommended. Classes are $5 each and your first class is FREE!
URL:https://pressplaysalem.com/calendar/weekly-drop-in-improv-comedy-class/2026-04-06/
LOCATION:Grand Ballroom\, 187 High St NE\, Salem\, Oregon\, 97301\, United States
CATEGORIES:activity,comedy
ATTACH;FMTTYPE=image/png:https://pressplaysalem.com/wp-content/uploads/2026/01/drop-in-comedy-at-grand-scaled.png
END:VEVENT
BEGIN:VEVENT
DTSTART;TZID=America/Vancouver:20260330T193000
DTEND;TZID=America/Vancouver:20260330T210000
DTSTAMP:20260423T152701
CREATED:20260124T222638Z
LAST-MODIFIED:20260124T222748Z
UID:10000031-1774899000-1774904400@pressplaysalem.com
SUMMARY:Weekly Drop-In Improv Comedy Class
DESCRIPTION:Date: Every Monday \nTime: 7:30pm – 9:00pm \nPrice: $5 (first class free!) – Pay at doors \nAll experience levels welcome \n15+‍ \nTake a break from real life to come play and let loose! Improv is all about teamwork\, communication and\, most importantly\, FUN!‍ \nWhether you’re a casual fan or seasoned performer\, this class is great for improvisers of all experience levels! Ages 15+ recommended. Classes are $5 each and your first class is FREE!
URL:https://pressplaysalem.com/calendar/weekly-drop-in-improv-comedy-class/2026-03-30/
LOCATION:Grand Ballroom\, 187 High St NE\, Salem\, Oregon\, 97301\, United States
CATEGORIES:activity,comedy
ATTACH;FMTTYPE=image/png:https://pressplaysalem.com/wp-content/uploads/2026/01/drop-in-comedy-at-grand-scaled.png
END:VEVENT
BEGIN:VEVENT
DTSTART;TZID=America/Vancouver:20260323T193000
DTEND;TZID=America/Vancouver:20260323T210000
DTSTAMP:20260423T152701
CREATED:20260124T222638Z
LAST-MODIFIED:20260124T222748Z
UID:10000029-1774294200-1774299600@pressplaysalem.com
SUMMARY:Weekly Drop-In Improv Comedy Class
DESCRIPTION:Date: Every Monday \nTime: 7:30pm – 9:00pm \nPrice: $5 (first class free!) – Pay at doors \nAll experience levels welcome \n15+‍ \nTake a break from real life to come play and let loose! Improv is all about teamwork\, communication and\, most importantly\, FUN!‍ \nWhether you’re a casual fan or seasoned performer\, this class is great for improvisers of all experience levels! Ages 15+ recommended. Classes are $5 each and your first class is FREE!
URL:https://pressplaysalem.com/calendar/weekly-drop-in-improv-comedy-class/2026-03-23/
LOCATION:Grand Ballroom\, 187 High St NE\, Salem\, Oregon\, 97301\, United States
CATEGORIES:activity,comedy
ATTACH;FMTTYPE=image/png:https://pressplaysalem.com/wp-content/uploads/2026/01/drop-in-comedy-at-grand-scaled.png
END:VEVENT
BEGIN:VEVENT
DTSTART;TZID=America/Vancouver:20260316T193000
DTEND;TZID=America/Vancouver:20260316T210000
DTSTAMP:20260423T152701
CREATED:20260124T222638Z
LAST-MODIFIED:20260124T222748Z
UID:10000027-1773689400-1773694800@pressplaysalem.com
SUMMARY:Weekly Drop-In Improv Comedy Class
DESCRIPTION:Date: Every Monday \nTime: 7:30pm – 9:00pm \nPrice: $5 (first class free!) – Pay at doors \nAll experience levels welcome \n15+‍ \nTake a break from real life to come play and let loose! Improv is all about teamwork\, communication and\, most importantly\, FUN!‍ \nWhether you’re a casual fan or seasoned performer\, this class is great for improvisers of all experience levels! Ages 15+ recommended. Classes are $5 each and your first class is FREE!
URL:https://pressplaysalem.com/calendar/weekly-drop-in-improv-comedy-class/2026-03-16/
LOCATION:Grand Ballroom\, 187 High St NE\, Salem\, Oregon\, 97301\, United States
CATEGORIES:activity,comedy
ATTACH;FMTTYPE=image/png:https://pressplaysalem.com/wp-content/uploads/2026/01/drop-in-comedy-at-grand-scaled.png
END:VEVENT
BEGIN:VEVENT
DTSTART;TZID=America/Vancouver:20260309T193000
DTEND;TZID=America/Vancouver:20260309T210000
DTSTAMP:20260423T152701
CREATED:20260124T222638Z
LAST-MODIFIED:20260124T222748Z
UID:10000025-1773084600-1773090000@pressplaysalem.com
SUMMARY:Weekly Drop-In Improv Comedy Class
DESCRIPTION:Date: Every Monday \nTime: 7:30pm – 9:00pm \nPrice: $5 (first class free!) – Pay at doors \nAll experience levels welcome \n15+‍ \nTake a break from real life to come play and let loose! Improv is all about teamwork\, communication and\, most importantly\, FUN!‍ \nWhether you’re a casual fan or seasoned performer\, this class is great for improvisers of all experience levels! Ages 15+ recommended. Classes are $5 each and your first class is FREE!
URL:https://pressplaysalem.com/calendar/weekly-drop-in-improv-comedy-class/2026-03-09/
LOCATION:Grand Ballroom\, 187 High St NE\, Salem\, Oregon\, 97301\, United States
CATEGORIES:activity,comedy
ATTACH;FMTTYPE=image/png:https://pressplaysalem.com/wp-content/uploads/2026/01/drop-in-comedy-at-grand-scaled.png
END:VEVENT
BEGIN:VEVENT
DTSTART;TZID=America/Vancouver:20260302T193000
DTEND;TZID=America/Vancouver:20260302T210000
DTSTAMP:20260423T152701
CREATED:20260124T222638Z
LAST-MODIFIED:20260124T222748Z
UID:10000023-1772479800-1772485200@pressplaysalem.com
SUMMARY:Weekly Drop-In Improv Comedy Class
DESCRIPTION:Date: Every Monday \nTime: 7:30pm – 9:00pm \nPrice: $5 (first class free!) – Pay at doors \nAll experience levels welcome \n15+‍ \nTake a break from real life to come play and let loose! Improv is all about teamwork\, communication and\, most importantly\, FUN!‍ \nWhether you’re a casual fan or seasoned performer\, this class is great for improvisers of all experience levels! Ages 15+ recommended. Classes are $5 each and your first class is FREE!
URL:https://pressplaysalem.com/calendar/weekly-drop-in-improv-comedy-class/2026-03-02/
LOCATION:Grand Ballroom\, 187 High St NE\, Salem\, Oregon\, 97301\, United States
CATEGORIES:activity,comedy
ATTACH;FMTTYPE=image/png:https://pressplaysalem.com/wp-content/uploads/2026/01/drop-in-comedy-at-grand-scaled.png
END:VEVENT
BEGIN:VEVENT
DTSTART;TZID=America/Vancouver:20260223T193000
DTEND;TZID=America/Vancouver:20260223T210000
DTSTAMP:20260423T152701
CREATED:20260124T222638Z
LAST-MODIFIED:20260124T222748Z
UID:10000021-1771875000-1771880400@pressplaysalem.com
SUMMARY:Weekly Drop-In Improv Comedy Class
DESCRIPTION:Date: Every Monday \nTime: 7:30pm – 9:00pm \nPrice: $5 (first class free!) – Pay at doors \nAll experience levels welcome \n15+‍ \nTake a break from real life to come play and let loose! Improv is all about teamwork\, communication and\, most importantly\, FUN!‍ \nWhether you’re a casual fan or seasoned performer\, this class is great for improvisers of all experience levels! Ages 15+ recommended. Classes are $5 each and your first class is FREE!
URL:https://pressplaysalem.com/calendar/weekly-drop-in-improv-comedy-class/2026-02-23/
LOCATION:Grand Ballroom\, 187 High St NE\, Salem\, Oregon\, 97301\, United States
CATEGORIES:activity,comedy
ATTACH;FMTTYPE=image/png:https://pressplaysalem.com/wp-content/uploads/2026/01/drop-in-comedy-at-grand-scaled.png
END:VEVENT
BEGIN:VEVENT
DTSTART;TZID=America/Vancouver:20260221T190000
DTEND;TZID=America/Vancouver:20260221T190000
DTSTAMP:20260423T152701
CREATED:20260124T225002Z
LAST-MODIFIED:20260124T225410Z
UID:10000601-1771700400-1771700400@pressplaysalem.com
SUMMARY:The Fools with HÖG and Boundless Joy
DESCRIPTION:February 21\, 2026 \nDoors at 6:30 | Show at 7 \n$13 presale | $18 day of show | 21+ \nIn the Ballroom \nSalem’s own blues-inspired heavy rock band The Fools performs with Portland’s grimy\, dark rock group HÖG and Salem’s heavy rock/classic metal/hard funk band Boundless Joy.
URL:https://pressplaysalem.com/calendar/the-fools-with-hog-and-boundless-joy/
LOCATION:Grand Ballroom\, 187 High St NE\, Salem\, Oregon\, 97301\, United States
CATEGORIES:concert + live music
ATTACH;FMTTYPE=image/png:https://pressplaysalem.com/wp-content/uploads/2026/01/2026-02-21-grand-music.png
END:VEVENT
BEGIN:VEVENT
DTSTART;TZID=America/Vancouver:20260220T200000
DTEND;TZID=America/Vancouver:20260220T200000
DTSTAMP:20260423T152701
CREATED:20260124T224902Z
LAST-MODIFIED:20260124T224902Z
UID:10000600-1771617600-1771617600@pressplaysalem.com
SUMMARY:No Stupid Questions
DESCRIPTION:Some questions are too embarrassing to ask even Siri. \nWhat temperature is the human body supposed to be? Is a new moon the one where you can see all of it or can’t see any of it? What’s the name of that movie where the dog plays basketball? “Air…friend?” That can’t be right… \nInstead of suffering in ignorance\, come to No Stupid Questions\, the comedy show where talented improvisers will give you all the answers you could ever want…and then some! \nAnonymously write down your questions before the show and our improvisers will use your confusion as the basis for our performance. Ask away – there are no stupid questions at this show\, only stupid answers! \nFebruary 20 | Doors at 7 | Show at 8 | $15 general admission + fees | 21+ \nClick Here To Request ADA Seating \nThis show is in the ballroom.
URL:https://pressplaysalem.com/calendar/no-stupid-questions/
LOCATION:Grand Ballroom\, 187 High St NE\, Salem\, Oregon\, 97301\, United States
CATEGORIES:comedy
ATTACH;FMTTYPE=image/png:https://pressplaysalem.com/wp-content/uploads/2026/01/2026-02-20-questions.png
END:VEVENT
BEGIN:VEVENT
DTSTART;TZID=America/Vancouver:20260216T193000
DTEND;TZID=America/Vancouver:20260216T210000
DTSTAMP:20260423T152701
CREATED:20260124T222638Z
LAST-MODIFIED:20260124T222748Z
UID:10000019-1771270200-1771275600@pressplaysalem.com
SUMMARY:Weekly Drop-In Improv Comedy Class
DESCRIPTION:Date: Every Monday \nTime: 7:30pm – 9:00pm \nPrice: $5 (first class free!) – Pay at doors \nAll experience levels welcome \n15+‍ \nTake a break from real life to come play and let loose! Improv is all about teamwork\, communication and\, most importantly\, FUN!‍ \nWhether you’re a casual fan or seasoned performer\, this class is great for improvisers of all experience levels! Ages 15+ recommended. Classes are $5 each and your first class is FREE!
URL:https://pressplaysalem.com/calendar/weekly-drop-in-improv-comedy-class/2026-02-16/
LOCATION:Grand Ballroom\, 187 High St NE\, Salem\, Oregon\, 97301\, United States
CATEGORIES:activity,comedy
ATTACH;FMTTYPE=image/png:https://pressplaysalem.com/wp-content/uploads/2026/01/drop-in-comedy-at-grand-scaled.png
END:VEVENT
BEGIN:VEVENT
DTSTART;TZID=America/Vancouver:20260209T193000
DTEND;TZID=America/Vancouver:20260209T210000
DTSTAMP:20260423T152701
CREATED:20260124T222638Z
LAST-MODIFIED:20260124T222748Z
UID:10000017-1770665400-1770670800@pressplaysalem.com
SUMMARY:Weekly Drop-In Improv Comedy Class
DESCRIPTION:Date: Every Monday \nTime: 7:30pm – 9:00pm \nPrice: $5 (first class free!) – Pay at doors \nAll experience levels welcome \n15+‍ \nTake a break from real life to come play and let loose! Improv is all about teamwork\, communication and\, most importantly\, FUN!‍ \nWhether you’re a casual fan or seasoned performer\, this class is great for improvisers of all experience levels! Ages 15+ recommended. Classes are $5 each and your first class is FREE!
URL:https://pressplaysalem.com/calendar/weekly-drop-in-improv-comedy-class/2026-02-09/
LOCATION:Grand Ballroom\, 187 High St NE\, Salem\, Oregon\, 97301\, United States
CATEGORIES:activity,comedy
ATTACH;FMTTYPE=image/png:https://pressplaysalem.com/wp-content/uploads/2026/01/drop-in-comedy-at-grand-scaled.png
END:VEVENT
BEGIN:VEVENT
DTSTART;TZID=America/Vancouver:20260202T193000
DTEND;TZID=America/Vancouver:20260202T210000
DTSTAMP:20260423T152701
CREATED:20260124T222638Z
LAST-MODIFIED:20260124T222748Z
UID:10000015-1770060600-1770066000@pressplaysalem.com
SUMMARY:Weekly Drop-In Improv Comedy Class
DESCRIPTION:Date: Every Monday \nTime: 7:30pm – 9:00pm \nPrice: $5 (first class free!) – Pay at doors \nAll experience levels welcome \n15+‍ \nTake a break from real life to come play and let loose! Improv is all about teamwork\, communication and\, most importantly\, FUN!‍ \nWhether you’re a casual fan or seasoned performer\, this class is great for improvisers of all experience levels! Ages 15+ recommended. Classes are $5 each and your first class is FREE!
URL:https://pressplaysalem.com/calendar/weekly-drop-in-improv-comedy-class/2026-02-02/
LOCATION:Grand Ballroom\, 187 High St NE\, Salem\, Oregon\, 97301\, United States
CATEGORIES:activity,comedy
ATTACH;FMTTYPE=image/png:https://pressplaysalem.com/wp-content/uploads/2026/01/drop-in-comedy-at-grand-scaled.png
END:VEVENT
BEGIN:VEVENT
DTSTART;TZID=America/Vancouver:20260126T193000
DTEND;TZID=America/Vancouver:20260126T210000
DTSTAMP:20260423T152701
CREATED:20260124T222638Z
LAST-MODIFIED:20260124T222748Z
UID:10000013-1769455800-1769461200@pressplaysalem.com
SUMMARY:Weekly Drop-In Improv Comedy Class
DESCRIPTION:Date: Every Monday \nTime: 7:30pm – 9:00pm \nPrice: $5 (first class free!) – Pay at doors \nAll experience levels welcome \n15+‍ \nTake a break from real life to come play and let loose! Improv is all about teamwork\, communication and\, most importantly\, FUN!‍ \nWhether you’re a casual fan or seasoned performer\, this class is great for improvisers of all experience levels! Ages 15+ recommended. Classes are $5 each and your first class is FREE!
URL:https://pressplaysalem.com/calendar/weekly-drop-in-improv-comedy-class/2026-01-26/
LOCATION:Grand Ballroom\, 187 High St NE\, Salem\, Oregon\, 97301\, United States
CATEGORIES:activity,comedy
ATTACH;FMTTYPE=image/png:https://pressplaysalem.com/wp-content/uploads/2026/01/drop-in-comedy-at-grand-scaled.png
END:VEVENT
BEGIN:VEVENT
DTSTART;TZID=America/Vancouver:20260119T193000
DTEND;TZID=America/Vancouver:20260119T210000
DTSTAMP:20260423T152701
CREATED:20260124T222638Z
LAST-MODIFIED:20260124T222748Z
UID:10000535-1768851000-1768856400@pressplaysalem.com
SUMMARY:Weekly Drop-In Improv Comedy Class
DESCRIPTION:Date: Every Monday \nTime: 7:30pm – 9:00pm \nPrice: $5 (first class free!) – Pay at doors \nAll experience levels welcome \n15+‍ \nTake a break from real life to come play and let loose! Improv is all about teamwork\, communication and\, most importantly\, FUN!‍ \nWhether you’re a casual fan or seasoned performer\, this class is great for improvisers of all experience levels! Ages 15+ recommended. Classes are $5 each and your first class is FREE!
URL:https://pressplaysalem.com/calendar/weekly-drop-in-improv-comedy-class/2026-01-19/
LOCATION:Grand Ballroom\, 187 High St NE\, Salem\, Oregon\, 97301\, United States
CATEGORIES:activity,comedy
ATTACH;FMTTYPE=image/png:https://pressplaysalem.com/wp-content/uploads/2026/01/drop-in-comedy-at-grand-scaled.png
END:VEVENT
END:VCALENDAR