BEGIN:VCALENDAR
VERSION:2.0
PRODID:-//Press Play Salem - ECPv6.15.20//NONSGML v1.0//EN
CALSCALE:GREGORIAN
METHOD:PUBLISH
X-ORIGINAL-URL:https://pressplaysalem.com
X-WR-CALDESC:Events for Press Play Salem
REFRESH-INTERVAL;VALUE=DURATION:PT1H
X-Robots-Tag:noindex
X-PUBLISHED-TTL:PT1H
BEGIN:VTIMEZONE
TZID:America/Vancouver
BEGIN:DAYLIGHT
TZOFFSETFROM:-0800
TZOFFSETTO:-0700
TZNAME:PDT
DTSTART:20250309T100000
END:DAYLIGHT
BEGIN:STANDARD
TZOFFSETFROM:-0700
TZOFFSETTO:-0800
TZNAME:PST
DTSTART:20251102T090000
END:STANDARD
BEGIN:DAYLIGHT
TZOFFSETFROM:-0800
TZOFFSETTO:-0700
TZNAME:PDT
DTSTART:20260308T100000
END:DAYLIGHT
BEGIN:STANDARD
TZOFFSETFROM:-0700
TZOFFSETTO:-0800
TZNAME:PST
DTSTART:20261101T090000
END:STANDARD
BEGIN:DAYLIGHT
TZOFFSETFROM:-0800
TZOFFSETTO:-0700
TZNAME:PDT
DTSTART:20270314T100000
END:DAYLIGHT
BEGIN:STANDARD
TZOFFSETFROM:-0700
TZOFFSETTO:-0800
TZNAME:PST
DTSTART:20271107T090000
END:STANDARD
END:VTIMEZONE
BEGIN:VEVENT
DTSTART;TZID=America/Vancouver:20260608T193000
DTEND;TZID=America/Vancouver:20260608T210000
DTSTAMP:20260423T200835
CREATED:20260124T222638Z
LAST-MODIFIED:20260124T222748Z
UID:10000051-1780947000-1780952400@pressplaysalem.com
SUMMARY:Weekly Drop-In Improv Comedy Class
DESCRIPTION:Date: Every Monday \nTime: 7:30pm – 9:00pm \nPrice: $5 (first class free!) – Pay at doors \nAll experience levels welcome \n15+‍ \nTake a break from real life to come play and let loose! Improv is all about teamwork\, communication and\, most importantly\, FUN!‍ \nWhether you’re a casual fan or seasoned performer\, this class is great for improvisers of all experience levels! Ages 15+ recommended. Classes are $5 each and your first class is FREE!
URL:https://pressplaysalem.com/calendar/weekly-drop-in-improv-comedy-class/2026-06-08/
LOCATION:Grand Ballroom\, 187 High St NE\, Salem\, Oregon\, 97301\, United States
CATEGORIES:activity,comedy
ATTACH;FMTTYPE=image/png:https://pressplaysalem.com/wp-content/uploads/2026/01/drop-in-comedy-at-grand-scaled.png
END:VEVENT
BEGIN:VEVENT
DTSTART;TZID=America/Vancouver:20260612T180000
DTEND;TZID=America/Vancouver:20260612T193000
DTSTAMP:20260423T200835
CREATED:20260228T181142Z
LAST-MODIFIED:20260228T181227Z
UID:10011515-1781287200-1781292600@pressplaysalem.com
SUMMARY:Soul + R&B Yoga
DESCRIPTION:Join Shirley Brown for a musically soulful and joyful 75 min yoga/mindful movement practice. \nPractice is orchestrated with rhythmic and soulful tunes to get you moving and maybe even singing. Together we will celebrate the joy of Soul and R&B music as we flow. If you love R&B / Soul music\, don’t miss these Friday nights. \n\n\n\n\n\n\n\n\n\n\n\n$20 per yogi | $16 for Resonance members (use your coupon code)
URL:https://pressplaysalem.com/calendar/soul-rb-yoga/2026-06-12/
LOCATION:Resonance Yoga Collective Studio\, 129 Commercial St NE\, Salem\, OR\, 97301\, United States
CATEGORIES:yoga
ATTACH;FMTTYPE=image/webp:https://pressplaysalem.com/wp-content/uploads/2026/02/Soul-RB-Yoga.webp
END:VEVENT
END:VCALENDAR