BEGIN:VCALENDAR
VERSION:2.0
PRODID:-//Press Play Salem - ECPv6.15.20//NONSGML v1.0//EN
CALSCALE:GREGORIAN
METHOD:PUBLISH
X-ORIGINAL-URL:https://pressplaysalem.com
X-WR-CALDESC:Events for Press Play Salem
REFRESH-INTERVAL;VALUE=DURATION:PT1H
X-Robots-Tag:noindex
X-PUBLISHED-TTL:PT1H
BEGIN:VTIMEZONE
TZID:America/Vancouver
BEGIN:DAYLIGHT
TZOFFSETFROM:-0800
TZOFFSETTO:-0700
TZNAME:PDT
DTSTART:20250309T100000
END:DAYLIGHT
BEGIN:STANDARD
TZOFFSETFROM:-0700
TZOFFSETTO:-0800
TZNAME:PST
DTSTART:20251102T090000
END:STANDARD
BEGIN:DAYLIGHT
TZOFFSETFROM:-0800
TZOFFSETTO:-0700
TZNAME:PDT
DTSTART:20260308T100000
END:DAYLIGHT
BEGIN:STANDARD
TZOFFSETFROM:-0700
TZOFFSETTO:-0800
TZNAME:PST
DTSTART:20261101T090000
END:STANDARD
BEGIN:DAYLIGHT
TZOFFSETFROM:-0800
TZOFFSETTO:-0700
TZNAME:PDT
DTSTART:20270314T100000
END:DAYLIGHT
BEGIN:STANDARD
TZOFFSETFROM:-0700
TZOFFSETTO:-0800
TZNAME:PST
DTSTART:20271107T090000
END:STANDARD
END:VTIMEZONE
BEGIN:VEVENT
DTSTART;VALUE=DATE:20260505
DTEND;VALUE=DATE:20260605
DTSTAMP:20260423T180115
CREATED:20260208T190735Z
LAST-MODIFIED:20260208T190735Z
UID:10000679-1777939200-1780617599@pressplaysalem.com
SUMMARY:Master Penworks of Tom Stefopoulos: The Hellenic Artist of the Lovejoy Columns
DESCRIPTION:The Hellenic-American Cultural Center and Museum (HECCM) presents “Master Penworks of Tom Stefopoulos: The Hellenic Artist of the Lovejoy Columns” May 5 through June 4. The exhibit is available during Capitol hours\, 8 a.m. to 5 p.m. Monday through Friday. \nAthanasios (Tom) Efthimiou Stefopoulos was a factory worker\, railroad man\, commercial artist\, and a champion penman. Art was his first love but pursuing this was difficult for a young immigrant in an adopted country where he did not even speak the language. In 1945\, he was employed by the Spokane\, Portland & Seattle Railroad to work as a crossing watchman under the Lovejoy Ramp of the Broadway Bridge in Portland\, Oregon. It was here that the artist created the iconic “Lovejoy Columns.” This exhibition considers the range of Stefopoulos’ art\, from pen drawings to the murals that graced the Lovejoy Columns. His style is a unique blend of calligraphic lines and Art Nouveau\, and his themes span Ancient Greek philosophy to contemporary world events. In style and in theme\, Stefopoulos blended a myriad of influences\, a result of a life lived in multiple places and among many people. Despite a life that was characterized by movement and synthesis\, however\, the Lovejoy Columns represent a sense of belonging to specific place—in this case\, to Oregon. Stefopoulos’ art gives insight into how the artist envisioned himself in this new home. \nThis exhibit was one of three that were awarded Capitol History Gateway exhibit sponsorships in the first year of the program. Exhibits are funded\, in part\, by the Oregon State Capitol Foundation\, a 501(c)3 non-profit organization.
URL:https://pressplaysalem.com/calendar/master-penworks-of-tom-stefopoulos-the-hellenic-artist-of-the-lovejoy-columns/
LOCATION:Oregon State Capitol\, 900 Court St NE\, Salem\, 97301\, United States
CATEGORIES:art + exhibitions
END:VEVENT
BEGIN:VEVENT
DTSTART;TZID=America/Vancouver:20260511T193000
DTEND;TZID=America/Vancouver:20260511T210000
DTSTAMP:20260423T180115
CREATED:20260124T222638Z
LAST-MODIFIED:20260124T222748Z
UID:10000043-1778527800-1778533200@pressplaysalem.com
SUMMARY:Weekly Drop-In Improv Comedy Class
DESCRIPTION:Date: Every Monday \nTime: 7:30pm – 9:00pm \nPrice: $5 (first class free!) – Pay at doors \nAll experience levels welcome \n15+‍ \nTake a break from real life to come play and let loose! Improv is all about teamwork\, communication and\, most importantly\, FUN!‍ \nWhether you’re a casual fan or seasoned performer\, this class is great for improvisers of all experience levels! Ages 15+ recommended. Classes are $5 each and your first class is FREE!
URL:https://pressplaysalem.com/calendar/weekly-drop-in-improv-comedy-class/2026-05-11/
LOCATION:Grand Ballroom\, 187 High St NE\, Salem\, Oregon\, 97301\, United States
CATEGORIES:activity,comedy
ATTACH;FMTTYPE=image/png:https://pressplaysalem.com/wp-content/uploads/2026/01/drop-in-comedy-at-grand-scaled.png
END:VEVENT
BEGIN:VEVENT
DTSTART;TZID=America/Vancouver:20260514T193000
DTEND;TZID=America/Vancouver:20260514T210000
DTSTAMP:20260423T180115
CREATED:20260208T185853Z
LAST-MODIFIED:20260208T185853Z
UID:10000675-1778787000-1778792400@pressplaysalem.com
SUMMARY:The Wailin' Jennys
DESCRIPTION:The Wailin’ Jennys are Nicky Mehta\, Ruth Moody and Heather Masse — three distinct voices that together make an achingly perfect vocal sound. \nStarting as a happy accident of solo singer/songwriters getting together for a one-time-only performance at a tiny guitar shop in Winnipeg\, Manitoba\, The Wailin’ Jennys have grown over the years into one of today’s most beloved international folk acts. Founding members Moody and Mehta along with New York-based Masse continue to create some of the most exciting music on the folk-roots scene\, stepping up their musical game with each critically lauded recording\, and thrilling audiences with their renowned live performances. \nThe Wailin’ Jennys are more than just impeccable bluegrass harmonizers; they’re also terrific bandleaders who give their traditional roots music a sense of real reverence. — NPR
URL:https://pressplaysalem.com/calendar/the-wailin-jennys/
LOCATION:Elsinore Theatre\, 170 High St SE\, Salem\, OR\, 97301\, United States
CATEGORIES:concert + live music
ATTACH;FMTTYPE=image/jpeg:https://pressplaysalem.com/wp-content/uploads/2026/02/2026-05-14-Wailin-Jennys-169.jpg
END:VEVENT
BEGIN:VEVENT
DTSTART;TZID=America/Vancouver:20260515T193000
DTEND;TZID=America/Vancouver:20260515T210000
DTSTAMP:20260423T180115
CREATED:20260208T211205Z
LAST-MODIFIED:20260208T211205Z
UID:10011503-1778873400-1778878800@pressplaysalem.com
SUMMARY:Copland & Rachmaninoff
DESCRIPTION:Oregon Symphony in Salem presents \nCopland & Rachmaninoff\nFasten your seatbelt as Alessio Bax tackles Rachmaninoff’s Piano Concerto No. 3\, a creation of massive power and drive and one of the hardest-to-master works in the repertoire. After its premiere in New York City\, a critic wrote that “its great length and extreme difficulties bar it from performances by any but pianists of exceptional technical powers.” Its quiet start leads into an astonishing unleashing of notes and hurtles to a riveting conclusion. Copland’s Third Symphony also was first presented in the U.S. Its spirit is undeniably “American”—vital\, optimistic\, and big-hearted—triumphantly exclaimed in the finale’s stirring “Fanfare for the Common Man.”
URL:https://pressplaysalem.com/calendar/copland-rachmaninoff/
LOCATION:Smith Auditorium\, 900 State St\, Salem\, 97301\, United States
CATEGORIES:concert + live music
ATTACH;FMTTYPE=image/webp:https://pressplaysalem.com/wp-content/uploads/2026/02/Copland-Rachmaninoff.webp
END:VEVENT
BEGIN:VEVENT
DTSTART;TZID=America/Vancouver:20260517T110000
DTEND;TZID=America/Vancouver:20260517T150000
DTSTAMP:20260423T180115
CREATED:20260202T011732Z
LAST-MODIFIED:20260202T012245Z
UID:10000650-1779015600-1779030000@pressplaysalem.com
SUMMARY:Family Clay Sunday
DESCRIPTION:Bring the whole family for some quality together time and learn simple hand-built projects that are fun for everyone and create magical memories for your family. \nFamily Clay Sunday is a drop-in program. No registration required \nFamily Clay Sundays are back. We now offer an “early bird” hour for families that prefer a quieter setting and simpler projects. \n11 a.m. – 12 p.m. for early birds \n12 – 3 p.m. Family Clay Sunday drop-in sessions \nCost\n$5 per artist to create a new project on the first Sunday of the month. \n$5 for glazing day on the third Sunday of the Month. We will offer bisque pieces to purchase at $5 each for those who didn’t attend the first Sunday session so everyone can enjoy glaze day. \nWe’re so glad that our little studio is able to offer this activity to our community. \nFacilitated by Kelly Matney supported by Doug Dacar. \nDates & Projects:\nFebruary 1 & 15:\n\nEarly birds: Thumb vase\nDrop in: Ice cream bowls\n\nMarch 1 & 15:\n\nEarly Birds: Textured hand prints\nDrop-in: Chicken plates\n\nApril 19:\n\nCatch-up glaze day\n\nMay 3 & 17:\n\nEarly birds: Name frames\nDrop-in: Coil name plaques’\n\nJune 7 and 21:\n\nEarly birds: Familer faces\nDrop-in: Moon Face
URL:https://pressplaysalem.com/calendar/family-clay-sunday/2026-05-17/
CATEGORIES:activity,community
END:VEVENT
END:VCALENDAR