BEGIN:VCALENDAR
VERSION:2.0
PRODID:-//Press Play Salem - ECPv6.15.20//NONSGML v1.0//EN
CALSCALE:GREGORIAN
METHOD:PUBLISH
X-WR-CALNAME:Press Play Salem
X-ORIGINAL-URL:https://pressplaysalem.com
X-WR-CALDESC:Events for Press Play Salem
REFRESH-INTERVAL;VALUE=DURATION:PT1H
X-Robots-Tag:noindex
X-PUBLISHED-TTL:PT1H
BEGIN:VTIMEZONE
TZID:America/Vancouver
BEGIN:DAYLIGHT
TZOFFSETFROM:-0800
TZOFFSETTO:-0700
TZNAME:PDT
DTSTART:20250309T100000
END:DAYLIGHT
BEGIN:STANDARD
TZOFFSETFROM:-0700
TZOFFSETTO:-0800
TZNAME:PST
DTSTART:20251102T090000
END:STANDARD
BEGIN:DAYLIGHT
TZOFFSETFROM:-0800
TZOFFSETTO:-0700
TZNAME:PDT
DTSTART:20260308T100000
END:DAYLIGHT
BEGIN:STANDARD
TZOFFSETFROM:-0700
TZOFFSETTO:-0800
TZNAME:PST
DTSTART:20261101T090000
END:STANDARD
BEGIN:DAYLIGHT
TZOFFSETFROM:-0800
TZOFFSETTO:-0700
TZNAME:PDT
DTSTART:20270314T100000
END:DAYLIGHT
BEGIN:STANDARD
TZOFFSETFROM:-0700
TZOFFSETTO:-0800
TZNAME:PST
DTSTART:20271107T090000
END:STANDARD
END:VTIMEZONE
BEGIN:VEVENT
DTSTART;TZID=America/Vancouver:20260504T193000
DTEND;TZID=America/Vancouver:20260504T210000
DTSTAMP:20260423T170049
CREATED:20260124T222638Z
LAST-MODIFIED:20260124T222748Z
UID:10000041-1777923000-1777928400@pressplaysalem.com
SUMMARY:Weekly Drop-In Improv Comedy Class
DESCRIPTION:Date: Every Monday \nTime: 7:30pm – 9:00pm \nPrice: $5 (first class free!) – Pay at doors \nAll experience levels welcome \n15+‍ \nTake a break from real life to come play and let loose! Improv is all about teamwork\, communication and\, most importantly\, FUN!‍ \nWhether you’re a casual fan or seasoned performer\, this class is great for improvisers of all experience levels! Ages 15+ recommended. Classes are $5 each and your first class is FREE!
URL:https://pressplaysalem.com/calendar/weekly-drop-in-improv-comedy-class/2026-05-04/
LOCATION:Grand Ballroom\, 187 High St NE\, Salem\, Oregon\, 97301\, United States
CATEGORIES:activity,comedy
ATTACH;FMTTYPE=image/png:https://pressplaysalem.com/wp-content/uploads/2026/01/drop-in-comedy-at-grand-scaled.png
END:VEVENT
BEGIN:VEVENT
DTSTART;VALUE=DATE:20260505
DTEND;VALUE=DATE:20260605
DTSTAMP:20260423T170049
CREATED:20260208T190735Z
LAST-MODIFIED:20260208T190735Z
UID:10000679-1777939200-1780617599@pressplaysalem.com
SUMMARY:Master Penworks of Tom Stefopoulos: The Hellenic Artist of the Lovejoy Columns
DESCRIPTION:The Hellenic-American Cultural Center and Museum (HECCM) presents “Master Penworks of Tom Stefopoulos: The Hellenic Artist of the Lovejoy Columns” May 5 through June 4. The exhibit is available during Capitol hours\, 8 a.m. to 5 p.m. Monday through Friday. \nAthanasios (Tom) Efthimiou Stefopoulos was a factory worker\, railroad man\, commercial artist\, and a champion penman. Art was his first love but pursuing this was difficult for a young immigrant in an adopted country where he did not even speak the language. In 1945\, he was employed by the Spokane\, Portland & Seattle Railroad to work as a crossing watchman under the Lovejoy Ramp of the Broadway Bridge in Portland\, Oregon. It was here that the artist created the iconic “Lovejoy Columns.” This exhibition considers the range of Stefopoulos’ art\, from pen drawings to the murals that graced the Lovejoy Columns. His style is a unique blend of calligraphic lines and Art Nouveau\, and his themes span Ancient Greek philosophy to contemporary world events. In style and in theme\, Stefopoulos blended a myriad of influences\, a result of a life lived in multiple places and among many people. Despite a life that was characterized by movement and synthesis\, however\, the Lovejoy Columns represent a sense of belonging to specific place—in this case\, to Oregon. Stefopoulos’ art gives insight into how the artist envisioned himself in this new home. \nThis exhibit was one of three that were awarded Capitol History Gateway exhibit sponsorships in the first year of the program. Exhibits are funded\, in part\, by the Oregon State Capitol Foundation\, a 501(c)3 non-profit organization.
URL:https://pressplaysalem.com/calendar/master-penworks-of-tom-stefopoulos-the-hellenic-artist-of-the-lovejoy-columns/
LOCATION:Oregon State Capitol\, 900 Court St NE\, Salem\, 97301\, United States
CATEGORIES:art + exhibitions
END:VEVENT
BEGIN:VEVENT
DTSTART;TZID=America/Vancouver:20260505T190000
DTEND;TZID=America/Vancouver:20260505T220000
DTSTAMP:20260423T170049
CREATED:20260124T223713Z
LAST-MODIFIED:20260124T223713Z
UID:10000539-1778007600-1778018400@pressplaysalem.com
SUMMARY:First Tuesday Music & Poetry Open Mic
DESCRIPTION:Salem’s Historic Grand is pleased to invite performers of all varieties to take the ballroom stage the first Tuesday of every month! Musicians\, bands\, poets\, and all other performers are encouraged to sign up and share your talent! Hosted by Matador Hamilton and Danny Shaw of Giantess. \nDoors at 6:30\, show 7pm-10pm. No admission\, all ages. Sign ups open with doors at 6:30. \nIf your band would like to perform\, please reach out to Matador Hamilton via Facebook or @matadormakesmusic on Instagram and let him know which backline gear your band will need.
URL:https://pressplaysalem.com/calendar/first-tuesday-music-poetry-open-mic/2026-05-05/
LOCATION:Salem’s Historic Grand Theatre\, 187 High St NE\, Salem\, OR\, 97301\, United States
CATEGORIES:activity,concert + live music
ATTACH;FMTTYPE=image/png:https://pressplaysalem.com/wp-content/uploads/2026/01/Grand-Open-Mic.png
END:VEVENT
BEGIN:VEVENT
DTSTART;TZID=America/Vancouver:20260508T180000
DTEND;TZID=America/Vancouver:20260508T193000
DTSTAMP:20260423T170049
CREATED:20260208T185710Z
LAST-MODIFIED:20260208T185710Z
UID:10000674-1778263200-1778268600@pressplaysalem.com
SUMMARY:Be Like Blippi Tour
DESCRIPTION:Blippi is coming to your hometown in the all-new Be Like Blippi Tour! Get ready to see the world more curiously as you move like\, play like\, and explore just like Blippi! Join Blippi and Meekah. live on stage in a high-energy live show packed with music\, laughter\, and surprises\, featuring fan-favorites like “The Excavator Song\,” “Monster Truck\,” “Dino Dance\,” and “Curious Like Me.” This brand-new interactive adventure invites families to put on your orange glasses and unlock the spark of curiosity inside us all—showing that everyone can Be Like Blippi!
URL:https://pressplaysalem.com/calendar/be-like-blippi-tour/
LOCATION:Elsinore Theatre\, 170 High St SE\, Salem\, OR\, 97301\, United States
CATEGORIES:concert + live music
ATTACH;FMTTYPE=image/png:https://pressplaysalem.com/wp-content/uploads/2026/02/RRL_2025_BJTBT_Social_1000x800_Clean_English.png
END:VEVENT
BEGIN:VEVENT
DTSTART;TZID=America/Vancouver:20260508T180000
DTEND;TZID=America/Vancouver:20260508T193000
DTSTAMP:20260423T170049
CREATED:20260228T181142Z
LAST-MODIFIED:20260228T181227Z
UID:10011514-1778263200-1778268600@pressplaysalem.com
SUMMARY:Soul + R&B Yoga
DESCRIPTION:Join Shirley Brown for a musically soulful and joyful 75 min yoga/mindful movement practice. \nPractice is orchestrated with rhythmic and soulful tunes to get you moving and maybe even singing. Together we will celebrate the joy of Soul and R&B music as we flow. If you love R&B / Soul music\, don’t miss these Friday nights. \n\n\n\n\n\n\n\n\n\n\n\n$20 per yogi | $16 for Resonance members (use your coupon code)
URL:https://pressplaysalem.com/calendar/soul-rb-yoga/2026-05-08/
LOCATION:Resonance Yoga Collective Studio\, 129 Commercial St NE\, Salem\, OR\, 97301\, United States
CATEGORIES:yoga
ATTACH;FMTTYPE=image/webp:https://pressplaysalem.com/wp-content/uploads/2026/02/Soul-RB-Yoga.webp
END:VEVENT
BEGIN:VEVENT
DTSTART;TZID=America/Vancouver:20260509T010000
DTEND;TZID=America/Vancouver:20260509T023000
DTSTAMP:20260423T170049
CREATED:20260208T203422Z
LAST-MODIFIED:20260208T203422Z
UID:10000708-1778288400-1778293800@pressplaysalem.com
SUMMARY:The Breasts of Tirésias
DESCRIPTION:The Breasts of Tiresias\nMusic by Francis Poulenc and Lyics by Gillaume Apollinaiare\nGender norms pop like balloons in The Breasts of Tiresias\, Poulenc and Appollinaire’s bawdy surrealist romp. Frustrated with the life of a housewife\, Tiresias sheds her breasts and becomes the male General Tirésias. As she leads a new life fighting distant wars on foreign battlefields\, her stay-at-home husband discovers a way to make babies on his own – but not just one: 40\,049 of them. This delightfully sugar-coated pill coats the sublime in the ridiculous.
URL:https://pressplaysalem.com/calendar/the-breasts-of-tiresias-2/
LOCATION:Smith Auditorium\, 900 State St\, Salem\, 97301\, United States
CATEGORIES:concert + live music
ATTACH;FMTTYPE=image/png:https://pressplaysalem.com/wp-content/uploads/2026/02/25-26-breasts-of-tiresias-showmoji.png
END:VEVENT
BEGIN:VEVENT
DTSTART;TZID=America/Vancouver:20260510T150000
DTEND;TZID=America/Vancouver:20260510T170000
DTSTAMP:20260423T170049
CREATED:20260208T205700Z
LAST-MODIFIED:20260208T205715Z
UID:10011500-1778425200-1778432400@pressplaysalem.com
SUMMARY:Salem Pops Orchestra featuring True North Duo
DESCRIPTION:Hear Salem Pops Orchestra featuring special guests True North Duo (Kristen Grainger & Dan Wetzel) 3pm\, Sunday\, May 10\nSalem Pops is arranging six of True North’s original songs for orchestra and they will perform them together\, live.
URL:https://pressplaysalem.com/calendar/salem-pops-orchestra-featuring-true-north-duo/
LOCATION:East Salem Community Center\, 1850 45th Ave NE\, Salem\, 97305\, United States
CATEGORIES:concert + live music
ATTACH;FMTTYPE=image/png:https://pressplaysalem.com/wp-content/uploads/2026/02/IMG_2524.png
END:VEVENT
END:VCALENDAR