BEGIN:VCALENDAR
VERSION:2.0
PRODID:-//Press Play Salem - ECPv6.15.20//NONSGML v1.0//EN
CALSCALE:GREGORIAN
METHOD:PUBLISH
X-ORIGINAL-URL:https://pressplaysalem.com
X-WR-CALDESC:Events for Press Play Salem
REFRESH-INTERVAL;VALUE=DURATION:PT1H
X-Robots-Tag:noindex
X-PUBLISHED-TTL:PT1H
BEGIN:VTIMEZONE
TZID:America/Vancouver
BEGIN:DAYLIGHT
TZOFFSETFROM:-0800
TZOFFSETTO:-0700
TZNAME:PDT
DTSTART:20250309T100000
END:DAYLIGHT
BEGIN:STANDARD
TZOFFSETFROM:-0700
TZOFFSETTO:-0800
TZNAME:PST
DTSTART:20251102T090000
END:STANDARD
BEGIN:DAYLIGHT
TZOFFSETFROM:-0800
TZOFFSETTO:-0700
TZNAME:PDT
DTSTART:20260308T100000
END:DAYLIGHT
BEGIN:STANDARD
TZOFFSETFROM:-0700
TZOFFSETTO:-0800
TZNAME:PST
DTSTART:20261101T090000
END:STANDARD
BEGIN:DAYLIGHT
TZOFFSETFROM:-0800
TZOFFSETTO:-0700
TZNAME:PDT
DTSTART:20270314T100000
END:DAYLIGHT
BEGIN:STANDARD
TZOFFSETFROM:-0700
TZOFFSETTO:-0800
TZNAME:PST
DTSTART:20271107T090000
END:STANDARD
END:VTIMEZONE
BEGIN:VEVENT
DTSTART;TZID=America/Vancouver:20260427T193000
DTEND;TZID=America/Vancouver:20260427T210000
DTSTAMP:20260423T155917
CREATED:20260124T222638Z
LAST-MODIFIED:20260124T222748Z
UID:10000039-1777318200-1777323600@pressplaysalem.com
SUMMARY:Weekly Drop-In Improv Comedy Class
DESCRIPTION:Date: Every Monday \nTime: 7:30pm – 9:00pm \nPrice: $5 (first class free!) – Pay at doors \nAll experience levels welcome \n15+‍ \nTake a break from real life to come play and let loose! Improv is all about teamwork\, communication and\, most importantly\, FUN!‍ \nWhether you’re a casual fan or seasoned performer\, this class is great for improvisers of all experience levels! Ages 15+ recommended. Classes are $5 each and your first class is FREE!
URL:https://pressplaysalem.com/calendar/weekly-drop-in-improv-comedy-class/2026-04-27/
LOCATION:Grand Ballroom\, 187 High St NE\, Salem\, Oregon\, 97301\, United States
CATEGORIES:activity,comedy
ATTACH;FMTTYPE=image/png:https://pressplaysalem.com/wp-content/uploads/2026/01/drop-in-comedy-at-grand-scaled.png
END:VEVENT
BEGIN:VEVENT
DTSTART;TZID=America/Vancouver:20260501T190000
DTEND;TZID=America/Vancouver:20260501T210000
DTSTAMP:20260423T155917
CREATED:20260208T215013Z
LAST-MODIFIED:20260208T215013Z
UID:10011510-1777662000-1777669200@pressplaysalem.com
SUMMARY:Bach & Mendelssohn: Tradition and Transformation
DESCRIPTION:Join the McKay Orchestras as we perform alongside Jessica Lee of the Oregon Symphony for our 5th annual benefit concert. \n\n\n\n\nJoin the McKay Orchestras for a lively evening of music as they perform Bach’s Violin Concerto in A Minor alongside the Oregon Symphony’s new Associate Concertmaster\, Jessica Lee\, for our 5th annual benefit concert. \nDate: Friday\, May 1\, 2026 \nTime: 7:00PM \nLocation: Smith Auditorium \nDon’t miss out on this extraordinary musical event featuring the talented student musicians at McKay High School as they perform a wide range of repertoire including Bach’s A Minor Concerto\, Mendelssohn’s Hebdrides Overture\, and much more. Invite your friends and family to join us at Smith Auditorium for an evening of impactful performances and a silent auction featuring local businesses. \nAll proceeds from this event directly benefit music programs at McKay High School to ensure all students have access to instruments and enriching educational experiences regardless of their ability to pay.
URL:https://pressplaysalem.com/calendar/bach-mendelssohn-tradition-and-transformation/
CATEGORIES:charity + fundraisers,concert + live music
END:VEVENT
BEGIN:VEVENT
DTSTART;TZID=America/Vancouver:20260502T100000
DTEND;TZID=America/Vancouver:20260502T160000
DTSTAMP:20260423T155917
CREATED:20260202T004907Z
LAST-MODIFIED:20260202T005055Z
UID:10000608-1777716000-1777737600@pressplaysalem.com
SUMMARY:Sheep to Shawl
DESCRIPTION:Sheep to Shawl\nSaturday\, May 2\, 2026\n10am – 4pm\n\nJoin us for an exciting day of woolly wonder at the 41st Annual Sheep to Shawl event! \n\nSee live animal\nWatch shearing demonstrations\nExperience living history\nTake part in activities for kids\nEnjoy live performances\nPlay lawn games\nShop with vendors and retail partners\n\nExperience the magic of wool fiber processing at the Willamette Heritage Center’s Sheep to Shawl festival\, a classic family event that has been held since 1985. \nJoin us for an exciting day of woolly wonder where you can watch skilled shearers remove the wool from sheep\, spinners as they transform the fluffy fleece into beautiful yarn\, and weavers and other fiber artists as they create gorgeous fiber treasures right before your eyes! \nThere will be plenty of fun activities to keep the whole family entertained\, including live animal visiting\, children’s activities\, fiber artists\, living heritage demonstrators\, live music\, food and drinks\, games and shopping. \nCheck out the one-of-a-kind handmade goods from local artisans and vendors. \nSo don’t miss out on this amazing opportunity to experience the full spectrum of wool fiber processing at Sheep to Shawl. Come on down to the Willamette Heritage Center\, rain or shine\, and create unforgettable memories with your family and friends! \nAdmission is free for everyone.
URL:https://pressplaysalem.com/calendar/sheep-to-shawl/
LOCATION:Willamette Heritage Center\, 1313 Mill St\, Salem\, 97301\, United States
CATEGORIES:community
ATTACH;FMTTYPE=image/png:https://pressplaysalem.com/wp-content/uploads/2026/02/2026-05-02-sheep-to-shawl.png
END:VEVENT
BEGIN:VEVENT
DTSTART;TZID=America/Vancouver:20260502T193000
DTEND;TZID=America/Vancouver:20260502T193000
DTSTAMP:20260423T155917
CREATED:20260208T185444Z
LAST-MODIFIED:20260208T185501Z
UID:10000673-1777750200-1777750200@pressplaysalem.com
SUMMARY:Michael W. Smith
DESCRIPTION:Artist and worship leader\, Michael W. Smith\, is coming to Salem\, Oregon\, for his KINGDOM COME\, Worship Nights tour on May 2\, 2026. Smith is one of the biggest names in all of Christian and Worship music and is excited to bring this all-new night of worship and hits as only he can.  Whether you are a long-time fan of his music or brand new\, you will be moved by the intentionality and beauty of this night of music and worship.
URL:https://pressplaysalem.com/calendar/michael-w-smith/
LOCATION:Elsinore Theatre\, 170 High St SE\, Salem\, OR\, 97301\, United States
CATEGORIES:concert + live music
ATTACH;FMTTYPE=image/jpeg:https://pressplaysalem.com/wp-content/uploads/2026/02/MWS-050226-1920x1080-Horizontal-TV-Screen.jpg
END:VEVENT
BEGIN:VEVENT
DTSTART;TZID=America/Vancouver:20260503T110000
DTEND;TZID=America/Vancouver:20260503T150000
DTSTAMP:20260423T155917
CREATED:20260202T011732Z
LAST-MODIFIED:20260202T012245Z
UID:10000649-1777806000-1777820400@pressplaysalem.com
SUMMARY:Family Clay Sunday
DESCRIPTION:Bring the whole family for some quality together time and learn simple hand-built projects that are fun for everyone and create magical memories for your family. \nFamily Clay Sunday is a drop-in program. No registration required \nFamily Clay Sundays are back. We now offer an “early bird” hour for families that prefer a quieter setting and simpler projects. \n11 a.m. – 12 p.m. for early birds \n12 – 3 p.m. Family Clay Sunday drop-in sessions \nCost\n$5 per artist to create a new project on the first Sunday of the month. \n$5 for glazing day on the third Sunday of the Month. We will offer bisque pieces to purchase at $5 each for those who didn’t attend the first Sunday session so everyone can enjoy glaze day. \nWe’re so glad that our little studio is able to offer this activity to our community. \nFacilitated by Kelly Matney supported by Doug Dacar. \nDates & Projects:\nFebruary 1 & 15:\n\nEarly birds: Thumb vase\nDrop in: Ice cream bowls\n\nMarch 1 & 15:\n\nEarly Birds: Textured hand prints\nDrop-in: Chicken plates\n\nApril 19:\n\nCatch-up glaze day\n\nMay 3 & 17:\n\nEarly birds: Name frames\nDrop-in: Coil name plaques’\n\nJune 7 and 21:\n\nEarly birds: Familer faces\nDrop-in: Moon Face
URL:https://pressplaysalem.com/calendar/family-clay-sunday/2026-05-03/
CATEGORIES:activity,community
END:VEVENT
END:VCALENDAR