BEGIN:VCALENDAR
VERSION:2.0
PRODID:-//Press Play Salem - ECPv6.15.20//NONSGML v1.0//EN
CALSCALE:GREGORIAN
METHOD:PUBLISH
X-ORIGINAL-URL:https://pressplaysalem.com
X-WR-CALDESC:Events for Press Play Salem
REFRESH-INTERVAL;VALUE=DURATION:PT1H
X-Robots-Tag:noindex
X-PUBLISHED-TTL:PT1H
BEGIN:VTIMEZONE
TZID:America/Vancouver
BEGIN:DAYLIGHT
TZOFFSETFROM:-0800
TZOFFSETTO:-0700
TZNAME:PDT
DTSTART:20250309T100000
END:DAYLIGHT
BEGIN:STANDARD
TZOFFSETFROM:-0700
TZOFFSETTO:-0800
TZNAME:PST
DTSTART:20251102T090000
END:STANDARD
BEGIN:DAYLIGHT
TZOFFSETFROM:-0800
TZOFFSETTO:-0700
TZNAME:PDT
DTSTART:20260308T100000
END:DAYLIGHT
BEGIN:STANDARD
TZOFFSETFROM:-0700
TZOFFSETTO:-0800
TZNAME:PST
DTSTART:20261101T090000
END:STANDARD
BEGIN:DAYLIGHT
TZOFFSETFROM:-0800
TZOFFSETTO:-0700
TZNAME:PDT
DTSTART:20270314T100000
END:DAYLIGHT
BEGIN:STANDARD
TZOFFSETFROM:-0700
TZOFFSETTO:-0800
TZNAME:PST
DTSTART:20271107T090000
END:STANDARD
END:VTIMEZONE
BEGIN:VEVENT
DTSTART;TZID=America/Vancouver:20260420T193000
DTEND;TZID=America/Vancouver:20260420T210000
DTSTAMP:20260423T162803
CREATED:20260124T222638Z
LAST-MODIFIED:20260124T222748Z
UID:10000037-1776713400-1776718800@pressplaysalem.com
SUMMARY:Weekly Drop-In Improv Comedy Class
DESCRIPTION:Date: Every Monday \nTime: 7:30pm – 9:00pm \nPrice: $5 (first class free!) – Pay at doors \nAll experience levels welcome \n15+‍ \nTake a break from real life to come play and let loose! Improv is all about teamwork\, communication and\, most importantly\, FUN!‍ \nWhether you’re a casual fan or seasoned performer\, this class is great for improvisers of all experience levels! Ages 15+ recommended. Classes are $5 each and your first class is FREE!
URL:https://pressplaysalem.com/calendar/weekly-drop-in-improv-comedy-class/2026-04-20/
LOCATION:Grand Ballroom\, 187 High St NE\, Salem\, Oregon\, 97301\, United States
CATEGORIES:activity,comedy
ATTACH;FMTTYPE=image/png:https://pressplaysalem.com/wp-content/uploads/2026/01/drop-in-comedy-at-grand-scaled.png
END:VEVENT
BEGIN:VEVENT
DTSTART;TZID=America/Vancouver:20260423T193000
DTEND;TZID=America/Vancouver:20260423T210000
DTSTAMP:20260423T162803
CREATED:20260208T185134Z
LAST-MODIFIED:20260208T185134Z
UID:10000672-1776972600-1776978000@pressplaysalem.com
SUMMARY:Sierra Hull
DESCRIPTION:Sierra Hull is a seven-time IBMA Mandolin Player of the Year and six-time Grammy nominee\, one of bluegrass and Americana’s most dynamic voices. Her latest album\, A Tip Toe High Wire\, her first independent release\, highlights her songwriting and instrumental mastery\, featuring Béla Fleck\, Tim O’Brien\, and Aoife O’Donovan. The album is nominated for four GRAMMY Awards\, balancing tradition with innovation. Hull has shared stages with Alison Krauss\, Eric Clapton\, Sturgill Simpson\, Slash\, and Robert Randolph\, and performed on NPR’s Tiny Desk and The Kelly Clarkson Show. She is the first female artist with a Gibson signature mandolin and a Tennessee Governor’s Distinguished Arts Award recipient.
URL:https://pressplaysalem.com/calendar/sierra-hull/
LOCATION:Elsinore Theatre\, 170 High St SE\, Salem\, OR\, 97301\, United States
CATEGORIES:concert + live music
ATTACH;FMTTYPE=image/jpeg:https://pressplaysalem.com/wp-content/uploads/2026/02/2026-04-23-Sierra-Hull-fb-banner.jpg
END:VEVENT
BEGIN:VEVENT
DTSTART;TZID=America/Vancouver:20260423T193000
DTEND;TZID=America/Vancouver:20260423T210000
DTSTAMP:20260423T162803
CREATED:20260409T001452Z
LAST-MODIFIED:20260409T001453Z
UID:10011496-1776972600-1776978000@pressplaysalem.com
SUMMARY:Room of Forgotten Souls
DESCRIPTION:Room of Forgotten Souls\nan original\, ensemble-devised performance\nIn 2004\, a tour group discovered a locked room in the Oregon State Hospital crematorium\, filled with thousands of decaying copper canisters holding the remains of over 4\,000 former patients. Abandoned or forgotten\, these individuals sparked a movement to honor the lost. Inspired by this haunting discovery\, the Willamette University Theatre ensemble will create Room of Forgotten Souls—an original\, ensemble-devised performance exploring memory\, loss\, mental health\, and recognition.
URL:https://pressplaysalem.com/calendar/room-of-forgotten-souls-2/2026-04-23/
LOCATION:Pelton Theatre at Willamette University\, 900 State St\, Salem\, 97301\, United States
CATEGORIES:theater
ATTACH;FMTTYPE=image/png:https://pressplaysalem.com/wp-content/uploads/2026/02/25-26-forgotten-souls-showmoji.png
END:VEVENT
BEGIN:VEVENT
DTSTART;TZID=America/Vancouver:20260424T190000
DTEND;TZID=America/Vancouver:20260424T190000
DTSTAMP:20260423T162803
CREATED:20260402T012850Z
LAST-MODIFIED:20260402T013102Z
UID:10011529-1777057200-1777057200@pressplaysalem.com
SUMMARY:The Many: A Gathering of Resistance & Hope
DESCRIPTION:Date & Time: Friday\, April 24\, 2026 at 7:00 pm \nDescription: A vibrant collective of musicians and faith leaders\, The Many\, are coming to Oregon—and they’re kicking off their weekend with a special evening in Salem on April 24! Known for their soulful music\, rich liturgies\, and deeply hopeful spirituality\, they create experiences that are both grounding and inspiring.\n\n\nJoin us for this free gathering on April 24 at 7:00 pm—an evening of music\, connection\, and shared hope\, hosted in partnership with several local churches and the Salem Youth Collective. It’s a beautiful opportunity to experience something meaningful alongside others in our community. \nLearn more about their music at https://www.youtube.com/channel/UCa-E00__WIJOjH5hfyAKEIw.\n\nHosted by Morningside United Methodist Church\, Salem First United Methodist Church\, Salem First Presbyterian Church\, Westminster Presbyterian Church\, Salem First Christian Church\, Salem Mennonite Church\, First Congregational United Church of Christ – Salem\, Oregon and the Salem Youth Collective!\n\n\nMore info:
URL:https://pressplaysalem.com/calendar/the-many-a-gathering-of-resistance-hope/
LOCATION:Micah Building\, 680 State St\, Salem\, 97301\, United States
CATEGORIES:concert + live music,faith
END:VEVENT
BEGIN:VEVENT
DTSTART;TZID=America/Vancouver:20260424T193000
DTEND;TZID=America/Vancouver:20260424T210000
DTSTAMP:20260423T162803
CREATED:20260409T001452Z
LAST-MODIFIED:20260409T001453Z
UID:10011497-1777059000-1777064400@pressplaysalem.com
SUMMARY:Room of Forgotten Souls
DESCRIPTION:Room of Forgotten Souls\nan original\, ensemble-devised performance\nIn 2004\, a tour group discovered a locked room in the Oregon State Hospital crematorium\, filled with thousands of decaying copper canisters holding the remains of over 4\,000 former patients. Abandoned or forgotten\, these individuals sparked a movement to honor the lost. Inspired by this haunting discovery\, the Willamette University Theatre ensemble will create Room of Forgotten Souls—an original\, ensemble-devised performance exploring memory\, loss\, mental health\, and recognition.
URL:https://pressplaysalem.com/calendar/room-of-forgotten-souls-2/2026-04-24/
LOCATION:Pelton Theatre at Willamette University\, 900 State St\, Salem\, 97301\, United States
CATEGORIES:theater
ATTACH;FMTTYPE=image/png:https://pressplaysalem.com/wp-content/uploads/2026/02/25-26-forgotten-souls-showmoji.png
END:VEVENT
BEGIN:VEVENT
DTSTART;TZID=America/Vancouver:20260425T140000
DTEND;TZID=America/Vancouver:20260425T153000
DTSTAMP:20260423T162803
CREATED:20260409T001452Z
LAST-MODIFIED:20260409T001453Z
UID:10009530-1777125600-1777131000@pressplaysalem.com
SUMMARY:Room of Forgotten Souls
DESCRIPTION:Room of Forgotten Souls\nan original\, ensemble-devised performance\nIn 2004\, a tour group discovered a locked room in the Oregon State Hospital crematorium\, filled with thousands of decaying copper canisters holding the remains of over 4\,000 former patients. Abandoned or forgotten\, these individuals sparked a movement to honor the lost. Inspired by this haunting discovery\, the Willamette University Theatre ensemble will create Room of Forgotten Souls—an original\, ensemble-devised performance exploring memory\, loss\, mental health\, and recognition.
URL:https://pressplaysalem.com/calendar/room-of-forgotten-souls-2/2026-04-25/1/
LOCATION:Pelton Theatre at Willamette University\, 900 State St\, Salem\, 97301\, United States
CATEGORIES:theater
ATTACH;FMTTYPE=image/png:https://pressplaysalem.com/wp-content/uploads/2026/02/25-26-forgotten-souls-showmoji.png
END:VEVENT
BEGIN:VEVENT
DTSTART;TZID=America/Vancouver:20260425T193000
DTEND;TZID=America/Vancouver:20260425T210000
DTSTAMP:20260423T162803
CREATED:20260409T001452Z
LAST-MODIFIED:20260409T001453Z
UID:10011498-1777145400-1777150800@pressplaysalem.com
SUMMARY:Room of Forgotten Souls
DESCRIPTION:Room of Forgotten Souls\nan original\, ensemble-devised performance\nIn 2004\, a tour group discovered a locked room in the Oregon State Hospital crematorium\, filled with thousands of decaying copper canisters holding the remains of over 4\,000 former patients. Abandoned or forgotten\, these individuals sparked a movement to honor the lost. Inspired by this haunting discovery\, the Willamette University Theatre ensemble will create Room of Forgotten Souls—an original\, ensemble-devised performance exploring memory\, loss\, mental health\, and recognition.
URL:https://pressplaysalem.com/calendar/room-of-forgotten-souls-2/2026-04-25/2/
LOCATION:Pelton Theatre at Willamette University\, 900 State St\, Salem\, 97301\, United States
CATEGORIES:theater
ATTACH;FMTTYPE=image/png:https://pressplaysalem.com/wp-content/uploads/2026/02/25-26-forgotten-souls-showmoji.png
END:VEVENT
END:VCALENDAR