BEGIN:VCALENDAR
VERSION:2.0
PRODID:-//Press Play Salem - ECPv6.15.20//NONSGML v1.0//EN
CALSCALE:GREGORIAN
METHOD:PUBLISH
X-WR-CALNAME:Press Play Salem
X-ORIGINAL-URL:https://pressplaysalem.com
X-WR-CALDESC:Events for Press Play Salem
REFRESH-INTERVAL;VALUE=DURATION:PT1H
X-Robots-Tag:noindex
X-PUBLISHED-TTL:PT1H
BEGIN:VTIMEZONE
TZID:America/Vancouver
BEGIN:DAYLIGHT
TZOFFSETFROM:-0800
TZOFFSETTO:-0700
TZNAME:PDT
DTSTART:20250309T100000
END:DAYLIGHT
BEGIN:STANDARD
TZOFFSETFROM:-0700
TZOFFSETTO:-0800
TZNAME:PST
DTSTART:20251102T090000
END:STANDARD
BEGIN:DAYLIGHT
TZOFFSETFROM:-0800
TZOFFSETTO:-0700
TZNAME:PDT
DTSTART:20260308T100000
END:DAYLIGHT
BEGIN:STANDARD
TZOFFSETFROM:-0700
TZOFFSETTO:-0800
TZNAME:PST
DTSTART:20261101T090000
END:STANDARD
BEGIN:DAYLIGHT
TZOFFSETFROM:-0800
TZOFFSETTO:-0700
TZNAME:PDT
DTSTART:20270314T100000
END:DAYLIGHT
BEGIN:STANDARD
TZOFFSETFROM:-0700
TZOFFSETTO:-0800
TZNAME:PST
DTSTART:20271107T090000
END:STANDARD
END:VTIMEZONE
BEGIN:VEVENT
DTSTART;TZID=America/Vancouver:20260309T190000
DTEND;TZID=America/Vancouver:20260309T210000
DTSTAMP:20260423T180021
CREATED:20260202T010604Z
LAST-MODIFIED:20260202T010604Z
UID:10000610-1773082800-1773090000@pressplaysalem.com
SUMMARY:Toast: The Best of Bread
DESCRIPTION:TOAST is the No. 1 Tribute to BREAD and one of the TOP tribute acts in the WORLD!\n\nOver their career\, Bread scored 13 hits on Billboard’s Top 100! The two surviving members of Bread (David Gates & Robb Royer) are happily retired and enjoying their time with family and the fruits of their musical careers. Enter TOAST – The Ultimate Bread Experience who does everything possible to keep the legacy of Bread alive. \nWith a surprising fidelity rarely heard from a live tribute band\, their sound is often described as “spot on” to the original recordings. Audiences everywhere rave about how closely their live performances sound like the cherished records they listened to back in the day. \nTOAST will take you on a journey back in time\, engaging a spectrum of emotions; from the tender moments that tug on the heartstrings to the upbeat classics that compel you to jump out of your seat and dance. And when combined with truly timeless music\, this concert will “rise” to the top as one of your absolute favorite concerts of all time!
URL:https://pressplaysalem.com/calendar/toast-the-best-of-bread/
LOCATION:Elsinore Theatre\, 170 High St SE\, Salem\, OR\, 97301\, United States
CATEGORIES:concert + live music
END:VEVENT
BEGIN:VEVENT
DTSTART;TZID=America/Vancouver:20260309T193000
DTEND;TZID=America/Vancouver:20260309T210000
DTSTAMP:20260423T180021
CREATED:20260124T222638Z
LAST-MODIFIED:20260124T222748Z
UID:10000025-1773084600-1773090000@pressplaysalem.com
SUMMARY:Weekly Drop-In Improv Comedy Class
DESCRIPTION:Date: Every Monday \nTime: 7:30pm – 9:00pm \nPrice: $5 (first class free!) – Pay at doors \nAll experience levels welcome \n15+‍ \nTake a break from real life to come play and let loose! Improv is all about teamwork\, communication and\, most importantly\, FUN!‍ \nWhether you’re a casual fan or seasoned performer\, this class is great for improvisers of all experience levels! Ages 15+ recommended. Classes are $5 each and your first class is FREE!
URL:https://pressplaysalem.com/calendar/weekly-drop-in-improv-comedy-class/2026-03-09/
LOCATION:Grand Ballroom\, 187 High St NE\, Salem\, Oregon\, 97301\, United States
CATEGORIES:activity,comedy
ATTACH;FMTTYPE=image/png:https://pressplaysalem.com/wp-content/uploads/2026/01/drop-in-comedy-at-grand-scaled.png
END:VEVENT
BEGIN:VEVENT
DTSTART;TZID=America/Vancouver:20260311T193000
DTEND;TZID=America/Vancouver:20260311T213000
DTSTAMP:20260423T180021
CREATED:20260202T010850Z
LAST-MODIFIED:20260202T011000Z
UID:10000611-1773257400-1773264600@pressplaysalem.com
SUMMARY:The Black Jacket Symphony: Pink Floyd'
DESCRIPTION:Remember putting on an album and listening from start to finish?  Relive that moment with a live concert experience unlike any other as The Black Jacket Symphony recreates Pink Floyd’s iconic album The Wall live in its entirety—note for note\, sound for sound—plus a full set of Pink Floyd’s greatest hits. Over the past ten years\, the Black Jacket Symphony has performed over 40 classic rock albums\, bringing an incredible night of entertainment to over a million music lovers across the US. The group of hand-picked musicians changes based upon the album being performed—and no sonic detail is overlooked\, with the musicians doing whatever it takes to reproduce the album. It’s a full night of rock and roll magic—plus a visual experience unlike any other. Fans across the country flock to their shows—and once you see one\, you won’t miss another! \nDon’t let the name fool you…known for their incredible live recreations of some of classic rock’s greatest albums\, The Black Jacket Symphony is bringing Pink Floyd’s iconic album The Wall to life. It’s a full rock-and-roll experience! Black jackets for them\, blue jeans for you.
URL:https://pressplaysalem.com/calendar/9457/
LOCATION:Elsinore Theatre\, 170 High St SE\, Salem\, OR\, 97301\, United States
CATEGORIES:concert + live music
ATTACH;FMTTYPE=image/png:https://pressplaysalem.com/wp-content/uploads/2026/02/BJS-Wall-Salem-1920x1080-1.png
END:VEVENT
BEGIN:VEVENT
DTSTART;TZID=America/Vancouver:20260311T200000
DTEND;TZID=America/Vancouver:20260311T220000
DTSTAMP:20260423T180021
CREATED:20260208T012417Z
LAST-MODIFIED:20260208T012417Z
UID:10000652-1773259200-1773266400@pressplaysalem.com
SUMMARY:Young Dubliners: The Hot Toddy Tour
DESCRIPTION:Wednesday\, March 11th\, 2026\nDoors at 7PM | Show at 8PM\nTickets: $30 + Fees Pre | $35 + Fees Day Of | General Admission | All Ages \nGet ready for a high-energy night of Celtic rock when the Young Dubliners bring The Hot Toddy Tour to Salem’s Historic Grand! Known for their fiery blend of traditional Irish melodies and modern rock grit\, the Young Dubs deliver a powerhouse live show packed with driving rhythms\, anthemic choruses\, and undeniable spirit. \nOpening the night are local favorites Possibly Irish\, bringing their signature mix of traditional Celtic tunes\, rich harmonies\, and joyful stage presence that always gets the crowd clapping along. \nRaise a pint\, warm up with a Hot Toddy\, and join us for an unforgettable evening of music\, energy\, and Irish charm!
URL:https://pressplaysalem.com/calendar/young-dubliners-the-hot-toddy-tour/
LOCATION:Salem’s Historic Grand Theatre\, 187 High St NE\, Salem\, OR\, 97301\, United States
CATEGORIES:concert + live music
ATTACH;FMTTYPE=image/jpeg:https://pressplaysalem.com/wp-content/uploads/2026/02/2026-03-11-Grand.jpg
END:VEVENT
BEGIN:VEVENT
DTSTART;TZID=America/Vancouver:20260312T193000
DTEND;TZID=America/Vancouver:20260312T210000
DTSTAMP:20260423T180021
CREATED:20260208T012627Z
LAST-MODIFIED:20260208T012627Z
UID:10000653-1773343800-1773349200@pressplaysalem.com
SUMMARY:The Gothard Sisters
DESCRIPTION:Thursday March 13th 2026 \nDoors at 6:30PM | Show at 7:30PM’ \nGeneral Admission Seating \nAdults $30 | Students & Seniors $23 | Kids under 12 $20 \nClick Here To Request ADA Seating \nExperience an evening of enchanting music with The Gothard Sisters\, a trio of multi-instrumentalists\, composers\, and performers blending Celtic\, folk\, world\, and classical influences. Hailing from the Pacific Northwest\, Greta\, Willow\, and Solana bring their music to life with violin\, guitar\, mandolin\, bodhran\, djembe\, whistle\, and soaring vocal harmonies. With over 2\,000 live performances and 10 albums\, their vivid and inspirational sound has captivated audiences worldwide. Don’t miss this mesmerizing celebration of storytelling\, tradition\, and artistry. \n‍
URL:https://pressplaysalem.com/calendar/the-gothard-sisters/
LOCATION:Salem’s Historic Grand Theatre\, 187 High St NE\, Salem\, OR\, 97301\, United States
CATEGORIES:concert + live music
ATTACH;FMTTYPE=image/png:https://pressplaysalem.com/wp-content/uploads/2026/02/2026-03-12-Grand.png
END:VEVENT
BEGIN:VEVENT
DTSTART;TZID=America/Vancouver:20260313T180000
DTEND;TZID=America/Vancouver:20260313T193000
DTSTAMP:20260423T180021
CREATED:20260228T181142Z
LAST-MODIFIED:20260228T181227Z
UID:10011512-1773424800-1773430200@pressplaysalem.com
SUMMARY:Soul + R&B Yoga
DESCRIPTION:Join Shirley Brown for a musically soulful and joyful 75 min yoga/mindful movement practice. \nPractice is orchestrated with rhythmic and soulful tunes to get you moving and maybe even singing. Together we will celebrate the joy of Soul and R&B music as we flow. If you love R&B / Soul music\, don’t miss these Friday nights. \n\n\n\n\n\n\n\n\n\n\n\n$20 per yogi | $16 for Resonance members (use your coupon code)
URL:https://pressplaysalem.com/calendar/soul-rb-yoga/2026-03-13/
LOCATION:Resonance Yoga Collective Studio\, 129 Commercial St NE\, Salem\, OR\, 97301\, United States
CATEGORIES:yoga
ATTACH;FMTTYPE=image/webp:https://pressplaysalem.com/wp-content/uploads/2026/02/Soul-RB-Yoga.webp
END:VEVENT
BEGIN:VEVENT
DTSTART;TZID=America/Vancouver:20260313T193000
DTEND;TZID=America/Vancouver:20260313T210000
DTSTAMP:20260423T180021
CREATED:20260208T202849Z
LAST-MODIFIED:20260208T203318Z
UID:10000705-1773430200-1773435600@pressplaysalem.com
SUMMARY:The Breasts of Tirésias
DESCRIPTION:The Breasts of Tiresias\nMusic by Francis Poulenc and Lyics by Gillaume Apollinaiare\nGender norms pop like balloons in The Breasts of Tiresias\, Poulenc and Appollinaire’s bawdy surrealist romp. Frustrated with the life of a housewife\, Tiresias sheds her breasts and becomes the male General Tirésias. As she leads a new life fighting distant wars on foreign battlefields\, her stay-at-home husband discovers a way to make babies on his own – but not just one: 40\,049 of them. This delightfully sugar-coated pill coats the sublime in the ridiculous.
URL:https://pressplaysalem.com/calendar/the-breasts-of-tiresias/2026-03-13/
LOCATION:Smith Auditorium\, 900 State St\, Salem\, 97301\, United States
CATEGORIES:concert + live music
ATTACH;FMTTYPE=image/png:https://pressplaysalem.com/wp-content/uploads/2026/02/25-26-breasts-of-tiresias-showmoji.png
END:VEVENT
BEGIN:VEVENT
DTSTART;TZID=America/Vancouver:20260313T200000
DTEND;TZID=America/Vancouver:20260313T220000
DTSTAMP:20260423T180021
CREATED:20260208T012921Z
LAST-MODIFIED:20260208T012921Z
UID:10000654-1773432000-1773439200@pressplaysalem.com
SUMMARY:Crossroads: Tribute to Eric Clapton ft. Gary Tackett
DESCRIPTION:CROSSROADS: AN ERIC CLAPTON TRIBUTE BAND \nFeaturing Guitarist to the Stars: Gary Tackett \nTHE EXPERIENCE \nStep into the timeless magic of Eric Clapton’s music with Crossroads\, the ultimate tribute band featuring Gary Tackett\, renowned “Guitarist to the Stars”. \nFrom Clapton’s groundbreaking work with Cream and Derek and the Dominos to his Grammy-winning MTV Unplugged performance\, Crossroads delivers an electrifying evening of unforgettable hits. With meticulous attention to detail and authentic musicianship\, Crossroads transports audiences through decades of Clapton’s legendary catalog. From soulful ballads to searing guitar solos\, it’s a tribute that will leave audiences in awe. \nTHE SONGS YOU LOVE \nRelive Clapton’s greatest hits\, including:\n– Layla\n– Wonderful Tonight\n– After Midnight\n– Tears in Heaven\n– Crossroads\n– White Room\n– I Shot the Sheriff\n– Sunshine of Your Love\n– And many more! \nMEET GARY TACKETT \nWith decades of experience as a sought-after guitarist\, Gary Tackett has played alongside\nmusic icons like Merle Haggard\, Billy Currington\, and Vince Gill. Now\, he brings his virtuoso talent and stage presence to the music of Eric Clapton\, capturing every nuance of Clapton’s iconic sound. \nLIBERTY THEATRE REVIEW- 2025 \n“From the first note to the final encore\, Gary Tackett and his band delivered a performance that was nothing short of extraordinary. In a world full of tribute acts\, this group stands in a league of their own—not just because of their incredible talent\, but because of the heart and authenticity they bring to every moment on stage. Gary channeled Clapton with such effortless skill and natural presence\, it was easy to forget you weren’t watching the legend himself. Every solo was played with stunning precision and emotion\, and you could feel his passion radiating all the way to the back row. It was a genuine love letter to Clapton’s music\, which resonated to everyone in the room. What made the experience even more special was the band’s warmth offstage. Incredibly kind\, down-to-earth\, and genuinely enthusiastic about connecting with fans and the team\, they were a pleasure to work with from start to finish.” \nFriday\, March 13th\, 2026\nDoors at 7:00 PM | Show at 8:00 PM\n$30 presale | $35 day of show + fees \nGeneral Admission | All ages \nClick Here To Request ADA Seating
URL:https://pressplaysalem.com/calendar/crossroads-tribute-to-eric-clapton-ft-gary-tackett/
LOCATION:Salem’s Historic Grand Theatre\, 187 High St NE\, Salem\, OR\, 97301\, United States
CATEGORIES:concert + live music
ATTACH;FMTTYPE=image/png:https://pressplaysalem.com/wp-content/uploads/2026/02/2026-03-13-Grand-scaled.png
END:VEVENT
BEGIN:VEVENT
DTSTART;TZID=America/Vancouver:20260314T190000
DTEND;TZID=America/Vancouver:20260314T210000
DTSTAMP:20260423T180021
CREATED:20260208T013504Z
LAST-MODIFIED:20260208T013504Z
UID:10000655-1773514800-1773522000@pressplaysalem.com
SUMMARY:An Evening with Fran Lebowitz
DESCRIPTION:In a cultural landscape filled with endless pundits and talking heads\, Fran Lebowitz stands out as one of our most insightful social commentators. \nHer essays and interviews offer her acerbic views on current events and the media – as well as pet peeves including tourists\, baggage-claim areas\, after-shave lotion\, adults who roller skate\, children who speak French\, or anyone who is unduly tan. The New York Times Book Review calls Lebowitz an “important humorist in the classic tradition.” Purveyor of urban cool\, Lebowitz is a cultural satirist whom many call the heir to Dorothy Parker. \nLebowitz worked odd jobs\, such as taxi driving\, belt peddling\, and apartment cleaning (“with a small specialty in Venetian blinds”)\, before being hired by Andy Warhol as a columnist for Interview. That was followed by a stint at Mademoiselle. Her first book\, a collection of essays titled Metropolitan Life\, was a bestseller\, as was a second collection\, Social Studies. By turns ironic\, facetious\, deadpan\, sarcastic\, wry\, wisecracking\, and waggish\, Lebowitz’s prose is wickedly entertaining. \nBetween 2001 to 2007\, Lebowitz had a recurring role as Judge Janice Goldberg on the television drama Law & Order. She also had a part in the Martin Scorsese-directed film\, The Wolf of Wall Street (2013). A raconteur if ever there was one\, Lebowitz has long been a regular on various talk shows including those hosted by Jimmy Fallon\, Conan O’Brien\, and Bill Maher. In an interview with the Paris Review\, Lebowitz said “I’m not a nervous person. I’m not afraid to be on TV. I’m only afraid when I write. When I’m at my desk I feel like most people would feel if they went on TV.” \nSaturday\, March 14\, 2026\n7:00pm\, Reserved Seating\n$31-$51
URL:https://pressplaysalem.com/calendar/an-evening-with-fran-lebowitz/
LOCATION:Salem’s Historic Grand Theatre\, 187 High St NE\, Salem\, OR\, 97301\, United States
CATEGORIES:talks + readings
ATTACH;FMTTYPE=image/png:https://pressplaysalem.com/wp-content/uploads/2026/02/2026-03-14-Grand.png
END:VEVENT
BEGIN:VEVENT
DTSTART;TZID=America/Vancouver:20260314T193000
DTEND;TZID=America/Vancouver:20260314T210000
DTSTAMP:20260423T180021
CREATED:20260208T202849Z
LAST-MODIFIED:20260208T203318Z
UID:10000706-1773516600-1773522000@pressplaysalem.com
SUMMARY:The Breasts of Tirésias
DESCRIPTION:The Breasts of Tiresias\nMusic by Francis Poulenc and Lyics by Gillaume Apollinaiare\nGender norms pop like balloons in The Breasts of Tiresias\, Poulenc and Appollinaire’s bawdy surrealist romp. Frustrated with the life of a housewife\, Tiresias sheds her breasts and becomes the male General Tirésias. As she leads a new life fighting distant wars on foreign battlefields\, her stay-at-home husband discovers a way to make babies on his own – but not just one: 40\,049 of them. This delightfully sugar-coated pill coats the sublime in the ridiculous.
URL:https://pressplaysalem.com/calendar/the-breasts-of-tiresias/2026-03-14/
LOCATION:Smith Auditorium\, 900 State St\, Salem\, 97301\, United States
CATEGORIES:concert + live music
ATTACH;FMTTYPE=image/png:https://pressplaysalem.com/wp-content/uploads/2026/02/25-26-breasts-of-tiresias-showmoji.png
END:VEVENT
BEGIN:VEVENT
DTSTART;TZID=America/Vancouver:20260315T110000
DTEND;TZID=America/Vancouver:20260315T150000
DTSTAMP:20260423T180021
CREATED:20260202T011732Z
LAST-MODIFIED:20260202T012245Z
UID:10000615-1773572400-1773586800@pressplaysalem.com
SUMMARY:Family Clay Sunday
DESCRIPTION:Bring the whole family for some quality together time and learn simple hand-built projects that are fun for everyone and create magical memories for your family. \nFamily Clay Sunday is a drop-in program. No registration required \nFamily Clay Sundays are back. We now offer an “early bird” hour for families that prefer a quieter setting and simpler projects. \n11 a.m. – 12 p.m. for early birds \n12 – 3 p.m. Family Clay Sunday drop-in sessions \nCost\n$5 per artist to create a new project on the first Sunday of the month. \n$5 for glazing day on the third Sunday of the Month. We will offer bisque pieces to purchase at $5 each for those who didn’t attend the first Sunday session so everyone can enjoy glaze day. \nWe’re so glad that our little studio is able to offer this activity to our community. \nFacilitated by Kelly Matney supported by Doug Dacar. \nDates & Projects:\nFebruary 1 & 15:\n\nEarly birds: Thumb vase\nDrop in: Ice cream bowls\n\nMarch 1 & 15:\n\nEarly Birds: Textured hand prints\nDrop-in: Chicken plates\n\nApril 19:\n\nCatch-up glaze day\n\nMay 3 & 17:\n\nEarly birds: Name frames\nDrop-in: Coil name plaques’\n\nJune 7 and 21:\n\nEarly birds: Familer faces\nDrop-in: Moon Face
URL:https://pressplaysalem.com/calendar/family-clay-sunday/2026-03-15/
CATEGORIES:activity,community
END:VEVENT
BEGIN:VEVENT
DTSTART;TZID=America/Vancouver:20260315T140000
DTEND;TZID=America/Vancouver:20260315T153000
DTSTAMP:20260423T180021
CREATED:20260208T014859Z
LAST-MODIFIED:20260208T014859Z
UID:10000661-1773583200-1773588600@pressplaysalem.com
SUMMARY:Silent Film Series: The Lost World (1925)
DESCRIPTION:The Elsinore Theatre Silent Film Series presents The Lost World (1925). \nThe Lost World is a 1925 American silent fantasy giant monster adventure film\, directed by Harry O. Hoyt and written by Marion Fairfax\, adapted from Arthur Conan Doyle’s 1912 novel of the same name. 1h 50m \nWith live organ accompaniment by Rick Parks on the Mighty Wurlitzer.
URL:https://pressplaysalem.com/calendar/silent-film-series-the-lost-world-1925/
LOCATION:Elsinore Theatre\, 170 High St SE\, Salem\, OR\, 97301\, United States
CATEGORIES:movie
END:VEVENT
BEGIN:VEVENT
DTSTART;TZID=America/Vancouver:20260315T170000
DTEND;TZID=America/Vancouver:20260315T190000
DTSTAMP:20260423T180021
CREATED:20260208T013628Z
LAST-MODIFIED:20260208T013628Z
UID:10000656-1773594000-1773601200@pressplaysalem.com
SUMMARY:Blessing Bled Chimanga
DESCRIPTION:Blessing Chimanga is an internationally celebrated Zimbabwean musician renowned for his extraordinary talent as a marimba player\, singer\, songwriter\, and percussionist. As a cultural ambassador for Zimbabwe\, he has captivated audiences across Asia\, Europe\, North and South America\, and Africa. \nBlessing’s music is distinguished by its energetic African rhythms and his virtuosic marimba performances\, complemented by his magnetic stage presence and engaging entertainment skills.\n​\nHe has graced prestigious festivals worldwide\, including the Harare International Festival of the Arts (HIFA) in Zimbabwe\, the Global Isai Festival in India\, and the Iguazú en Concierto in Argentina. Blessing has collaborated with iconic musicians such as Oliver Mtukudzi (Zimbabwe)\, Sona Jobarteh (Gambia)\, Freshlyground (South Africa)\, and Eric Wainaina (Kenya).\n​\nBlessing has travelled to 20+ Countries as a performer\, workshop facilitator and leadership speaker.\n​\n​His influence extends beyond performances to cultural diplomacy. Notably\, he represented Zimbabwe at the OneBeat arts residency in the USA (2014) and served as the Music Director of HIFA in 2018. As a passionate advocate for marimba music\, he has coached bands in Zimbabwe and internationally\, including touring Argentina four times with the Winad Marimba Band. \nSunday\, March 15 | Doors at 4:00 pm | Show at 5:00 pm | $15 presale + fees | $20 at door | All ages
URL:https://pressplaysalem.com/calendar/blessing-bled-chimanga/
LOCATION:Salem’s Historic Grand Theatre\, 187 High St NE\, Salem\, OR\, 97301\, United States
CATEGORIES:concert + live music
ATTACH;FMTTYPE=image/png:https://pressplaysalem.com/wp-content/uploads/2026/02/2026-03-15-Grand.png
END:VEVENT
END:VCALENDAR