BEGIN:VCALENDAR
VERSION:2.0
PRODID:-//Press Play Salem - ECPv6.15.20//NONSGML v1.0//EN
CALSCALE:GREGORIAN
METHOD:PUBLISH
X-ORIGINAL-URL:https://pressplaysalem.com
X-WR-CALDESC:Events for Press Play Salem
REFRESH-INTERVAL;VALUE=DURATION:PT1H
X-Robots-Tag:noindex
X-PUBLISHED-TTL:PT1H
BEGIN:VTIMEZONE
TZID:America/Vancouver
BEGIN:DAYLIGHT
TZOFFSETFROM:-0800
TZOFFSETTO:-0700
TZNAME:PDT
DTSTART:20250309T100000
END:DAYLIGHT
BEGIN:STANDARD
TZOFFSETFROM:-0700
TZOFFSETTO:-0800
TZNAME:PST
DTSTART:20251102T090000
END:STANDARD
BEGIN:DAYLIGHT
TZOFFSETFROM:-0800
TZOFFSETTO:-0700
TZNAME:PDT
DTSTART:20260308T100000
END:DAYLIGHT
BEGIN:STANDARD
TZOFFSETFROM:-0700
TZOFFSETTO:-0800
TZNAME:PST
DTSTART:20261101T090000
END:STANDARD
BEGIN:DAYLIGHT
TZOFFSETFROM:-0800
TZOFFSETTO:-0700
TZNAME:PDT
DTSTART:20270314T100000
END:DAYLIGHT
BEGIN:STANDARD
TZOFFSETFROM:-0700
TZOFFSETTO:-0800
TZNAME:PST
DTSTART:20271107T090000
END:STANDARD
END:VTIMEZONE
BEGIN:VEVENT
DTSTART;TZID=America/Vancouver:20260214T100000
DTEND;TZID=America/Vancouver:20260214T140000
DTSTAMP:20260423T152602
CREATED:20260208T173344Z
LAST-MODIFIED:20260208T173344Z
UID:10000665-1771063200-1771077600@pressplaysalem.com
SUMMARY:Oregon's Anniversary of Statehood
DESCRIPTION:​Come and join us in celebration of Oregon’s Statehood. Oregon became a state on February 14\, 1859\, but we honor the history of the land since time immemorial with the inclusion of our sovereign tribes. This event is free and open to the public. Capitol doors will open at 10 a.m. Please be aware there is security screening to enter the building. \n10-11 a.m. Oregon Old Time Fiddlers\, Rotunda \n11 a.m. Birthday cupcakes in the Galleria\, while supplies last \nNoon -1 p.m. Oregon Old Time Fiddlers\, Rotunda \n1 to 1:45 p.m. Wagon Wheelers Square Dancers\, Rotunda \nEvents and exhibits all day\, 10 a.m. to 2 p.m. \n· Oregon’s original constitution on display in the Galleria\n· Living history – historic costumed interpreters in Galleria\n· Many activity stations for families\n· Enter to win a prize basket
URL:https://pressplaysalem.com/calendar/oregons-anniversary-of-statehood/
LOCATION:Oregon State Capitol\, 900 Court St NE\, Salem\, 97301\, United States
CATEGORIES:activity,community,history
ATTACH;FMTTYPE=image/jpeg:https://pressplaysalem.com/wp-content/uploads/2026/02/34-Capitol-B-Day-161st-HI-Res.jpg
END:VEVENT
BEGIN:VEVENT
DTSTART;TZID=America/Vancouver:20260321T100000
DTEND;TZID=America/Vancouver:20260321T140000
DTSTAMP:20260423T152602
CREATED:20260208T173549Z
LAST-MODIFIED:20260208T173549Z
UID:10000666-1774087200-1774101600@pressplaysalem.com
SUMMARY:Cherry Blossom Day at the Capitol
DESCRIPTION:The third Saturday of March is Cherry Blossom Day at the Capitol. Celebrate Spring\, the blossoming cherry trees in the Capitol Mall and the impact of the Japanese culture on our state. We will be celebrating with booths\, activities and performances from 10 a.m. to 2 p.m. Free and open to the public. Parking is free on Saturday. \nA 2026 program of events will be made available at the beginning of March.
URL:https://pressplaysalem.com/calendar/cherry-blossom-day-at-the-capitol/
LOCATION:Oregon State Capitol\, 900 Court St NE\, Salem\, 97301\, United States
CATEGORIES:activity,community
ATTACH;FMTTYPE=image/jpeg:https://pressplaysalem.com/wp-content/uploads/2026/02/43-Cherry-Fest-2023-Low-Res-scaled.jpg
END:VEVENT
BEGIN:VEVENT
DTSTART;VALUE=DATE:20260323
DTEND;VALUE=DATE:20260328
DTSTAMP:20260423T152602
CREATED:20260208T174033Z
LAST-MODIFIED:20260208T174647Z
UID:10000667-1774224000-1774655999@pressplaysalem.com
SUMMARY:Spring Break Passport to Fun!
DESCRIPTION:Downtown venues have joined together to create “Spring Break Passport to Fun”\, which offers activities for the family during spring break week. Oregon State Capitol\, State Capitol State Park\, Willamette Heritage Center\, Hallie Ford Museum of Art\, World Beat Gallery\, Salem Art Association at Bush Bart Art Center\, Salem Public Library\, and Deepwood Museum have teamed up to offer families a fun and free\, or discounted\, way to fill the week off school with activities. A passport for download will be available starting March 1\, 2026. \nYou can start and end your journey at any of the participating locations.
URL:https://pressplaysalem.com/calendar/spring-break-passport-to-fun/
LOCATION:Oregon State Capitol\, 900 Court St NE\, Salem\, 97301\, United States
CATEGORIES:activity,education + learning
ATTACH;FMTTYPE=image/jpeg:https://pressplaysalem.com/wp-content/uploads/2026/02/spring-break-set-3-scaled.jpg
END:VEVENT
END:VCALENDAR