BEGIN:VCALENDAR
VERSION:2.0
PRODID:-//Press Play Salem - ECPv6.15.20//NONSGML v1.0//EN
CALSCALE:GREGORIAN
METHOD:PUBLISH
X-WR-CALNAME:Press Play Salem
X-ORIGINAL-URL:https://pressplaysalem.com
X-WR-CALDESC:Events for Press Play Salem
REFRESH-INTERVAL;VALUE=DURATION:PT1H
X-Robots-Tag:noindex
X-PUBLISHED-TTL:PT1H
BEGIN:VTIMEZONE
TZID:America/Vancouver
BEGIN:DAYLIGHT
TZOFFSETFROM:-0800
TZOFFSETTO:-0700
TZNAME:PDT
DTSTART:20250309T100000
END:DAYLIGHT
BEGIN:STANDARD
TZOFFSETFROM:-0700
TZOFFSETTO:-0800
TZNAME:PST
DTSTART:20251102T090000
END:STANDARD
BEGIN:DAYLIGHT
TZOFFSETFROM:-0800
TZOFFSETTO:-0700
TZNAME:PDT
DTSTART:20260308T100000
END:DAYLIGHT
BEGIN:STANDARD
TZOFFSETFROM:-0700
TZOFFSETTO:-0800
TZNAME:PST
DTSTART:20261101T090000
END:STANDARD
BEGIN:DAYLIGHT
TZOFFSETFROM:-0800
TZOFFSETTO:-0700
TZNAME:PDT
DTSTART:20270314T100000
END:DAYLIGHT
BEGIN:STANDARD
TZOFFSETFROM:-0700
TZOFFSETTO:-0800
TZNAME:PST
DTSTART:20271107T090000
END:STANDARD
END:VTIMEZONE
BEGIN:VEVENT
DTSTART;TZID=America/Vancouver:20260209T193000
DTEND;TZID=America/Vancouver:20260209T210000
DTSTAMP:20260425T061953
CREATED:20260124T222638Z
LAST-MODIFIED:20260124T222748Z
UID:10000017-1770665400-1770670800@pressplaysalem.com
SUMMARY:Weekly Drop-In Improv Comedy Class
DESCRIPTION:Date: Every Monday \nTime: 7:30pm – 9:00pm \nPrice: $5 (first class free!) – Pay at doors \nAll experience levels welcome \n15+‍ \nTake a break from real life to come play and let loose! Improv is all about teamwork\, communication and\, most importantly\, FUN!‍ \nWhether you’re a casual fan or seasoned performer\, this class is great for improvisers of all experience levels! Ages 15+ recommended. Classes are $5 each and your first class is FREE!
URL:https://pressplaysalem.com/calendar/weekly-drop-in-improv-comedy-class/2026-02-09/
LOCATION:Grand Ballroom\, 187 High St NE\, Salem\, Oregon\, 97301\, United States
CATEGORIES:activity,comedy
ATTACH;FMTTYPE=image/png:https://pressplaysalem.com/wp-content/uploads/2026/01/drop-in-comedy-at-grand-scaled.png
END:VEVENT
BEGIN:VEVENT
DTSTART;TZID=America/Vancouver:20260208T140000
DTEND;TZID=America/Vancouver:20260208T153000
DTSTAMP:20260425T061953
CREATED:20260202T005813Z
LAST-MODIFIED:20260202T005829Z
UID:10000609-1770559200-1770564600@pressplaysalem.com
SUMMARY:Silent Film Series: Three Ages (1923)
DESCRIPTION:The Elsinore Theatre Silent Film Series presents Three Ages (1923). \nStarring Buster Keaton\, Three Ages parodies D.W. Griffith’s Intolerance\, tracking a romantic quest across the Stone Age\, Ancient Rome\, and a modern city. As Keaton’s first feature-length film\, it uese parallel narratives to showcase his trademark deadpan comedy and physical stunts to win his love interest across time. 1h 3m (not rated) \nWith live organ accompaniment by Rick Parks on the Mighty Wurlitzer.
URL:https://pressplaysalem.com/calendar/silent-film-series-three-ages-1923/
LOCATION:Elsinore Theatre\, 170 High St SE\, Salem\, OR\, 97301\, United States
CATEGORIES:movie
ATTACH;FMTTYPE=image/jpeg:https://pressplaysalem.com/wp-content/uploads/2026/02/Elsinore-4x5-1.jpg
END:VEVENT
BEGIN:VEVENT
DTSTART;TZID=America/Vancouver:20260206T193000
DTEND;TZID=America/Vancouver:20260206T210000
DTSTAMP:20260425T061953
CREATED:20260124T211645Z
LAST-MODIFIED:20260124T211645Z
UID:10000003-1770406200-1770411600@pressplaysalem.com
SUMMARY:Eagle Eyes — Eagles Tribute
DESCRIPTION:Eagle Eyes – Eagles tribute is ‘THE’ tribute to the legendary California country rock band. Audiences are mesmerized by this group of Vancouver\, B.C. musicians’ precise vocal harmonies and service to the smallest of details in performing songs spanning the extensive Eagles’ Rock N’ Roll Hall of Fame Career (including a few selections from Eagles’ solo careers!).
URL:https://pressplaysalem.com/calendar/eagle-eyes-eagles-tribute/
LOCATION:Elsinore Theatre\, 170 High St SE\, Salem\, OR\, 97301\, United States
CATEGORIES:concert + live music
ATTACH;FMTTYPE=image/jpeg:https://pressplaysalem.com/wp-content/uploads/2026/01/26-0206-ELSINORE-Eagle-Eyes-FB-Cover.jpg
END:VEVENT
BEGIN:VEVENT
DTSTART;TZID=America/Vancouver:20260203T193000
DTEND;TZID=America/Vancouver:20260203T210000
DTSTAMP:20260425T061953
CREATED:20260124T210445Z
LAST-MODIFIED:20260124T210445Z
UID:10000002-1770147000-1770152400@pressplaysalem.com
SUMMARY:Mania: The ABBA Tribute
DESCRIPTION:Take A Chance On MANIA……and you won’t be disappointed! \nMania the ABBA Tribute has successfully toured every continent in the world and has played over 3\,000 live concerts in over 35 countries. Recent highlights included a second run in London’s West End where the show performed for a month in the iconic Shaftesbury Theatre\, London in May 2021. The show also enjoyed an 80-date sell-out USA National tour in 2022/2023\, Mania continues in its quest to bring the music of the Swedish ’Supergroup’ to millions of fans\, old and new! \nFeaturing an extraordinary cast of talented musicians and performers\, Mania: The ABBA Tribute delivers an authentic and unforgettable tribute to the legendary Swedish band that has captured the hearts of fans for generations. With stunning costumes\, energetic choreography\, and impeccable musicianship\, Mania: The ABBA Tribute recreates the magic of ABBA’s music in all its glory. From “Dancing Queen” to “Waterloo\,” “Mamma Mia” to “Take a Chance on Me\,” the band performs all of ABBA’s greatest hits with passion and precision\, transporting audiences back to the disco era of the 1970s. \nThe upcoming tour promises to be an unforgettable experience for fans of ABBA and lovers of great music. With stunning visuals\, electrifying performances\, and all of ABBA’s greatest hits\, Mania: The ABBA Tribute is a hit with audiences worldwide and Maniacs who return every year!
URL:https://pressplaysalem.com/calendar/mania-the-abba-tribute/
LOCATION:Elsinore Theatre\, 170 High St SE\, Salem\, OR\, 97301\, United States
CATEGORIES:concert + live music
ATTACH;FMTTYPE=image/jpeg:https://pressplaysalem.com/wp-content/uploads/2026/01/Mania-2025-1920x1080-Plain.jpg
END:VEVENT
BEGIN:VEVENT
DTSTART;TZID=America/Vancouver:20260203T190000
DTEND;TZID=America/Vancouver:20260203T220000
DTSTAMP:20260425T061953
CREATED:20260124T223713Z
LAST-MODIFIED:20260124T223713Z
UID:10000536-1770145200-1770156000@pressplaysalem.com
SUMMARY:First Tuesday Music & Poetry Open Mic
DESCRIPTION:Salem’s Historic Grand is pleased to invite performers of all varieties to take the ballroom stage the first Tuesday of every month! Musicians\, bands\, poets\, and all other performers are encouraged to sign up and share your talent! Hosted by Matador Hamilton and Danny Shaw of Giantess. \nDoors at 6:30\, show 7pm-10pm. No admission\, all ages. Sign ups open with doors at 6:30. \nIf your band would like to perform\, please reach out to Matador Hamilton via Facebook or @matadormakesmusic on Instagram and let him know which backline gear your band will need.
URL:https://pressplaysalem.com/calendar/first-tuesday-music-poetry-open-mic/2026-02-03/
LOCATION:Salem’s Historic Grand Theatre\, 187 High St NE\, Salem\, OR\, 97301\, United States
CATEGORIES:activity,concert + live music
ATTACH;FMTTYPE=image/png:https://pressplaysalem.com/wp-content/uploads/2026/01/Grand-Open-Mic.png
END:VEVENT
BEGIN:VEVENT
DTSTART;TZID=America/Vancouver:20260202T193000
DTEND;TZID=America/Vancouver:20260202T210000
DTSTAMP:20260425T061953
CREATED:20260124T222638Z
LAST-MODIFIED:20260124T222748Z
UID:10000015-1770060600-1770066000@pressplaysalem.com
SUMMARY:Weekly Drop-In Improv Comedy Class
DESCRIPTION:Date: Every Monday \nTime: 7:30pm – 9:00pm \nPrice: $5 (first class free!) – Pay at doors \nAll experience levels welcome \n15+‍ \nTake a break from real life to come play and let loose! Improv is all about teamwork\, communication and\, most importantly\, FUN!‍ \nWhether you’re a casual fan or seasoned performer\, this class is great for improvisers of all experience levels! Ages 15+ recommended. Classes are $5 each and your first class is FREE!
URL:https://pressplaysalem.com/calendar/weekly-drop-in-improv-comedy-class/2026-02-02/
LOCATION:Grand Ballroom\, 187 High St NE\, Salem\, Oregon\, 97301\, United States
CATEGORIES:activity,comedy
ATTACH;FMTTYPE=image/png:https://pressplaysalem.com/wp-content/uploads/2026/01/drop-in-comedy-at-grand-scaled.png
END:VEVENT
BEGIN:VEVENT
DTSTART;TZID=America/Vancouver:20260201T110000
DTEND;TZID=America/Vancouver:20260201T150000
DTSTAMP:20260425T061953
CREATED:20260202T011732Z
LAST-MODIFIED:20260202T012245Z
UID:10000612-1769943600-1769958000@pressplaysalem.com
SUMMARY:Family Clay Sunday
DESCRIPTION:Bring the whole family for some quality together time and learn simple hand-built projects that are fun for everyone and create magical memories for your family. \nFamily Clay Sunday is a drop-in program. No registration required \nFamily Clay Sundays are back. We now offer an “early bird” hour for families that prefer a quieter setting and simpler projects. \n11 a.m. – 12 p.m. for early birds \n12 – 3 p.m. Family Clay Sunday drop-in sessions \nCost\n$5 per artist to create a new project on the first Sunday of the month. \n$5 for glazing day on the third Sunday of the Month. We will offer bisque pieces to purchase at $5 each for those who didn’t attend the first Sunday session so everyone can enjoy glaze day. \nWe’re so glad that our little studio is able to offer this activity to our community. \nFacilitated by Kelly Matney supported by Doug Dacar. \nDates & Projects:\nFebruary 1 & 15:\n\nEarly birds: Thumb vase\nDrop in: Ice cream bowls\n\nMarch 1 & 15:\n\nEarly Birds: Textured hand prints\nDrop-in: Chicken plates\n\nApril 19:\n\nCatch-up glaze day\n\nMay 3 & 17:\n\nEarly birds: Name frames\nDrop-in: Coil name plaques’\n\nJune 7 and 21:\n\nEarly birds: Familer faces\nDrop-in: Moon Face
URL:https://pressplaysalem.com/calendar/family-clay-sunday/2026-02-01/
CATEGORIES:activity,community
END:VEVENT
BEGIN:VEVENT
DTSTART;TZID=America/Vancouver:20260126T193000
DTEND;TZID=America/Vancouver:20260126T210000
DTSTAMP:20260425T061953
CREATED:20260124T222638Z
LAST-MODIFIED:20260124T222748Z
UID:10000013-1769455800-1769461200@pressplaysalem.com
SUMMARY:Weekly Drop-In Improv Comedy Class
DESCRIPTION:Date: Every Monday \nTime: 7:30pm – 9:00pm \nPrice: $5 (first class free!) – Pay at doors \nAll experience levels welcome \n15+‍ \nTake a break from real life to come play and let loose! Improv is all about teamwork\, communication and\, most importantly\, FUN!‍ \nWhether you’re a casual fan or seasoned performer\, this class is great for improvisers of all experience levels! Ages 15+ recommended. Classes are $5 each and your first class is FREE!
URL:https://pressplaysalem.com/calendar/weekly-drop-in-improv-comedy-class/2026-01-26/
LOCATION:Grand Ballroom\, 187 High St NE\, Salem\, Oregon\, 97301\, United States
CATEGORIES:activity,comedy
ATTACH;FMTTYPE=image/png:https://pressplaysalem.com/wp-content/uploads/2026/01/drop-in-comedy-at-grand-scaled.png
END:VEVENT
BEGIN:VEVENT
DTSTART;TZID=America/Vancouver:20260119T193000
DTEND;TZID=America/Vancouver:20260119T210000
DTSTAMP:20260425T061953
CREATED:20260124T222638Z
LAST-MODIFIED:20260124T222748Z
UID:10000535-1768851000-1768856400@pressplaysalem.com
SUMMARY:Weekly Drop-In Improv Comedy Class
DESCRIPTION:Date: Every Monday \nTime: 7:30pm – 9:00pm \nPrice: $5 (first class free!) – Pay at doors \nAll experience levels welcome \n15+‍ \nTake a break from real life to come play and let loose! Improv is all about teamwork\, communication and\, most importantly\, FUN!‍ \nWhether you’re a casual fan or seasoned performer\, this class is great for improvisers of all experience levels! Ages 15+ recommended. Classes are $5 each and your first class is FREE!
URL:https://pressplaysalem.com/calendar/weekly-drop-in-improv-comedy-class/2026-01-19/
LOCATION:Grand Ballroom\, 187 High St NE\, Salem\, Oregon\, 97301\, United States
CATEGORIES:activity,comedy
ATTACH;FMTTYPE=image/png:https://pressplaysalem.com/wp-content/uploads/2026/01/drop-in-comedy-at-grand-scaled.png
END:VEVENT
END:VCALENDAR