BEGIN:VCALENDAR
VERSION:2.0
PRODID:-//Press Play Salem - ECPv6.15.20//NONSGML v1.0//EN
CALSCALE:GREGORIAN
METHOD:PUBLISH
X-WR-CALNAME:Press Play Salem
X-ORIGINAL-URL:https://pressplaysalem.com
X-WR-CALDESC:Events for Press Play Salem
REFRESH-INTERVAL;VALUE=DURATION:PT1H
X-Robots-Tag:noindex
X-PUBLISHED-TTL:PT1H
BEGIN:VTIMEZONE
TZID:America/Vancouver
BEGIN:DAYLIGHT
TZOFFSETFROM:-0800
TZOFFSETTO:-0700
TZNAME:PDT
DTSTART:20250309T100000
END:DAYLIGHT
BEGIN:STANDARD
TZOFFSETFROM:-0700
TZOFFSETTO:-0800
TZNAME:PST
DTSTART:20251102T090000
END:STANDARD
BEGIN:DAYLIGHT
TZOFFSETFROM:-0800
TZOFFSETTO:-0700
TZNAME:PDT
DTSTART:20260308T100000
END:DAYLIGHT
BEGIN:STANDARD
TZOFFSETFROM:-0700
TZOFFSETTO:-0800
TZNAME:PST
DTSTART:20261101T090000
END:STANDARD
BEGIN:DAYLIGHT
TZOFFSETFROM:-0800
TZOFFSETTO:-0700
TZNAME:PDT
DTSTART:20270314T100000
END:DAYLIGHT
BEGIN:STANDARD
TZOFFSETFROM:-0700
TZOFFSETTO:-0800
TZNAME:PST
DTSTART:20271107T090000
END:STANDARD
END:VTIMEZONE
BEGIN:VEVENT
DTSTART;TZID=America/Vancouver:20260301T140000
DTEND;TZID=America/Vancouver:20260301T153000
DTSTAMP:20260423T163555
CREATED:20260208T200304Z
LAST-MODIFIED:20260208T200405Z
UID:10000699-1772373600-1772379000@pressplaysalem.com
SUMMARY:The Glass Door
DESCRIPTION:The Glass Door reimagines Henrik Ibsen’s Hedda Gabler for a new audience\, exploring the ambitions and struggles of a woman trapped in a society that denies her agency. As she seeks control in a world that resists her\, she becomes entangled in a web of intrigue\, seduction\, and destruction. \nAdapted by: Stephen Evans \nPreview: Thursday\, February 12\, 2026Opening: Friday\, February 13\, 2026 \nPerformances \n\nPreview: Thursday\, February 12\, 7:30 p.m.\nGala Opening: Friday\, February 13\, 7:30 p.m.\nEvenings: Wednesday – Saturday\, 7:30 p.m.\nMatinees: February 15\, 21\, & 22\, March 1\, 2:00 p.m.
URL:https://pressplaysalem.com/calendar/the-glass-door/2026-03-01/
LOCATION:Pelton Theatre at Willamette University\, 900 State St\, Salem\, 97301\, United States
CATEGORIES:theater
ATTACH;FMTTYPE=image/png:https://pressplaysalem.com/wp-content/uploads/2026/02/25-26-glass-door-showmoji.png
END:VEVENT
END:VCALENDAR