BEGIN:VCALENDAR
VERSION:2.0
PRODID:-//Press Play Salem - ECPv6.15.20//NONSGML v1.0//EN
CALSCALE:GREGORIAN
METHOD:PUBLISH
X-WR-CALNAME:Press Play Salem
X-ORIGINAL-URL:https://pressplaysalem.com
X-WR-CALDESC:Events for Press Play Salem
REFRESH-INTERVAL;VALUE=DURATION:PT1H
X-Robots-Tag:noindex
X-PUBLISHED-TTL:PT1H
BEGIN:VTIMEZONE
TZID:America/Vancouver
BEGIN:DAYLIGHT
TZOFFSETFROM:-0800
TZOFFSETTO:-0700
TZNAME:PDT
DTSTART:20250309T100000
END:DAYLIGHT
BEGIN:STANDARD
TZOFFSETFROM:-0700
TZOFFSETTO:-0800
TZNAME:PST
DTSTART:20251102T090000
END:STANDARD
BEGIN:DAYLIGHT
TZOFFSETFROM:-0800
TZOFFSETTO:-0700
TZNAME:PDT
DTSTART:20260308T100000
END:DAYLIGHT
BEGIN:STANDARD
TZOFFSETFROM:-0700
TZOFFSETTO:-0800
TZNAME:PST
DTSTART:20261101T090000
END:STANDARD
BEGIN:DAYLIGHT
TZOFFSETFROM:-0800
TZOFFSETTO:-0700
TZNAME:PDT
DTSTART:20270314T100000
END:DAYLIGHT
BEGIN:STANDARD
TZOFFSETFROM:-0700
TZOFFSETTO:-0800
TZNAME:PST
DTSTART:20271107T090000
END:STANDARD
END:VTIMEZONE
BEGIN:VEVENT
DTSTART;TZID=America/Vancouver:20260213T220000
DTEND;TZID=America/Vancouver:20260213T235900
DTSTAMP:20260424T053025
CREATED:20260124T212029Z
LAST-MODIFIED:20260124T212618Z
UID:10000005-1771020000-1771027140@pressplaysalem.com
SUMMARY:Nick Offerman
DESCRIPTION:Nick Offerman\, even more hirsute than last time\, is back to remind the fans of sawdust what a living\, breathing mammal\, unsullied by AI\, looks like. With songs and notions inspired by his newest book\, Little Woodchucks\, Nick—with support from woodworker and co-author Lee Buchanan— might just inspire you to get busy making things with your own hands\, which is guaranteed to get you kissed. Especially if what you make is sausage rolls. \n“Canoes are sexy AF\, especially when you make ‘em out of wood.”—Nina Simone\, probably \nABOUT NICK OFFERMAN\nNick Offerman is an actor\, author\, humorist\, and woodworker whose onscreen credits include the Emmy award-winning role of Bill in The Last of Us (HBO)\, Ron Swanson on NBC’s Parks and Recreation\, Forest in Devs\, and Karl Weathers in the FX series Fargo. He has written six New York Times Bestselling books: Where the Deer and the Antelope Play\, Paddle Your Own Canoe\, Gumption\, Good Clean Fun\, and The Greatest Love Story Ever Told\, written with his wife\, Megan Mullally. His latest book Little Woodchucks: Offerman Woodshop’s Guide to Tools and Tomfoolery is a narrative woodworking guide for kids\, large and small. \nRecent and upcoming projects include Death by Lightning (Netflix)\, Mission: Impossible – The Final Reckoning\, Sovereign\, Civil War (written and directed by Alex Garland)\, Pout Pout Fish\, Origin (written and directed by Ava DuVernay)\, The Life of Chuck\, The Umbrella Academy\, and NBC’s Making It (co-host and executive producer). He is the voice of Beef Tobin in the FOX animated series The Great North and audiobook narrator for Wendell Berry’s The Need to Be Whole. In his spare time\, he can be found at his woodshop in Los Angeles building hand-crafted items from wood\, ranging from spoons and canoes to ukuleles. \nVIP AVAILABLE\nVIP Ticket includes a premium seat\, a signed copy of his new book “Little Woodchucks: Offerman Woodshop’s Guide to Tools and Tomfoolery” and access for personalization of the book after the show. \n7:30 pm show SOLD OUT \n10 p.m. show tickets here.
URL:https://pressplaysalem.com/calendar/nick-offerman/
LOCATION:Elsinore Theatre\, 170 High St SE\, Salem\, OR\, 97301\, United States
CATEGORIES:comedy,talks + readings
ATTACH;FMTTYPE=image/jpeg:https://pressplaysalem.com/wp-content/uploads/2026/01/Static_Social-Facebook_1200x630_NickOfferman_2026_Regional_HistoricElsinoreTheatre_0213.jpg
END:VEVENT
BEGIN:VEVENT
DTSTART;TZID=America/Vancouver:20260314T190000
DTEND;TZID=America/Vancouver:20260314T210000
DTSTAMP:20260424T053025
CREATED:20260208T013504Z
LAST-MODIFIED:20260208T013504Z
UID:10000655-1773514800-1773522000@pressplaysalem.com
SUMMARY:An Evening with Fran Lebowitz
DESCRIPTION:In a cultural landscape filled with endless pundits and talking heads\, Fran Lebowitz stands out as one of our most insightful social commentators. \nHer essays and interviews offer her acerbic views on current events and the media – as well as pet peeves including tourists\, baggage-claim areas\, after-shave lotion\, adults who roller skate\, children who speak French\, or anyone who is unduly tan. The New York Times Book Review calls Lebowitz an “important humorist in the classic tradition.” Purveyor of urban cool\, Lebowitz is a cultural satirist whom many call the heir to Dorothy Parker. \nLebowitz worked odd jobs\, such as taxi driving\, belt peddling\, and apartment cleaning (“with a small specialty in Venetian blinds”)\, before being hired by Andy Warhol as a columnist for Interview. That was followed by a stint at Mademoiselle. Her first book\, a collection of essays titled Metropolitan Life\, was a bestseller\, as was a second collection\, Social Studies. By turns ironic\, facetious\, deadpan\, sarcastic\, wry\, wisecracking\, and waggish\, Lebowitz’s prose is wickedly entertaining. \nBetween 2001 to 2007\, Lebowitz had a recurring role as Judge Janice Goldberg on the television drama Law & Order. She also had a part in the Martin Scorsese-directed film\, The Wolf of Wall Street (2013). A raconteur if ever there was one\, Lebowitz has long been a regular on various talk shows including those hosted by Jimmy Fallon\, Conan O’Brien\, and Bill Maher. In an interview with the Paris Review\, Lebowitz said “I’m not a nervous person. I’m not afraid to be on TV. I’m only afraid when I write. When I’m at my desk I feel like most people would feel if they went on TV.” \nSaturday\, March 14\, 2026\n7:00pm\, Reserved Seating\n$31-$51
URL:https://pressplaysalem.com/calendar/an-evening-with-fran-lebowitz/
LOCATION:Salem’s Historic Grand Theatre\, 187 High St NE\, Salem\, OR\, 97301\, United States
CATEGORIES:talks + readings
ATTACH;FMTTYPE=image/png:https://pressplaysalem.com/wp-content/uploads/2026/02/2026-03-14-Grand.png
END:VEVENT
BEGIN:VEVENT
DTSTART;TZID=America/Vancouver:20260409T120000
DTEND;TZID=America/Vancouver:20260409T130000
DTSTAMP:20260424T053025
CREATED:20260402T162209Z
LAST-MODIFIED:20260402T162258Z
UID:10011530-1775736000-1775739600@pressplaysalem.com
SUMMARY:Closing a Chapter: Salem Police Chief Trevor Womack on Accomplishments\, Challenges and What Comes Next
DESCRIPTION:Salem Police Chief Trevor Womack recently announced his retirement effective May 22\, 2026. As reported in the Salem Reporter\, Chief Womack said\, “There’s no career like this.  It’s an incredible career.  Thankful and grateful that I had the honor of serving this way\, especially these last five years.”  Being Salem’s Police Chief was\, he said\, “the highest honor” of his career in law enforcement.  Upon retirement\, he plans to return to Stockton\, CA\, his hometown. \nChief Womack assumed leadership of our police department on December 7\, 2020.  Speaking to the Salem City Club in early 2021\, Womack mentioned that community outreach\, transparency from data-driven policing\, and increasing staffing would guide his leadership. \nJoin us to hear our Chief of Police reflect on accomplishments and challenges\, report on the status of public safety initiatives\, and the Salem Police Department’s  path forward.
URL:https://pressplaysalem.com/calendar/closing-a-chapter-salem-police-chief-trevor-womack-on-accomplishments-challenges-and-what-comes-next/
LOCATION:Willamette Heritage Center\, 1313 Mill St\, Salem\, 97301\, United States
CATEGORIES:community,education + learning,talks + readings
ATTACH;FMTTYPE=image/jpeg:https://pressplaysalem.com/wp-content/uploads/2026/04/Salem-City-Club-1.jpg
END:VEVENT
END:VCALENDAR