BEGIN:VCALENDAR
VERSION:2.0
PRODID:-//Press Play Salem - ECPv6.15.20//NONSGML v1.0//EN
CALSCALE:GREGORIAN
METHOD:PUBLISH
X-WR-CALNAME:Press Play Salem
X-ORIGINAL-URL:https://pressplaysalem.com
X-WR-CALDESC:Events for Press Play Salem
REFRESH-INTERVAL;VALUE=DURATION:PT1H
X-Robots-Tag:noindex
X-PUBLISHED-TTL:PT1H
BEGIN:VTIMEZONE
TZID:America/Vancouver
BEGIN:DAYLIGHT
TZOFFSETFROM:-0800
TZOFFSETTO:-0700
TZNAME:PDT
DTSTART:20250309T100000
END:DAYLIGHT
BEGIN:STANDARD
TZOFFSETFROM:-0700
TZOFFSETTO:-0800
TZNAME:PST
DTSTART:20251102T090000
END:STANDARD
BEGIN:DAYLIGHT
TZOFFSETFROM:-0800
TZOFFSETTO:-0700
TZNAME:PDT
DTSTART:20260308T100000
END:DAYLIGHT
BEGIN:STANDARD
TZOFFSETFROM:-0700
TZOFFSETTO:-0800
TZNAME:PST
DTSTART:20261101T090000
END:STANDARD
BEGIN:DAYLIGHT
TZOFFSETFROM:-0800
TZOFFSETTO:-0700
TZNAME:PDT
DTSTART:20270314T100000
END:DAYLIGHT
BEGIN:STANDARD
TZOFFSETFROM:-0700
TZOFFSETTO:-0800
TZNAME:PST
DTSTART:20271107T090000
END:STANDARD
END:VTIMEZONE
BEGIN:VEVENT
DTSTART;TZID=America/Vancouver:20260315T140000
DTEND;TZID=America/Vancouver:20260315T153000
DTSTAMP:20260424T023723
CREATED:20260208T014859Z
LAST-MODIFIED:20260208T014859Z
UID:10000661-1773583200-1773588600@pressplaysalem.com
SUMMARY:Silent Film Series: The Lost World (1925)
DESCRIPTION:The Elsinore Theatre Silent Film Series presents The Lost World (1925). \nThe Lost World is a 1925 American silent fantasy giant monster adventure film\, directed by Harry O. Hoyt and written by Marion Fairfax\, adapted from Arthur Conan Doyle’s 1912 novel of the same name. 1h 50m \nWith live organ accompaniment by Rick Parks on the Mighty Wurlitzer.
URL:https://pressplaysalem.com/calendar/silent-film-series-the-lost-world-1925/
LOCATION:Elsinore Theatre\, 170 High St SE\, Salem\, OR\, 97301\, United States
CATEGORIES:movie
END:VEVENT
END:VCALENDAR