BEGIN:VCALENDAR
VERSION:2.0
PRODID:-//Press Play Salem - ECPv6.15.20//NONSGML v1.0//EN
CALSCALE:GREGORIAN
METHOD:PUBLISH
X-WR-CALNAME:Press Play Salem
X-ORIGINAL-URL:https://pressplaysalem.com
X-WR-CALDESC:Events for Press Play Salem
REFRESH-INTERVAL;VALUE=DURATION:PT1H
X-Robots-Tag:noindex
X-PUBLISHED-TTL:PT1H
BEGIN:VTIMEZONE
TZID:America/Vancouver
BEGIN:DAYLIGHT
TZOFFSETFROM:-0800
TZOFFSETTO:-0700
TZNAME:PDT
DTSTART:20250309T100000
END:DAYLIGHT
BEGIN:STANDARD
TZOFFSETFROM:-0700
TZOFFSETTO:-0800
TZNAME:PST
DTSTART:20251102T090000
END:STANDARD
BEGIN:DAYLIGHT
TZOFFSETFROM:-0800
TZOFFSETTO:-0700
TZNAME:PDT
DTSTART:20260308T100000
END:DAYLIGHT
BEGIN:STANDARD
TZOFFSETFROM:-0700
TZOFFSETTO:-0800
TZNAME:PST
DTSTART:20261101T090000
END:STANDARD
BEGIN:DAYLIGHT
TZOFFSETFROM:-0800
TZOFFSETTO:-0700
TZNAME:PDT
DTSTART:20270314T100000
END:DAYLIGHT
BEGIN:STANDARD
TZOFFSETFROM:-0700
TZOFFSETTO:-0800
TZNAME:PST
DTSTART:20271107T090000
END:STANDARD
END:VTIMEZONE
BEGIN:VEVENT
DTSTART;TZID=America/Vancouver:20260510T150000
DTEND;TZID=America/Vancouver:20260510T170000
DTSTAMP:20260423T163745
CREATED:20260208T205700Z
LAST-MODIFIED:20260208T205715Z
UID:10011500-1778425200-1778432400@pressplaysalem.com
SUMMARY:Salem Pops Orchestra featuring True North Duo
DESCRIPTION:Hear Salem Pops Orchestra featuring special guests True North Duo (Kristen Grainger & Dan Wetzel) 3pm\, Sunday\, May 10\nSalem Pops is arranging six of True North’s original songs for orchestra and they will perform them together\, live.
URL:https://pressplaysalem.com/calendar/salem-pops-orchestra-featuring-true-north-duo/
LOCATION:East Salem Community Center\, 1850 45th Ave NE\, Salem\, 97305\, United States
CATEGORIES:concert + live music
ATTACH;FMTTYPE=image/png:https://pressplaysalem.com/wp-content/uploads/2026/02/IMG_2524.png
END:VEVENT
END:VCALENDAR