BEGIN:VCALENDAR
VERSION:2.0
PRODID:-//Press Play Salem - ECPv6.15.20//NONSGML v1.0//EN
CALSCALE:GREGORIAN
METHOD:PUBLISH
X-ORIGINAL-URL:https://pressplaysalem.com
X-WR-CALDESC:Events for Press Play Salem
REFRESH-INTERVAL;VALUE=DURATION:PT1H
X-Robots-Tag:noindex
X-PUBLISHED-TTL:PT1H
BEGIN:VTIMEZONE
TZID:America/Vancouver
BEGIN:DAYLIGHT
TZOFFSETFROM:-0800
TZOFFSETTO:-0700
TZNAME:PDT
DTSTART:20250309T100000
END:DAYLIGHT
BEGIN:STANDARD
TZOFFSETFROM:-0700
TZOFFSETTO:-0800
TZNAME:PST
DTSTART:20251102T090000
END:STANDARD
BEGIN:DAYLIGHT
TZOFFSETFROM:-0800
TZOFFSETTO:-0700
TZNAME:PDT
DTSTART:20260308T100000
END:DAYLIGHT
BEGIN:STANDARD
TZOFFSETFROM:-0700
TZOFFSETTO:-0800
TZNAME:PST
DTSTART:20261101T090000
END:STANDARD
BEGIN:DAYLIGHT
TZOFFSETFROM:-0800
TZOFFSETTO:-0700
TZNAME:PDT
DTSTART:20270314T100000
END:DAYLIGHT
BEGIN:STANDARD
TZOFFSETFROM:-0700
TZOFFSETTO:-0800
TZNAME:PST
DTSTART:20271107T090000
END:STANDARD
END:VTIMEZONE
BEGIN:VEVENT
DTSTART;TZID=America/Vancouver:20260418T193000
DTEND;TZID=America/Vancouver:20260418T210000
DTSTAMP:20260423T153057
CREATED:20260208T184755Z
LAST-MODIFIED:20260208T184755Z
UID:10000670-1776540600-1776546000@pressplaysalem.com
SUMMARY:Tommy Emmanuel CGP – Living In The Light Tour
DESCRIPTION:Hailed as “one of the best acoustic guitarists in the world” by NPR’s World Cafe\, Tommy Emmanuel got his start at the age of six\, when he first began touring his native Australia with his family’s band. As a teenager\, he earned a reputation as a highly sought after sideman and session player\, and by his early twenties\, Emmanuel was playing on chart-topping hits and performing with acts like Air Supply and Men at Work. Inspired in part by his hero\, Chet Atkins (who would later become a friend\, mentor\, and collaborator)\, Emmanuel stepped out on his own as a solo artist in 1979\, releasing the first in a string of acclaimed instrumental albums that would make him an unlikely celebrity in his home country and beyond. In the decades that followed\, he would go on to headline everywhere from the Sydney Opera House to Carnegie Hall; tour with luminaries like Eric Clapton and John Denver; win a Grammy Award for Best Instrumental Arrangement; perform for a televised audience of more than two billion at the Sydney Olympics; and collaborate with a who’s who of fellow guitar greats\, including Les Paul\, Mark Knopfler\, Joe Walsh\, Richard Thompson\, Jason Isbell\, and Billy Strings. \nRecorded in just four days\, Emmanuel’s latest album\, Living In The Light\, stands as the most daring—and most rewarding—collection in the globetrotting fingerpicker’s remarkable catalog\, fusing his pop\, jazz\, classical\, and roots influences into a virtuosic masterwork as exhilarating as it is intimate.
URL:https://pressplaysalem.com/calendar/tommy-emmanuel-cgp-living-in-the-light-tour/
LOCATION:Elsinore Theatre\, 170 High St SE\, Salem\, OR\, 97301\, United States
CATEGORIES:concert + live music
ATTACH;FMTTYPE=image/jpeg:https://pressplaysalem.com/wp-content/uploads/2026/02/Tommy-Emmanuel-New-Admat-1920-X-1080.jpg
END:VEVENT
END:VCALENDAR