BEGIN:VCALENDAR
VERSION:2.0
PRODID:-//Press Play Salem - ECPv6.15.20//NONSGML v1.0//EN
CALSCALE:GREGORIAN
METHOD:PUBLISH
X-WR-CALNAME:Press Play Salem
X-ORIGINAL-URL:https://pressplaysalem.com
X-WR-CALDESC:Events for Press Play Salem
REFRESH-INTERVAL;VALUE=DURATION:PT1H
X-Robots-Tag:noindex
X-PUBLISHED-TTL:PT1H
BEGIN:VTIMEZONE
TZID:America/Vancouver
BEGIN:DAYLIGHT
TZOFFSETFROM:-0800
TZOFFSETTO:-0700
TZNAME:PDT
DTSTART:20250309T100000
END:DAYLIGHT
BEGIN:STANDARD
TZOFFSETFROM:-0700
TZOFFSETTO:-0800
TZNAME:PST
DTSTART:20251102T090000
END:STANDARD
BEGIN:DAYLIGHT
TZOFFSETFROM:-0800
TZOFFSETTO:-0700
TZNAME:PDT
DTSTART:20260308T100000
END:DAYLIGHT
BEGIN:STANDARD
TZOFFSETFROM:-0700
TZOFFSETTO:-0800
TZNAME:PST
DTSTART:20261101T090000
END:STANDARD
BEGIN:DAYLIGHT
TZOFFSETFROM:-0800
TZOFFSETTO:-0700
TZNAME:PDT
DTSTART:20270314T100000
END:DAYLIGHT
BEGIN:STANDARD
TZOFFSETFROM:-0700
TZOFFSETTO:-0800
TZNAME:PST
DTSTART:20271107T090000
END:STANDARD
END:VTIMEZONE
BEGIN:VEVENT
DTSTART;TZID=America/Vancouver:20260407T190000
DTEND;TZID=America/Vancouver:20260407T220000
DTSTAMP:20260423T152743
CREATED:20260124T223713Z
LAST-MODIFIED:20260124T223713Z
UID:10000538-1775588400-1775599200@pressplaysalem.com
SUMMARY:First Tuesday Music & Poetry Open Mic
DESCRIPTION:Salem’s Historic Grand is pleased to invite performers of all varieties to take the ballroom stage the first Tuesday of every month! Musicians\, bands\, poets\, and all other performers are encouraged to sign up and share your talent! Hosted by Matador Hamilton and Danny Shaw of Giantess. \nDoors at 6:30\, show 7pm-10pm. No admission\, all ages. Sign ups open with doors at 6:30. \nIf your band would like to perform\, please reach out to Matador Hamilton via Facebook or @matadormakesmusic on Instagram and let him know which backline gear your band will need.
URL:https://pressplaysalem.com/calendar/first-tuesday-music-poetry-open-mic/2026-04-07/
LOCATION:Salem’s Historic Grand Theatre\, 187 High St NE\, Salem\, OR\, 97301\, United States
CATEGORIES:activity,concert + live music
ATTACH;FMTTYPE=image/png:https://pressplaysalem.com/wp-content/uploads/2026/01/Grand-Open-Mic.png
END:VEVENT
BEGIN:VEVENT
DTSTART;TZID=America/Vancouver:20260407T193000
DTEND;TZID=America/Vancouver:20260407T210000
DTSTAMP:20260423T152743
CREATED:20260208T184527Z
LAST-MODIFIED:20260208T195320Z
UID:10000669-1775590200-1775595600@pressplaysalem.com
SUMMARY:Black Violin: Full Circle Tour 2026
DESCRIPTION:Step into Black Violin’s Full Circle Tour\, where GRAMMY-nominated duo Wil Baptiste and Kev Marcus redefine the possibilities of music by merging classical depth with hip-hop’s pulse. This tour captures the essence of returning to where it all began—transformed and reimagined. Each powerful performance invites audiences to reflect on their own journeys\, discovering that even as we evolve\, we’re often drawn back to our roots with renewed purpose. \nFrom high school orchestra classmates to groundbreaking artists\, Black Violin’s path reflects resilience\, creativity\, and the courage to challenge expectations. With their Black Violin Foundation reaching over 100\,000 students each year\, they’re building a legacy that transcends the stage\, inspiring a new generation to dream boldly. Join them for an unforgettable night that celebrates growth\, music\, and the beauty of coming full circle. \nVIP Available
URL:https://pressplaysalem.com/calendar/black-violin-full-circle-tour-2026/
CATEGORIES:concert + live music
ATTACH;FMTTYPE=image/png:https://pressplaysalem.com/wp-content/uploads/2026/02/2026-04-07-Black-Violin-4x5-1.png
END:VEVENT
END:VCALENDAR