BEGIN:VCALENDAR
VERSION:2.0
PRODID:-//Press Play Salem - ECPv6.15.20//NONSGML v1.0//EN
CALSCALE:GREGORIAN
METHOD:PUBLISH
X-ORIGINAL-URL:https://pressplaysalem.com
X-WR-CALDESC:Events for Press Play Salem
REFRESH-INTERVAL;VALUE=DURATION:PT1H
X-Robots-Tag:noindex
X-PUBLISHED-TTL:PT1H
BEGIN:VTIMEZONE
TZID:America/Vancouver
BEGIN:DAYLIGHT
TZOFFSETFROM:-0800
TZOFFSETTO:-0700
TZNAME:PDT
DTSTART:20250309T100000
END:DAYLIGHT
BEGIN:STANDARD
TZOFFSETFROM:-0700
TZOFFSETTO:-0800
TZNAME:PST
DTSTART:20251102T090000
END:STANDARD
BEGIN:DAYLIGHT
TZOFFSETFROM:-0800
TZOFFSETTO:-0700
TZNAME:PDT
DTSTART:20260308T100000
END:DAYLIGHT
BEGIN:STANDARD
TZOFFSETFROM:-0700
TZOFFSETTO:-0800
TZNAME:PST
DTSTART:20261101T090000
END:STANDARD
BEGIN:DAYLIGHT
TZOFFSETFROM:-0800
TZOFFSETTO:-0700
TZNAME:PDT
DTSTART:20270314T100000
END:DAYLIGHT
BEGIN:STANDARD
TZOFFSETFROM:-0700
TZOFFSETTO:-0800
TZNAME:PST
DTSTART:20271107T090000
END:STANDARD
END:VTIMEZONE
BEGIN:VEVENT
DTSTART;TZID=America/Vancouver:20260319T190000
DTEND;TZID=America/Vancouver:20260319T210000
DTSTAMP:20260423T164108
CREATED:20260208T013734Z
LAST-MODIFIED:20260208T013734Z
UID:10000657-1773946800-1773954000@pressplaysalem.com
SUMMARY:Glitterfox
DESCRIPTION:Glitterfox doesn’t chase the algorithm – they follow instinct\, community\, and a kind of magia (Basque for magic). Formed by longtime creative partners Solange Igoa and Andrea Walker\, Portland’s Glitterfox has built their career the analog way: a van\, a map\, and unforgettable shows stitched across towns like constellations. Their rise has been defined by raw connection and fearless self-expression\, with music that fuses garage rock grit\, new wave shimmer\, southern Americana soul\, and a dancefloor pulse — all tangled with heart and heat until what emerges is unmistakably\, inimitably Glitterfox. \nTheir debut full-length “decoder” (out August 2024 via Jealous Butcher Records) is a supernova of sound and spirit — a soundtrack for becoming\, undoing\, and becoming again. The album traces deeply personal terrain: queer love\, personal transformation\, neurodivergence\, and the emotional aftershocks of a romantic split between Igoa and Walker\, who remain deeply connected musical collaborators. Tracks like “Passenger\,” “Change Me\,” “Polaroids\,” and the deceptively euphoric “Wildfires” showcase their ability to turn vulnerability into voltage. \nNow joined by Eric Stalker and Blaine Heinonen\, Glitterfox is more than a band — they’re chosen family\, held together by sound and the invisible threads that music always knows how to weave. Whether launching Portland’s annual Glitterfest as a wedding reception or channeling the messy middle of life into something unforgettable\, Glitterfox’s gift is their transparency\, their defiance\, and their freedom — sung loud. \nThursday\, March 19 \nDoors at 7 | Show at 8 \n$20 preshow + fees | $25 at doors
URL:https://pressplaysalem.com/calendar/glitterfox/
LOCATION:Salem’s Historic Grand Theatre\, 187 High St NE\, Salem\, OR\, 97301\, United States
CATEGORIES:concert + live music
ATTACH;FMTTYPE=image/png:https://pressplaysalem.com/wp-content/uploads/2026/02/2026-03-19-Grand.png
END:VEVENT
END:VCALENDAR