BEGIN:VCALENDAR
VERSION:2.0
PRODID:-//Press Play Salem - ECPv6.15.20//NONSGML v1.0//EN
CALSCALE:GREGORIAN
METHOD:PUBLISH
X-ORIGINAL-URL:https://pressplaysalem.com
X-WR-CALDESC:Events for Press Play Salem
REFRESH-INTERVAL;VALUE=DURATION:PT1H
X-Robots-Tag:noindex
X-PUBLISHED-TTL:PT1H
BEGIN:VTIMEZONE
TZID:America/Vancouver
BEGIN:DAYLIGHT
TZOFFSETFROM:-0800
TZOFFSETTO:-0700
TZNAME:PDT
DTSTART:20250309T100000
END:DAYLIGHT
BEGIN:STANDARD
TZOFFSETFROM:-0700
TZOFFSETTO:-0800
TZNAME:PST
DTSTART:20251102T090000
END:STANDARD
BEGIN:DAYLIGHT
TZOFFSETFROM:-0800
TZOFFSETTO:-0700
TZNAME:PDT
DTSTART:20260308T100000
END:DAYLIGHT
BEGIN:STANDARD
TZOFFSETFROM:-0700
TZOFFSETTO:-0800
TZNAME:PST
DTSTART:20261101T090000
END:STANDARD
BEGIN:DAYLIGHT
TZOFFSETFROM:-0800
TZOFFSETTO:-0700
TZNAME:PDT
DTSTART:20270314T100000
END:DAYLIGHT
BEGIN:STANDARD
TZOFFSETFROM:-0700
TZOFFSETTO:-0800
TZNAME:PST
DTSTART:20271107T090000
END:STANDARD
END:VTIMEZONE
BEGIN:VEVENT
DTSTART;TZID=America/Vancouver:20260318T193000
DTEND;TZID=America/Vancouver:20260318T210000
DTSTAMP:20260423T165807
CREATED:20260208T213008Z
LAST-MODIFIED:20260208T213008Z
UID:10011508-1773862200-1773867600@pressplaysalem.com
SUMMARY:Strings of Memory
DESCRIPTION:Wonder Wednesday: Strings of Memory\nwith Melissa Terrall and Christine Ebersohl-Van Scyoc\n\n\n\n\nJoin us for an evening of international music featuring Melissa Terrall and Christina Ebersohl-Van Scyoc \n\n\n\n\nEmbark on a powerful musical journey that spans continents\, cultures\, and centuries. Strings of Memory weaves together the passionate voices of Mexico and the Arab world in a program that explores how composers express national identity\, tradition\, and deep human emotion through classical music. \nFeaturing acclaimed performers Melissa Terrall on piano and Christina Ebersohl-Van Scyoc on viola\, the evening highlights José Pablo Moncayo’s emotionally charged Viola Sonata and Dia Succari’s colorful\, rhythm-driven 5 Syrian Dances. Two additional solo works\, one rooted in Mexican tradition and one inspired by Arab heritagem\, offer an intimate\, personal glimpse into the soul of each culture. \nBlending the familiar with the unexpected\, this concert celebrates the beauty of musical dialogue across borders\, inviting listeners to hear classical music through a vibrant\, global lens. From fiery melodies to lyrical reflections\, Strings of Memory promises an evening that is both moving and unforgettable. \nExperience the stories\, rhythms\, and emotions that connect us all. \n\n\n\n\nThe College is an equal opportunity/affirmative action employer and educational institution committed to an environment free of discrimination and harassment. Questions regarding sexual harassment\, discrimination and misconduct policies and filing a complaint contact the Title IX coordinator at 503.584.7323. For questions about equal employment opportunity and/or affirmative action\, contact 503.399.2537. To request this publication in an alternative format\, please call 503.399.5192. For disability related accommodation\, please contact Student Accessibility Services at least two weeks prior to the event at 503.399.5192 (TTY/voice) or studentaccess@chemeketa.edu. \nBox office assistance can be reached at 503-399-6980 or auditorium@chemeketa.edu.
URL:https://pressplaysalem.com/calendar/strings-of-memory/
LOCATION:Chemeketa Auditorium\, 4000 Lancaster Dr NE\, BLDG 6\, Salem\, OR\, 97305\, United States
CATEGORIES:concert + live music
ATTACH;FMTTYPE=image/jpeg:https://pressplaysalem.com/wp-content/uploads/2026/02/2026-03-18-CCC.jpg
END:VEVENT
END:VCALENDAR