BEGIN:VCALENDAR
VERSION:2.0
PRODID:-//Press Play Salem - ECPv6.15.20//NONSGML v1.0//EN
CALSCALE:GREGORIAN
METHOD:PUBLISH
X-WR-CALNAME:Press Play Salem
X-ORIGINAL-URL:https://pressplaysalem.com
X-WR-CALDESC:Events for Press Play Salem
REFRESH-INTERVAL;VALUE=DURATION:PT1H
X-Robots-Tag:noindex
X-PUBLISHED-TTL:PT1H
BEGIN:VTIMEZONE
TZID:America/Vancouver
BEGIN:DAYLIGHT
TZOFFSETFROM:-0800
TZOFFSETTO:-0700
TZNAME:PDT
DTSTART:20250309T100000
END:DAYLIGHT
BEGIN:STANDARD
TZOFFSETFROM:-0700
TZOFFSETTO:-0800
TZNAME:PST
DTSTART:20251102T090000
END:STANDARD
BEGIN:DAYLIGHT
TZOFFSETFROM:-0800
TZOFFSETTO:-0700
TZNAME:PDT
DTSTART:20260308T100000
END:DAYLIGHT
BEGIN:STANDARD
TZOFFSETFROM:-0700
TZOFFSETTO:-0800
TZNAME:PST
DTSTART:20261101T090000
END:STANDARD
BEGIN:DAYLIGHT
TZOFFSETFROM:-0800
TZOFFSETTO:-0700
TZNAME:PDT
DTSTART:20270314T100000
END:DAYLIGHT
BEGIN:STANDARD
TZOFFSETFROM:-0700
TZOFFSETTO:-0800
TZNAME:PST
DTSTART:20271107T090000
END:STANDARD
END:VTIMEZONE
BEGIN:VEVENT
DTSTART;TZID=America/Vancouver:20260309T190000
DTEND;TZID=America/Vancouver:20260309T210000
DTSTAMP:20260423T164303
CREATED:20260202T010604Z
LAST-MODIFIED:20260202T010604Z
UID:10000610-1773082800-1773090000@pressplaysalem.com
SUMMARY:Toast: The Best of Bread
DESCRIPTION:TOAST is the No. 1 Tribute to BREAD and one of the TOP tribute acts in the WORLD!\n\nOver their career\, Bread scored 13 hits on Billboard’s Top 100! The two surviving members of Bread (David Gates & Robb Royer) are happily retired and enjoying their time with family and the fruits of their musical careers. Enter TOAST – The Ultimate Bread Experience who does everything possible to keep the legacy of Bread alive. \nWith a surprising fidelity rarely heard from a live tribute band\, their sound is often described as “spot on” to the original recordings. Audiences everywhere rave about how closely their live performances sound like the cherished records they listened to back in the day. \nTOAST will take you on a journey back in time\, engaging a spectrum of emotions; from the tender moments that tug on the heartstrings to the upbeat classics that compel you to jump out of your seat and dance. And when combined with truly timeless music\, this concert will “rise” to the top as one of your absolute favorite concerts of all time!
URL:https://pressplaysalem.com/calendar/toast-the-best-of-bread/
LOCATION:Elsinore Theatre\, 170 High St SE\, Salem\, OR\, 97301\, United States
CATEGORIES:concert + live music
END:VEVENT
END:VCALENDAR