BEGIN:VCALENDAR
VERSION:2.0
PRODID:-//Press Play Salem - ECPv6.15.20//NONSGML v1.0//EN
CALSCALE:GREGORIAN
METHOD:PUBLISH
X-WR-CALNAME:Press Play Salem
X-ORIGINAL-URL:https://pressplaysalem.com
X-WR-CALDESC:Events for Press Play Salem
REFRESH-INTERVAL;VALUE=DURATION:PT1H
X-Robots-Tag:noindex
X-PUBLISHED-TTL:PT1H
BEGIN:VTIMEZONE
TZID:America/Vancouver
BEGIN:DAYLIGHT
TZOFFSETFROM:-0800
TZOFFSETTO:-0700
TZNAME:PDT
DTSTART:20250309T100000
END:DAYLIGHT
BEGIN:STANDARD
TZOFFSETFROM:-0700
TZOFFSETTO:-0800
TZNAME:PST
DTSTART:20251102T090000
END:STANDARD
BEGIN:DAYLIGHT
TZOFFSETFROM:-0800
TZOFFSETTO:-0700
TZNAME:PDT
DTSTART:20260308T100000
END:DAYLIGHT
BEGIN:STANDARD
TZOFFSETFROM:-0700
TZOFFSETTO:-0800
TZNAME:PST
DTSTART:20261101T090000
END:STANDARD
BEGIN:DAYLIGHT
TZOFFSETFROM:-0800
TZOFFSETTO:-0700
TZNAME:PDT
DTSTART:20270314T100000
END:DAYLIGHT
BEGIN:STANDARD
TZOFFSETFROM:-0700
TZOFFSETTO:-0800
TZNAME:PST
DTSTART:20271107T090000
END:STANDARD
END:VTIMEZONE
BEGIN:VEVENT
DTSTART;TZID=America/Vancouver:20260308T080000
DTEND;TZID=America/Vancouver:20260308T170000
DTSTAMP:20260423T164022
CREATED:20260208T202613Z
LAST-MODIFIED:20260208T210014Z
UID:10000700-1772956800-1772989200@pressplaysalem.com
SUMMARY:Fete des Femmes
DESCRIPTION:Fete des Femmes: A musical celebration of International Women’s Month featuring performances by Willamette’s Award-Winning Music Faculty and Special Guests \nSunday\, March 8\, 2026 • 2:00 p.m. \nHudson Concert Hall\nMary Stuart Rogers Music Center\nIn its fifth annual tribute to International Women’s Day\, Willamette Music brings together an extraordinary array of performances from around the globe and through the decades\, all in celebration of countless contributions women have made to the world of music. Join us in celebrating the timeless voices and talents that have paved the way for centuries of female musicians and artists.
URL:https://pressplaysalem.com/calendar/fete-des-femmes/
LOCATION:Hudson Concert Hall at Willamette University\, Salem\, OR\, United States
CATEGORIES:concert + live music
ATTACH;FMTTYPE=image/png:https://pressplaysalem.com/wp-content/uploads/2026/02/25-26-fete-showmoji.png
END:VEVENT
BEGIN:VEVENT
DTSTART;TZID=America/Vancouver:20260308T150000
DTEND;TZID=America/Vancouver:20260308T170000
DTSTAMP:20260423T164022
CREATED:20260208T205938Z
LAST-MODIFIED:20260208T205938Z
UID:10011501-1772982000-1772989200@pressplaysalem.com
SUMMARY:Around the World in 80 Minutes
DESCRIPTION:Experience Around the World in 80 minutes with Yvonne Hseuh\, violin\, and the Salem Pops Orchestra
URL:https://pressplaysalem.com/calendar/around-theworld-in-80-minutes/
LOCATION:East Salem Community Center\, 1850 45th Ave NE\, Salem\, 97305\, United States
CATEGORIES:concert + live music
ATTACH;FMTTYPE=image/avif:https://pressplaysalem.com/wp-content/uploads/2026/02/Salem-pops-march.avif
END:VEVENT
END:VCALENDAR