BEGIN:VCALENDAR
VERSION:2.0
PRODID:-//Press Play Salem - ECPv6.15.20//NONSGML v1.0//EN
CALSCALE:GREGORIAN
METHOD:PUBLISH
X-ORIGINAL-URL:https://pressplaysalem.com
X-WR-CALDESC:Events for Press Play Salem
REFRESH-INTERVAL;VALUE=DURATION:PT1H
X-Robots-Tag:noindex
X-PUBLISHED-TTL:PT1H
BEGIN:VTIMEZONE
TZID:America/Vancouver
BEGIN:DAYLIGHT
TZOFFSETFROM:-0800
TZOFFSETTO:-0700
TZNAME:PDT
DTSTART:20250309T100000
END:DAYLIGHT
BEGIN:STANDARD
TZOFFSETFROM:-0700
TZOFFSETTO:-0800
TZNAME:PST
DTSTART:20251102T090000
END:STANDARD
BEGIN:DAYLIGHT
TZOFFSETFROM:-0800
TZOFFSETTO:-0700
TZNAME:PDT
DTSTART:20260308T100000
END:DAYLIGHT
BEGIN:STANDARD
TZOFFSETFROM:-0700
TZOFFSETTO:-0800
TZNAME:PST
DTSTART:20261101T090000
END:STANDARD
BEGIN:DAYLIGHT
TZOFFSETFROM:-0800
TZOFFSETTO:-0700
TZNAME:PDT
DTSTART:20270314T100000
END:DAYLIGHT
BEGIN:STANDARD
TZOFFSETFROM:-0700
TZOFFSETTO:-0800
TZNAME:PST
DTSTART:20271107T090000
END:STANDARD
END:VTIMEZONE
BEGIN:VEVENT
DTSTART;TZID=America/Vancouver:20260203T190000
DTEND;TZID=America/Vancouver:20260203T220000
DTSTAMP:20260423T163952
CREATED:20260124T223713Z
LAST-MODIFIED:20260124T223713Z
UID:10000536-1770145200-1770156000@pressplaysalem.com
SUMMARY:First Tuesday Music & Poetry Open Mic
DESCRIPTION:Salem’s Historic Grand is pleased to invite performers of all varieties to take the ballroom stage the first Tuesday of every month! Musicians\, bands\, poets\, and all other performers are encouraged to sign up and share your talent! Hosted by Matador Hamilton and Danny Shaw of Giantess. \nDoors at 6:30\, show 7pm-10pm. No admission\, all ages. Sign ups open with doors at 6:30. \nIf your band would like to perform\, please reach out to Matador Hamilton via Facebook or @matadormakesmusic on Instagram and let him know which backline gear your band will need.
URL:https://pressplaysalem.com/calendar/first-tuesday-music-poetry-open-mic/2026-02-03/
LOCATION:Salem’s Historic Grand Theatre\, 187 High St NE\, Salem\, OR\, 97301\, United States
CATEGORIES:activity,concert + live music
ATTACH;FMTTYPE=image/png:https://pressplaysalem.com/wp-content/uploads/2026/01/Grand-Open-Mic.png
END:VEVENT
BEGIN:VEVENT
DTSTART;TZID=America/Vancouver:20260203T193000
DTEND;TZID=America/Vancouver:20260203T210000
DTSTAMP:20260423T163952
CREATED:20260124T210445Z
LAST-MODIFIED:20260124T210445Z
UID:10000002-1770147000-1770152400@pressplaysalem.com
SUMMARY:Mania: The ABBA Tribute
DESCRIPTION:Take A Chance On MANIA……and you won’t be disappointed! \nMania the ABBA Tribute has successfully toured every continent in the world and has played over 3\,000 live concerts in over 35 countries. Recent highlights included a second run in London’s West End where the show performed for a month in the iconic Shaftesbury Theatre\, London in May 2021. The show also enjoyed an 80-date sell-out USA National tour in 2022/2023\, Mania continues in its quest to bring the music of the Swedish ’Supergroup’ to millions of fans\, old and new! \nFeaturing an extraordinary cast of talented musicians and performers\, Mania: The ABBA Tribute delivers an authentic and unforgettable tribute to the legendary Swedish band that has captured the hearts of fans for generations. With stunning costumes\, energetic choreography\, and impeccable musicianship\, Mania: The ABBA Tribute recreates the magic of ABBA’s music in all its glory. From “Dancing Queen” to “Waterloo\,” “Mamma Mia” to “Take a Chance on Me\,” the band performs all of ABBA’s greatest hits with passion and precision\, transporting audiences back to the disco era of the 1970s. \nThe upcoming tour promises to be an unforgettable experience for fans of ABBA and lovers of great music. With stunning visuals\, electrifying performances\, and all of ABBA’s greatest hits\, Mania: The ABBA Tribute is a hit with audiences worldwide and Maniacs who return every year!
URL:https://pressplaysalem.com/calendar/mania-the-abba-tribute/
LOCATION:Elsinore Theatre\, 170 High St SE\, Salem\, OR\, 97301\, United States
CATEGORIES:concert + live music
ATTACH;FMTTYPE=image/jpeg:https://pressplaysalem.com/wp-content/uploads/2026/01/Mania-2025-1920x1080-Plain.jpg
END:VEVENT
BEGIN:VEVENT
DTSTART;TZID=America/Vancouver:20260206T193000
DTEND;TZID=America/Vancouver:20260206T210000
DTSTAMP:20260423T163952
CREATED:20260124T211645Z
LAST-MODIFIED:20260124T211645Z
UID:10000003-1770406200-1770411600@pressplaysalem.com
SUMMARY:Eagle Eyes — Eagles Tribute
DESCRIPTION:Eagle Eyes – Eagles tribute is ‘THE’ tribute to the legendary California country rock band. Audiences are mesmerized by this group of Vancouver\, B.C. musicians’ precise vocal harmonies and service to the smallest of details in performing songs spanning the extensive Eagles’ Rock N’ Roll Hall of Fame Career (including a few selections from Eagles’ solo careers!).
URL:https://pressplaysalem.com/calendar/eagle-eyes-eagles-tribute/
LOCATION:Elsinore Theatre\, 170 High St SE\, Salem\, OR\, 97301\, United States
CATEGORIES:concert + live music
ATTACH;FMTTYPE=image/jpeg:https://pressplaysalem.com/wp-content/uploads/2026/01/26-0206-ELSINORE-Eagle-Eyes-FB-Cover.jpg
END:VEVENT
BEGIN:VEVENT
DTSTART;TZID=America/Vancouver:20260211T193000
DTEND;TZID=America/Vancouver:20260211T210000
DTSTAMP:20260423T163952
CREATED:20260208T212514Z
LAST-MODIFIED:20260208T212514Z
UID:10011505-1770838200-1770843600@pressplaysalem.com
SUMMARY:The Great American Love Songbook
DESCRIPTION:Wonder Wednesday: The Great American Love Songbook with Tune Tours\nSet the mood for Valentine’s season with an evening of timeless romance and unforgettable live music with a backdrop of stunning visuals. TUNE TOURS brings together seasoned\, Oregon-based musicians Jon Deshler (trumpet) and Neal Grandstaff (guitar)\, longtime collaborators known for their warm\, expressive performances and deep roots in jazz and American song. Born out of a desire to keep live music thriving during the shutdowns of 2020\, TUNE TOURS has grown into a beloved project celebrated across the state.\n\nThis unique performance will include Jon’s stunning multimedia archives of historic jazz performances including Chet Baker\, Count Basie and Peggy Lee – Jazz Passages.\nJoining them is Finn Yang\, a remarkably talented young pianist whose musical maturity and sensitivity bring fresh energy to the group. Together\, the trio presents a special pre-Valentine’s performance inspired by the Great American Love Songbook\, featuring classic love songs made famous by legends of jazz and popular music.\n\nRomantic\, swinging\, and heartfelt\, this concert is the perfect night out for couples\, friends\, and anyone who loves beautifully crafted songs. Celebrate love with live music that speaks straight to the heart.
URL:https://pressplaysalem.com/calendar/the-great-american-love-songbook/
LOCATION:Chemeketa Auditorium\, 4000 Lancaster Dr NE\, BLDG 6\, Salem\, OR\, 97305\, United States
CATEGORIES:concert + live music
ATTACH;FMTTYPE=image/jpeg:https://pressplaysalem.com/wp-content/uploads/2026/02/2026-02-11-CCC.jpg
END:VEVENT
BEGIN:VEVENT
DTSTART;TZID=America/Vancouver:20260212T193000
DTEND;TZID=America/Vancouver:20260212T210000
DTSTAMP:20260423T163952
CREATED:20260124T211822Z
LAST-MODIFIED:20260124T211822Z
UID:10000004-1770924600-1770930000@pressplaysalem.com
SUMMARY:Vitamin String Quartet
DESCRIPTION:Vitamin String Quartet (VSQ) is one of the most popular string ensembles in the world. Erasing the boundaries between classical\, dance\, hip-hop and pop\, VSQ performs spellbinding renditions of everything from Billie Eilish to BTS\, Taylor Swift to The Weeknd\, and Danny Elfman to Daft Punk. Praised by the likes of Buzzfeed\, The New York Times\, Consequence of Sound\, Nerdist and more\, VSQ has garnered over 2 billion streams and numerous Billboard chartings since its inception. VSQ can also be heard in numerous hit shows\, including Netflix’s Bridgerton\, HBO’s Westworld\, and ABC’s Modern Family. \nClick here for tickets.
URL:https://pressplaysalem.com/calendar/vitamin-string-quartet/
LOCATION:Elsinore Theatre\, 170 High St SE\, Salem\, OR\, 97301\, United States
CATEGORIES:concert + live music
ATTACH;FMTTYPE=image/jpeg:https://pressplaysalem.com/wp-content/uploads/2026/01/VSQ-169-scaled.jpg
END:VEVENT
BEGIN:VEVENT
DTSTART;TZID=America/Vancouver:20260212T200000
DTEND;TZID=America/Vancouver:20260212T213000
DTSTAMP:20260423T163952
CREATED:20260124T223956Z
LAST-MODIFIED:20260124T223956Z
UID:10000596-1770926400-1770931800@pressplaysalem.com
SUMMARY:Dan Kelly: Anthem Tour
DESCRIPTION:Born in Tupelo\, Mississippi\, Dan Kelly is best known as the powerhouse frontman of Fortunate Youth\, the Southern California rock-reggae band with over 70 million streams and 16 years of nonstop touring. Now\, Kelly is taking a new step forward with his solo project\, blending the soulful\, bluesy\, and country roots of his Southern upbringing with the heartfelt energy fans have come to love. \nThe Anthem Tour showcases a fresh side of Dan Kelly — a rich\, genre-bending mix of soul\, blues\, folk\, and rock-reggae that reveals the depth of his artistry. It’s a sound that’s both familiar and brand new: fun\, emotional\, and full of heart. \nWhether you’ve followed Fortunate Youth from the start or you’re discovering Dan Kelly for the first time\, this is a show that celebrates the full range of his musical spirit. \nFeaturing special guests Cas Haley\, Kevin Kinsella\, John Landry\, and Ike Kanakanui\, the Anthem Tour is a night of collaboration\, groove\, and soul you won’t want to miss!
URL:https://pressplaysalem.com/calendar/dan-kelly-anthem-tour/
LOCATION:Salem’s Historic Grand Theatre\, 187 High St NE\, Salem\, OR\, 97301\, United States
CATEGORIES:concert + live music
ATTACH;FMTTYPE=image/jpeg:https://pressplaysalem.com/wp-content/uploads/2026/01/2026-02-12-Dan-Kelly.jpg
END:VEVENT
BEGIN:VEVENT
DTSTART;TZID=America/Vancouver:20260213T200000
DTEND;TZID=America/Vancouver:20260213T213000
DTSTAMP:20260423T163952
CREATED:20260124T224109Z
LAST-MODIFIED:20260124T224109Z
UID:10000597-1771012800-1771018200@pressplaysalem.com
SUMMARY:Innocent Men A Billy JOel Tribute
DESCRIPTION:📅 Friday\, February 13th\, 2026\n⏰ Doors at 7:00 PM | Show at 8:00 PM\n💵 $25 plus fees online | $30 at doors\n🎟️ General Admission | All ages \nClick Here To Request ADA Seating \nInnocent Men – Billy Joel tribute presents the timeless energy\, heart\, and storytelling of one of music’s greatest songwriters with unmatched authenticity. Vocalist and pianist Kevin Burkhart channels Joel’s signature sound with precision and the group brings every era of a legendary career to life—from the soulful grit of ‘Big Shot’\, to Joel’s signature ‘Scenes From An Italian Restaurant’\, to the high-octane fun of ‘I Go To Extremes’. The Innocent Men transform every stage into a sing-along spectacle that keeps audiences on their feet; they’re the next best thing to seeing Billy Joel himself. \nwww.j-fell.com
URL:https://pressplaysalem.com/calendar/innocent-men-a-billy-joel-tribute/
LOCATION:Salem’s Historic Grand Theatre\, 187 High St NE\, Salem\, OR\, 97301\, United States
CATEGORIES:concert + live music
ATTACH;FMTTYPE=image/png:https://pressplaysalem.com/wp-content/uploads/2026/01/2026-02-13-Innocent-Men.png
END:VEVENT
BEGIN:VEVENT
DTSTART;TZID=America/Vancouver:20260214T193000
DTEND;TZID=America/Vancouver:20260214T210000
DTSTAMP:20260423T163952
CREATED:20260124T212401Z
LAST-MODIFIED:20260124T212415Z
UID:10000006-1771097400-1771102800@pressplaysalem.com
SUMMARY:Taken By The Sky: A Tribute to Fleetwood Mac
DESCRIPTION:Taken By The Sky – Fleetwood Mac tribute captures audiences with their authentic performance of the iconic band at the height of their career\, representing the music known & loved by millions. The 6-piece from Portland\, OR has taken flight with their gorgeous harmonies\, unmistakable musicianship and captivating stage show. \nwww.j-fell.com/takenbythesky \nClick here for tickets.
URL:https://pressplaysalem.com/calendar/taken-by-the-sky-a-tribute-to-fleetwood-mac/
LOCATION:Elsinore Theatre\, 170 High St SE\, Salem\, OR\, 97301\, United States
CATEGORIES:concert + live music
ATTACH;FMTTYPE=image/jpeg:https://pressplaysalem.com/wp-content/uploads/2026/01/26-0124-ELSINORE-Taken-Horz-Cover.jpg
END:VEVENT
BEGIN:VEVENT
DTSTART;TZID=America/Vancouver:20260215T200000
DTEND;TZID=America/Vancouver:20260215T220000
DTSTAMP:20260423T163952
CREATED:20260124T212757Z
LAST-MODIFIED:20260124T212757Z
UID:10000007-1771185600-1771192800@pressplaysalem.com
SUMMARY:Shaun Cassidy: The Road To Us
DESCRIPTION:Shaun Cassidy is an American writer\, producer\, actor and singer. After originally making his name as a performer\, Cassidy went on to create\, write\, and produce a number of critically acclaimed television series including AMERICAN GOTHIC (produced with Sam Raimi)\, ROAR (starring Heath Ledger)\, COLD CASE\, COVER ME\, THE AGENCY\, INVASION\, and EMERALD CITY. Cassidy most recently spent five years as executive producer and writer for the hit NBC/NETFLIX series NEW AMSTERDAM.\n\nThe son of Tony award winning actor Jack Cassidy and Academy award winner Shirley Jones (and half-brother of the late singer/actor David Cassidy)\, Shaun grew up in Los Angeles and New York City. While still in high school\, he signed a contract with Warner Brothers records. This led to three multi-platinum albums and numerous top ten hits including “Da Doo Ron Ron”\, “That’s Rock n’ Roll”\, “Hey Deanie”\, and “Do You Believe In Magic?” Cassidy received a Grammy nomination for his efforts and performed at every major arena in the country including Houston’s Astrodome and New York’s Madison Square Garden. Almost concurrently\, he starred in the ABC television series THE HARDY BOYS MYSTERIES. Later\, while appearing on Broadway in the hit musical BLOOD BROTHERS\, Shaun wrote his first television pilot\, AMERICAN GOTHIC. When the show debuted\, The New York Times called it “The most original new show of the season.”\n\nFrom 2020-2024\, Cassidy took his self-penned music and storytelling show\, THE MAGIC OF A MIDNIGHT SKY\, to the stage\, playing to SRO crowds nationwide. During the pandemic\, in collaboration with No Kid Hungry\, he successfully introduced a collection of fine wines\, MY FIRST CRUSH\, which donates money to feed hungry children nationwide.\n\nCurrently working under an exclusive long term development deal with NBC/Universal television\, Shaun makes his home in the wine country of Santa Barbara with his wife\, Tracey\, their four children\, and more animals than he can count.\n\nVIP Q&A Experience:\n\n\nOne Premium Reserved Ticket\nEarly entry into the venue\nIntimate pre-show group Q&A led by Shaun Cassidy\nGroup photo in front of the stage with Shaun Cassidy\nAutographed Shaun Cassidy photo and map: The Road to US\nRetro “I LOVE SHAUN” temporary tattoo\nShaun Cassidy My First Crush wine koozie\nShaun Cassidy tote bag\nOfficial VIP laminate & lanyard\nLimited Availability
URL:https://pressplaysalem.com/calendar/shaun-cassidy-the-road-to-us/
LOCATION:Elsinore Theatre\, 170 High St SE\, Salem\, OR\, 97301\, United States
CATEGORIES:concert + live music
ATTACH;FMTTYPE=image/jpeg:https://pressplaysalem.com/wp-content/uploads/2026/01/SHAUNCASSIDY4-scaled.jpg
END:VEVENT
BEGIN:VEVENT
DTSTART;TZID=America/Vancouver:20260221T190000
DTEND;TZID=America/Vancouver:20260221T190000
DTSTAMP:20260423T163952
CREATED:20260124T225002Z
LAST-MODIFIED:20260124T225410Z
UID:10000601-1771700400-1771700400@pressplaysalem.com
SUMMARY:The Fools with HÖG and Boundless Joy
DESCRIPTION:February 21\, 2026 \nDoors at 6:30 | Show at 7 \n$13 presale | $18 day of show | 21+ \nIn the Ballroom \nSalem’s own blues-inspired heavy rock band The Fools performs with Portland’s grimy\, dark rock group HÖG and Salem’s heavy rock/classic metal/hard funk band Boundless Joy.
URL:https://pressplaysalem.com/calendar/the-fools-with-hog-and-boundless-joy/
LOCATION:Grand Ballroom\, 187 High St NE\, Salem\, Oregon\, 97301\, United States
CATEGORIES:concert + live music
ATTACH;FMTTYPE=image/png:https://pressplaysalem.com/wp-content/uploads/2026/01/2026-02-21-grand-music.png
END:VEVENT
BEGIN:VEVENT
DTSTART;TZID=America/Vancouver:20260221T193000
DTEND;TZID=America/Vancouver:20260221T210000
DTSTAMP:20260423T163952
CREATED:20260124T220925Z
LAST-MODIFIED:20260124T220925Z
UID:10000010-1771702200-1771707600@pressplaysalem.com
SUMMARY:Joss Stone: Less is More
DESCRIPTION:Joss Stone is a Grammy and Brit Award-winning artist who released her acclaimed debut album\, The Soul Sessions\, in 2003\, at the age of 16. Over her career\, she has released nine studio albums\, selling over 15 million copies worldwide. \nStone has performed and collaborated with legendary artists including James Brown\, Burt Bacharach\, Stevie Wonder\, Gladys Knight\, Sting\, Van Morrison\, Melissa Etheridge\, Jeff Beck\, Mick Jagger\, and Damien Marley\, amassing over one billion streams in the US alone. \nIn 2014\, she completed her audacious Total World Tour\, performing and collaborating with local artists and charities in every country in the world. \nHer 2022 release\, Never Forget My Love\, was her eighth studio album\, written with and produced by Eurythmics’ Dave Stewart\, with whom she also co-wrote music and lyrics for the West End musical The Time Traveller’s Wife. \nIn 2023\, Stone embarked on her “20 Years of Soul” anniversary tour\, during which she recorded her first live album\, 20 Years of Soul – Live in Concert. She followed this with the Ellipsis Tour in 2024. \nHer latest single\, “Loving You\,” was released on August 9\, 2024. Stone is currently working on a new studio album\, scheduled for release in 2025.
URL:https://pressplaysalem.com/calendar/joss-stone-less-is-more/
LOCATION:Elsinore Theatre\, 170 High St SE\, Salem\, OR\, 97301\, United States
CATEGORIES:concert + live music
ATTACH;FMTTYPE=image/png:https://pressplaysalem.com/wp-content/uploads/2026/01/16x9.png
END:VEVENT
END:VCALENDAR