BEGIN:VCALENDAR
VERSION:2.0
PRODID:-//Press Play Salem - ECPv6.15.20//NONSGML v1.0//EN
CALSCALE:GREGORIAN
METHOD:PUBLISH
X-ORIGINAL-URL:https://pressplaysalem.com
X-WR-CALDESC:Events for Press Play Salem
REFRESH-INTERVAL;VALUE=DURATION:PT1H
X-Robots-Tag:noindex
X-PUBLISHED-TTL:PT1H
BEGIN:VTIMEZONE
TZID:America/Vancouver
BEGIN:DAYLIGHT
TZOFFSETFROM:-0800
TZOFFSETTO:-0700
TZNAME:PDT
DTSTART:20250309T100000
END:DAYLIGHT
BEGIN:STANDARD
TZOFFSETFROM:-0700
TZOFFSETTO:-0800
TZNAME:PST
DTSTART:20251102T090000
END:STANDARD
BEGIN:DAYLIGHT
TZOFFSETFROM:-0800
TZOFFSETTO:-0700
TZNAME:PDT
DTSTART:20260308T100000
END:DAYLIGHT
BEGIN:STANDARD
TZOFFSETFROM:-0700
TZOFFSETTO:-0800
TZNAME:PST
DTSTART:20261101T090000
END:STANDARD
BEGIN:DAYLIGHT
TZOFFSETFROM:-0800
TZOFFSETTO:-0700
TZNAME:PDT
DTSTART:20270314T100000
END:DAYLIGHT
BEGIN:STANDARD
TZOFFSETFROM:-0700
TZOFFSETTO:-0800
TZNAME:PST
DTSTART:20271107T090000
END:STANDARD
END:VTIMEZONE
BEGIN:VEVENT
DTSTART;TZID=America/Vancouver:20260214T120000
DTEND;TZID=America/Vancouver:20260214T133000
DTSTAMP:20260424T082447
CREATED:20260124T224316Z
LAST-MODIFIED:20260124T224316Z
UID:10000598-1771070400-1771075800@pressplaysalem.com
SUMMARY:Valentine's Day Drag Brunch
DESCRIPTION:February 14\, 2026 \nDoors at 11am | Show at 12pm | 18+ \n$15 presale | $20 day of show | $10 brunch available – provided by Encore \nValentine’s Special: $50 for two tickets\, two brunches\, and two mimosas! For you to share with your sister or your mister\, your brother or your mother – anyone you want to celebrate with! \nClick Here To Request ADA Seating \nGet your best Judies together to come celebrate LOVE with Salem’s fiercest drag brunch! Hosted by Salem’s incredible hometown queen Lylac\, this gorgeous cast will have you head over heels!
URL:https://pressplaysalem.com/calendar/valentines-day-drag-brunch/
CATEGORIES:drag,food
ATTACH;FMTTYPE=image/jpeg:https://pressplaysalem.com/wp-content/uploads/2026/01/2026-02-14-Vday-at-Grand-scaled.jpg
END:VEVENT
END:VCALENDAR