BEGIN:VCALENDAR
VERSION:2.0
PRODID:-//Press Play Salem - ECPv6.15.20//NONSGML v1.0//EN
CALSCALE:GREGORIAN
METHOD:PUBLISH
X-WR-CALNAME:Press Play Salem
X-ORIGINAL-URL:https://pressplaysalem.com
X-WR-CALDESC:Events for Press Play Salem
REFRESH-INTERVAL;VALUE=DURATION:PT1H
X-Robots-Tag:noindex
X-PUBLISHED-TTL:PT1H
BEGIN:VTIMEZONE
TZID:America/Vancouver
BEGIN:DAYLIGHT
TZOFFSETFROM:-0800
TZOFFSETTO:-0700
TZNAME:PDT
DTSTART:20250309T100000
END:DAYLIGHT
BEGIN:STANDARD
TZOFFSETFROM:-0700
TZOFFSETTO:-0800
TZNAME:PST
DTSTART:20251102T090000
END:STANDARD
BEGIN:DAYLIGHT
TZOFFSETFROM:-0800
TZOFFSETTO:-0700
TZNAME:PDT
DTSTART:20260308T100000
END:DAYLIGHT
BEGIN:STANDARD
TZOFFSETFROM:-0700
TZOFFSETTO:-0800
TZNAME:PST
DTSTART:20261101T090000
END:STANDARD
BEGIN:DAYLIGHT
TZOFFSETFROM:-0800
TZOFFSETTO:-0700
TZNAME:PDT
DTSTART:20270314T100000
END:DAYLIGHT
BEGIN:STANDARD
TZOFFSETFROM:-0700
TZOFFSETTO:-0800
TZNAME:PST
DTSTART:20271107T090000
END:STANDARD
END:VTIMEZONE
BEGIN:VEVENT
DTSTART;TZID=America/Vancouver:20260808T100000
DTEND;TZID=America/Vancouver:20260808T160000
DTSTAMP:20260423T152507
CREATED:20260208T192904Z
LAST-MODIFIED:20260208T193127Z
UID:10000683-1786183200-1786204800@pressplaysalem.com
SUMMARY:Englewood Forest Festival
DESCRIPTION:The Englewood Forest Festival returns on Saturday\, Aug. 8 for an enjoyable and educational summer day of art\, music\, dance\, fun\, and free\, family-friendly environmental activities – all under a canopy of lovely trees. \nThe 7-acre Englewood Park is a major highlight of the day. Developed by the renown Lord & Schryver design team\, Salem’s oldest park is a historic gem full of hundreds of oaks and Douglas fir trees\, plus many birds\, animals\, plants and flowers. \nThis year the park is celebrating its 100th year anniversary. \nBesides a full day of live music and dance on two stages\, the festival offers a wealth of nature-based activities for people of all ages. \nNow in its 8th year\, the free festival will have many local artists\, nonprofits\, and community resources\, plus food vendors. \nFavorite performers will return including the Ty Curtis blues band\, Salem Aerial Dance Company\, Paradise of Samoa Polynesian Dance Troupe\, ENLACE Cross-Cultural Development music\, and the Premier Academy of Performing Arts (PAPA) dancers. \nFor more details go to www.englewoodforestfestival.org or find Englewood Forest Festival on Facebook.
URL:https://pressplaysalem.com/calendar/englewood-forest-festival/
LOCATION:Englewood Park\, 1192 20th St NE\, Salem\, 97301\, United States
CATEGORIES:activity,community,fairs + festivals
ATTACH;FMTTYPE=image/png:https://pressplaysalem.com/wp-content/uploads/2026/02/2026-EFF-outreach.png
END:VEVENT
END:VCALENDAR