BEGIN:VCALENDAR
VERSION:2.0
PRODID:-//Press Play Salem - ECPv6.15.20//NONSGML v1.0//EN
CALSCALE:GREGORIAN
METHOD:PUBLISH
X-WR-CALNAME:Press Play Salem
X-ORIGINAL-URL:https://pressplaysalem.com
X-WR-CALDESC:Events for Press Play Salem
REFRESH-INTERVAL;VALUE=DURATION:PT1H
X-Robots-Tag:noindex
X-PUBLISHED-TTL:PT1H
BEGIN:VTIMEZONE
TZID:America/Vancouver
BEGIN:DAYLIGHT
TZOFFSETFROM:-0800
TZOFFSETTO:-0700
TZNAME:PDT
DTSTART:20250309T100000
END:DAYLIGHT
BEGIN:STANDARD
TZOFFSETFROM:-0700
TZOFFSETTO:-0800
TZNAME:PST
DTSTART:20251102T090000
END:STANDARD
BEGIN:DAYLIGHT
TZOFFSETFROM:-0800
TZOFFSETTO:-0700
TZNAME:PDT
DTSTART:20260308T100000
END:DAYLIGHT
BEGIN:STANDARD
TZOFFSETFROM:-0700
TZOFFSETTO:-0800
TZNAME:PST
DTSTART:20261101T090000
END:STANDARD
BEGIN:DAYLIGHT
TZOFFSETFROM:-0800
TZOFFSETTO:-0700
TZNAME:PDT
DTSTART:20270314T100000
END:DAYLIGHT
BEGIN:STANDARD
TZOFFSETFROM:-0700
TZOFFSETTO:-0800
TZNAME:PST
DTSTART:20271107T090000
END:STANDARD
END:VTIMEZONE
BEGIN:VEVENT
DTSTART;TZID=America/Vancouver:20260424T190000
DTEND;TZID=America/Vancouver:20260424T190000
DTSTAMP:20260423T141927
CREATED:20260402T012850Z
LAST-MODIFIED:20260402T013102Z
UID:10011529-1777057200-1777057200@pressplaysalem.com
SUMMARY:The Many: A Gathering of Resistance & Hope
DESCRIPTION:Date & Time: Friday\, April 24\, 2026 at 7:00 pm \nDescription: A vibrant collective of musicians and faith leaders\, The Many\, are coming to Oregon—and they’re kicking off their weekend with a special evening in Salem on April 24! Known for their soulful music\, rich liturgies\, and deeply hopeful spirituality\, they create experiences that are both grounding and inspiring.\n\n\nJoin us for this free gathering on April 24 at 7:00 pm—an evening of music\, connection\, and shared hope\, hosted in partnership with several local churches and the Salem Youth Collective. It’s a beautiful opportunity to experience something meaningful alongside others in our community. \nLearn more about their music at https://www.youtube.com/channel/UCa-E00__WIJOjH5hfyAKEIw.\n\nHosted by Morningside United Methodist Church\, Salem First United Methodist Church\, Salem First Presbyterian Church\, Westminster Presbyterian Church\, Salem First Christian Church\, Salem Mennonite Church\, First Congregational United Church of Christ – Salem\, Oregon and the Salem Youth Collective!\n\n\nMore info:
URL:https://pressplaysalem.com/calendar/the-many-a-gathering-of-resistance-hope/
LOCATION:Micah Building\, 680 State St\, Salem\, 97301\, United States
CATEGORIES:concert + live music,faith
END:VEVENT
END:VCALENDAR