BEGIN:VCALENDAR
VERSION:2.0
PRODID:-//Press Play Salem - ECPv6.15.20//NONSGML v1.0//EN
CALSCALE:GREGORIAN
METHOD:PUBLISH
X-WR-CALNAME:Press Play Salem
X-ORIGINAL-URL:https://pressplaysalem.com
X-WR-CALDESC:Events for Press Play Salem
REFRESH-INTERVAL;VALUE=DURATION:PT1H
X-Robots-Tag:noindex
X-PUBLISHED-TTL:PT1H
BEGIN:VTIMEZONE
TZID:America/Vancouver
BEGIN:DAYLIGHT
TZOFFSETFROM:-0800
TZOFFSETTO:-0700
TZNAME:PDT
DTSTART:20250309T100000
END:DAYLIGHT
BEGIN:STANDARD
TZOFFSETFROM:-0700
TZOFFSETTO:-0800
TZNAME:PST
DTSTART:20251102T090000
END:STANDARD
BEGIN:DAYLIGHT
TZOFFSETFROM:-0800
TZOFFSETTO:-0700
TZNAME:PDT
DTSTART:20260308T100000
END:DAYLIGHT
BEGIN:STANDARD
TZOFFSETFROM:-0700
TZOFFSETTO:-0800
TZNAME:PST
DTSTART:20261101T090000
END:STANDARD
BEGIN:DAYLIGHT
TZOFFSETFROM:-0800
TZOFFSETTO:-0700
TZNAME:PDT
DTSTART:20270314T100000
END:DAYLIGHT
BEGIN:STANDARD
TZOFFSETFROM:-0700
TZOFFSETTO:-0800
TZNAME:PST
DTSTART:20271107T090000
END:STANDARD
END:VTIMEZONE
BEGIN:VEVENT
DTSTART;TZID=America/Vancouver:20260219T190000
DTEND;TZID=America/Vancouver:20260219T210000
DTSTAMP:20260424T053100
CREATED:20260124T220802Z
LAST-MODIFIED:20260124T220802Z
UID:10000008-1771527600-1771534800@pressplaysalem.com
SUMMARY:World Ballet Company: Cinderella
DESCRIPTION:Step into the magical world of Cinderella\, live on stage!\nThe beloved fairy tale comes to life in a spectacular Broadway-style production that delights all ages\, blending humor\, romance\, and the timeless majesty of classical ballet. \nWorld Ballet Company’s Cinderella features a dazzling cast of 40 international dancers\, over 150 radiant hand-sewn costumes\, exquisite hand-crafted sets\, and enchanting choreography by Marina Kesler. From the mischievous evil stepsisters to the breathtaking ballroom scenes\, every moment is filled with charm\, wonder and everything you’ve loved about this story for years. \nJoin us for an unforgettable journey of magic\, beauty\, and the promise of “happily ever after.” But remember\, when the clock strikes midnight\, everything will change… \nMusic by Johann Strauss II | The “Time” theme composed by Anna Drubich. \nDuration: 2 hours (including 20-minute intermission)\nAudience: For ages 2 & over\nWBC Website: https://worldballetcompany.com/salem1 \nWorld Ballet Company – Ballet Everywhere\, Ballet For All.\nAbout the Company: Based in Los Angeles\, and led by Sasha Gorskaya and Gulya Hartwick\, the World Ballet Company presents the most beloved and iconic ballets of our time in cities nationwide. Driven by the belief that ballet is for everyone\, performances appeal to newcomers and seasoned ballet goers alike. The company attracts many international artists and comprises renowned professional dancers representing over ten countries. \nTo date\, World Ballet Company has traveled to more than 300 cities\, reaching an audience of more than 500\,000\, many of whom are first-time attendees to a ballet.
URL:https://pressplaysalem.com/calendar/world-ballet-company-cinderella/2026-02-19/
LOCATION:Elsinore Theatre\, 170 High St SE\, Salem\, OR\, 97301\, United States
CATEGORIES:dance,performing arts
ATTACH;FMTTYPE=image/jpeg:https://pressplaysalem.com/wp-content/uploads/2026/01/GC2_1600x900px.jpg
END:VEVENT
BEGIN:VEVENT
DTSTART;TZID=America/Vancouver:20260220T190000
DTEND;TZID=America/Vancouver:20260220T210000
DTSTAMP:20260424T053100
CREATED:20260124T220802Z
LAST-MODIFIED:20260124T220802Z
UID:10000009-1771614000-1771621200@pressplaysalem.com
SUMMARY:World Ballet Company: Cinderella
DESCRIPTION:Step into the magical world of Cinderella\, live on stage!\nThe beloved fairy tale comes to life in a spectacular Broadway-style production that delights all ages\, blending humor\, romance\, and the timeless majesty of classical ballet. \nWorld Ballet Company’s Cinderella features a dazzling cast of 40 international dancers\, over 150 radiant hand-sewn costumes\, exquisite hand-crafted sets\, and enchanting choreography by Marina Kesler. From the mischievous evil stepsisters to the breathtaking ballroom scenes\, every moment is filled with charm\, wonder and everything you’ve loved about this story for years. \nJoin us for an unforgettable journey of magic\, beauty\, and the promise of “happily ever after.” But remember\, when the clock strikes midnight\, everything will change… \nMusic by Johann Strauss II | The “Time” theme composed by Anna Drubich. \nDuration: 2 hours (including 20-minute intermission)\nAudience: For ages 2 & over\nWBC Website: https://worldballetcompany.com/salem1 \nWorld Ballet Company – Ballet Everywhere\, Ballet For All.\nAbout the Company: Based in Los Angeles\, and led by Sasha Gorskaya and Gulya Hartwick\, the World Ballet Company presents the most beloved and iconic ballets of our time in cities nationwide. Driven by the belief that ballet is for everyone\, performances appeal to newcomers and seasoned ballet goers alike. The company attracts many international artists and comprises renowned professional dancers representing over ten countries. \nTo date\, World Ballet Company has traveled to more than 300 cities\, reaching an audience of more than 500\,000\, many of whom are first-time attendees to a ballet.
URL:https://pressplaysalem.com/calendar/world-ballet-company-cinderella/2026-02-20/
LOCATION:Elsinore Theatre\, 170 High St SE\, Salem\, OR\, 97301\, United States
CATEGORIES:dance,performing arts
ATTACH;FMTTYPE=image/jpeg:https://pressplaysalem.com/wp-content/uploads/2026/01/GC2_1600x900px.jpg
END:VEVENT
BEGIN:VEVENT
DTSTART;TZID=America/Vancouver:20260227T200000
DTEND;TZID=America/Vancouver:20260227T220000
DTSTAMP:20260424T053100
CREATED:20260202T003922Z
LAST-MODIFIED:20260202T003922Z
UID:10000605-1772222400-1772229600@pressplaysalem.com
SUMMARY:Boogie Wonderland: An All BIPOC Burlesque Tribute to Funk Music
DESCRIPTION:Friday\, Feb. 27 | VIP Doors at 6:30 | GA Doors at 7:00 | Show at 8:00 | 18+ \nVIP Entry $35 – Includes early entry and front two rows seating! \nGeneral Admission $20 preshow | $25 day of \nClick Here To Request ADA Seating \nIn honor of Black History Month\, Sinister and Sweet Productions presents Boogie Wonderland: An All BIPOC Burlesque Tribute to Funk Music! Enjoy dazzling and alluring performances by an all BIPOC cast shaking it to some of the greatest Funk hits from throughout history! Learn about the story of Funk\, its origins in Black culture\, and the impact it had on the world of music\, as well as a little history on the songs our performers dance to. Get down and get up with this fun and sexy educational experience! \nThe evening will also feature a raffle with fabulous prizes\, the proceeds from which will benefit a Black nonprofit. There will also be an option to donate directly and make an impact in the community. It’s a great night for a great cause!
URL:https://pressplaysalem.com/calendar/boogie-wonderland-an-all-bipoc-burlesque-tribute-to-funk-music/
LOCATION:Salem’s Historic Grand Theatre\, 187 High St NE\, Salem\, OR\, 97301\, United States
CATEGORIES:dance
ATTACH;FMTTYPE=image/jpeg:https://pressplaysalem.com/wp-content/uploads/2026/02/2026-02-27-grand.jpg
END:VEVENT
BEGIN:VEVENT
DTSTART;TZID=America/Vancouver:20260417T180000
DTEND;TZID=America/Vancouver:20260417T210000
DTSTAMP:20260424T053100
CREATED:20260208T214833Z
LAST-MODIFIED:20260208T214833Z
UID:10011509-1776448800-1776459600@pressplaysalem.com
SUMMARY:"A New Moon Ball" A Bridgerton Themed Ball
DESCRIPTION:Get ready to transport back in time to the elegant world of Bridgerton at A New Moon Ball – it’s going to be a night to remember! \n\n\n\n\nWelcome to “A New Moon Ball” A Bridgerton Themed Ball! Join us for an enchanting evening filled with elegance and grandeur at the Willamette Heritage Center. Immerse yourself in the Regency era with lavish decorations\, period costumes\, and delightful music. Indulge in a night of dancing\, socializing\, and revelry reminiscent of the hit series Bridgerton. Don your finest attire and prepare to be swept away in a world of romance and charm. Don’t miss out on this magical event! \nThere will be VIP dinner provided at 4pm. Contact seller at pixiedesignseventplanning@gmail.com for more details or to reserve your spot for a VIP dinner
URL:https://pressplaysalem.com/calendar/a-new-moon-ball-a-bridgerton-themed-ball/
LOCATION:Willamette Heritage Center\, 1313 Mill St\, Salem\, 97301\, United States
CATEGORIES:dance
END:VEVENT
END:VCALENDAR