BEGIN:VCALENDAR
VERSION:2.0
PRODID:-//Press Play Salem - ECPv6.15.20//NONSGML v1.0//EN
CALSCALE:GREGORIAN
METHOD:PUBLISH
X-ORIGINAL-URL:https://pressplaysalem.com
X-WR-CALDESC:Events for Press Play Salem
REFRESH-INTERVAL;VALUE=DURATION:PT1H
X-Robots-Tag:noindex
X-PUBLISHED-TTL:PT1H
BEGIN:VTIMEZONE
TZID:America/Vancouver
BEGIN:DAYLIGHT
TZOFFSETFROM:-0800
TZOFFSETTO:-0700
TZNAME:PDT
DTSTART:20250309T100000
END:DAYLIGHT
BEGIN:STANDARD
TZOFFSETFROM:-0700
TZOFFSETTO:-0800
TZNAME:PST
DTSTART:20251102T090000
END:STANDARD
BEGIN:DAYLIGHT
TZOFFSETFROM:-0800
TZOFFSETTO:-0700
TZNAME:PDT
DTSTART:20260308T100000
END:DAYLIGHT
BEGIN:STANDARD
TZOFFSETFROM:-0700
TZOFFSETTO:-0800
TZNAME:PST
DTSTART:20261101T090000
END:STANDARD
BEGIN:DAYLIGHT
TZOFFSETFROM:-0800
TZOFFSETTO:-0700
TZNAME:PDT
DTSTART:20270314T100000
END:DAYLIGHT
BEGIN:STANDARD
TZOFFSETFROM:-0700
TZOFFSETTO:-0800
TZNAME:PST
DTSTART:20271107T090000
END:STANDARD
END:VTIMEZONE
BEGIN:VEVENT
DTSTART;TZID=America/Vancouver:20260226T190000
DTEND;TZID=America/Vancouver:20260226T210000
DTSTAMP:20260423T174458
CREATED:20260202T004157Z
LAST-MODIFIED:20260202T004157Z
UID:10000606-1772132400-1772139600@pressplaysalem.com
SUMMARY:Love on the Rocks
DESCRIPTION:Celebrate holiday favorites with a twist!  \nTake the classic\, high-octane format of Whose Line Is It Anyway?\, add booze\, and a heavy dose of Cupid’s arrows. A cast of four quick-witted performers takes the stage equipped with a cocktail (or three). As the night progresses and the drinks go down\, the filters come off\, and the improv gets increasingly chaotic. \nBringing everyone together with laughter\, joy\, and sidesplitting showstoppers. This is one Valentine’s celebration you’ll WANT to attend. \nPg13 recommended\, May encounter sexual themes\, depicted violence\, references to drug use. \nComedy Curtain: 7pm \nKaraoke: 9pm
URL:https://pressplaysalem.com/calendar/love-on-the-rocks/
LOCATION:Salem’s Historic Grand Theatre\, 187 High St NE\, Salem\, OR\, 97301\, United States
CATEGORIES:comedy,community
ATTACH;FMTTYPE=image/jpeg:https://pressplaysalem.com/wp-content/uploads/2026/02/2026-02-26-love-on-the-rocks.jpg
END:VEVENT
END:VCALENDAR