BEGIN:VCALENDAR
VERSION:2.0
PRODID:-//Press Play Salem - ECPv6.15.20//NONSGML v1.0//EN
CALSCALE:GREGORIAN
METHOD:PUBLISH
X-ORIGINAL-URL:https://pressplaysalem.com
X-WR-CALDESC:Events for Press Play Salem
REFRESH-INTERVAL;VALUE=DURATION:PT1H
X-Robots-Tag:noindex
X-PUBLISHED-TTL:PT1H
BEGIN:VTIMEZONE
TZID:America/Vancouver
BEGIN:DAYLIGHT
TZOFFSETFROM:-0800
TZOFFSETTO:-0700
TZNAME:PDT
DTSTART:20290311T100000
END:DAYLIGHT
BEGIN:STANDARD
TZOFFSETFROM:-0700
TZOFFSETTO:-0800
TZNAME:PST
DTSTART:20291104T090000
END:STANDARD
BEGIN:DAYLIGHT
TZOFFSETFROM:-0800
TZOFFSETTO:-0700
TZNAME:PDT
DTSTART:20300310T100000
END:DAYLIGHT
BEGIN:STANDARD
TZOFFSETFROM:-0700
TZOFFSETTO:-0800
TZNAME:PST
DTSTART:20301103T090000
END:STANDARD
BEGIN:DAYLIGHT
TZOFFSETFROM:-0800
TZOFFSETTO:-0700
TZNAME:PDT
DTSTART:20310309T100000
END:DAYLIGHT
BEGIN:STANDARD
TZOFFSETFROM:-0700
TZOFFSETTO:-0800
TZNAME:PST
DTSTART:20311102T090000
END:STANDARD
BEGIN:DAYLIGHT
TZOFFSETFROM:-0800
TZOFFSETTO:-0700
TZNAME:PDT
DTSTART:20320314T100000
END:DAYLIGHT
BEGIN:STANDARD
TZOFFSETFROM:-0700
TZOFFSETTO:-0800
TZNAME:PST
DTSTART:20321107T090000
END:STANDARD
END:VTIMEZONE
BEGIN:VEVENT
DTSTART;TZID=America/Vancouver:20301104T193000
DTEND;TZID=America/Vancouver:20301104T210000
DTSTAMP:20260425T092404
CREATED:20260124T222638Z
LAST-MODIFIED:20260124T222748Z
UID:10000511-1920051000-1920056400@pressplaysalem.com
SUMMARY:Weekly Drop-In Improv Comedy Class
DESCRIPTION:Date: Every Monday \nTime: 7:30pm – 9:00pm \nPrice: $5 (first class free!) – Pay at doors \nAll experience levels welcome \n15+‍ \nTake a break from real life to come play and let loose! Improv is all about teamwork\, communication and\, most importantly\, FUN!‍ \nWhether you’re a casual fan or seasoned performer\, this class is great for improvisers of all experience levels! Ages 15+ recommended. Classes are $5 each and your first class is FREE!
URL:https://pressplaysalem.com/calendar/weekly-drop-in-improv-comedy-class/2030-11-04/
LOCATION:Grand Ballroom\, 187 High St NE\, Salem\, Oregon\, 97301\, United States
CATEGORIES:activity,comedy
ATTACH;FMTTYPE=image/png:https://pressplaysalem.com/wp-content/uploads/2026/01/drop-in-comedy-at-grand-scaled.png
END:VEVENT
BEGIN:VEVENT
DTSTART;TZID=America/Vancouver:20301111T193000
DTEND;TZID=America/Vancouver:20301111T210000
DTSTAMP:20260425T092404
CREATED:20260124T222638Z
LAST-MODIFIED:20260124T222748Z
UID:10000513-1920655800-1920661200@pressplaysalem.com
SUMMARY:Weekly Drop-In Improv Comedy Class
DESCRIPTION:Date: Every Monday \nTime: 7:30pm – 9:00pm \nPrice: $5 (first class free!) – Pay at doors \nAll experience levels welcome \n15+‍ \nTake a break from real life to come play and let loose! Improv is all about teamwork\, communication and\, most importantly\, FUN!‍ \nWhether you’re a casual fan or seasoned performer\, this class is great for improvisers of all experience levels! Ages 15+ recommended. Classes are $5 each and your first class is FREE!
URL:https://pressplaysalem.com/calendar/weekly-drop-in-improv-comedy-class/2030-11-11/
LOCATION:Grand Ballroom\, 187 High St NE\, Salem\, Oregon\, 97301\, United States
CATEGORIES:activity,comedy
ATTACH;FMTTYPE=image/png:https://pressplaysalem.com/wp-content/uploads/2026/01/drop-in-comedy-at-grand-scaled.png
END:VEVENT
BEGIN:VEVENT
DTSTART;TZID=America/Vancouver:20301118T193000
DTEND;TZID=America/Vancouver:20301118T210000
DTSTAMP:20260425T092404
CREATED:20260124T222638Z
LAST-MODIFIED:20260124T222748Z
UID:10000515-1921260600-1921266000@pressplaysalem.com
SUMMARY:Weekly Drop-In Improv Comedy Class
DESCRIPTION:Date: Every Monday \nTime: 7:30pm – 9:00pm \nPrice: $5 (first class free!) – Pay at doors \nAll experience levels welcome \n15+‍ \nTake a break from real life to come play and let loose! Improv is all about teamwork\, communication and\, most importantly\, FUN!‍ \nWhether you’re a casual fan or seasoned performer\, this class is great for improvisers of all experience levels! Ages 15+ recommended. Classes are $5 each and your first class is FREE!
URL:https://pressplaysalem.com/calendar/weekly-drop-in-improv-comedy-class/2030-11-18/
LOCATION:Grand Ballroom\, 187 High St NE\, Salem\, Oregon\, 97301\, United States
CATEGORIES:activity,comedy
ATTACH;FMTTYPE=image/png:https://pressplaysalem.com/wp-content/uploads/2026/01/drop-in-comedy-at-grand-scaled.png
END:VEVENT
BEGIN:VEVENT
DTSTART;TZID=America/Vancouver:20301125T193000
DTEND;TZID=America/Vancouver:20301125T210000
DTSTAMP:20260425T092404
CREATED:20260124T222638Z
LAST-MODIFIED:20260124T222748Z
UID:10000517-1921865400-1921870800@pressplaysalem.com
SUMMARY:Weekly Drop-In Improv Comedy Class
DESCRIPTION:Date: Every Monday \nTime: 7:30pm – 9:00pm \nPrice: $5 (first class free!) – Pay at doors \nAll experience levels welcome \n15+‍ \nTake a break from real life to come play and let loose! Improv is all about teamwork\, communication and\, most importantly\, FUN!‍ \nWhether you’re a casual fan or seasoned performer\, this class is great for improvisers of all experience levels! Ages 15+ recommended. Classes are $5 each and your first class is FREE!
URL:https://pressplaysalem.com/calendar/weekly-drop-in-improv-comedy-class/2030-11-25/
LOCATION:Grand Ballroom\, 187 High St NE\, Salem\, Oregon\, 97301\, United States
CATEGORIES:activity,comedy
ATTACH;FMTTYPE=image/png:https://pressplaysalem.com/wp-content/uploads/2026/01/drop-in-comedy-at-grand-scaled.png
END:VEVENT
BEGIN:VEVENT
DTSTART;TZID=America/Vancouver:20301202T193000
DTEND;TZID=America/Vancouver:20301202T210000
DTSTAMP:20260425T092404
CREATED:20260124T222638Z
LAST-MODIFIED:20260124T222748Z
UID:10000519-1922470200-1922475600@pressplaysalem.com
SUMMARY:Weekly Drop-In Improv Comedy Class
DESCRIPTION:Date: Every Monday \nTime: 7:30pm – 9:00pm \nPrice: $5 (first class free!) – Pay at doors \nAll experience levels welcome \n15+‍ \nTake a break from real life to come play and let loose! Improv is all about teamwork\, communication and\, most importantly\, FUN!‍ \nWhether you’re a casual fan or seasoned performer\, this class is great for improvisers of all experience levels! Ages 15+ recommended. Classes are $5 each and your first class is FREE!
URL:https://pressplaysalem.com/calendar/weekly-drop-in-improv-comedy-class/2030-12-02/
LOCATION:Grand Ballroom\, 187 High St NE\, Salem\, Oregon\, 97301\, United States
CATEGORIES:activity,comedy
ATTACH;FMTTYPE=image/png:https://pressplaysalem.com/wp-content/uploads/2026/01/drop-in-comedy-at-grand-scaled.png
END:VEVENT
BEGIN:VEVENT
DTSTART;TZID=America/Vancouver:20301209T193000
DTEND;TZID=America/Vancouver:20301209T210000
DTSTAMP:20260425T092404
CREATED:20260124T222638Z
LAST-MODIFIED:20260124T222748Z
UID:10000521-1923075000-1923080400@pressplaysalem.com
SUMMARY:Weekly Drop-In Improv Comedy Class
DESCRIPTION:Date: Every Monday \nTime: 7:30pm – 9:00pm \nPrice: $5 (first class free!) – Pay at doors \nAll experience levels welcome \n15+‍ \nTake a break from real life to come play and let loose! Improv is all about teamwork\, communication and\, most importantly\, FUN!‍ \nWhether you’re a casual fan or seasoned performer\, this class is great for improvisers of all experience levels! Ages 15+ recommended. Classes are $5 each and your first class is FREE!
URL:https://pressplaysalem.com/calendar/weekly-drop-in-improv-comedy-class/2030-12-09/
LOCATION:Grand Ballroom\, 187 High St NE\, Salem\, Oregon\, 97301\, United States
CATEGORIES:activity,comedy
ATTACH;FMTTYPE=image/png:https://pressplaysalem.com/wp-content/uploads/2026/01/drop-in-comedy-at-grand-scaled.png
END:VEVENT
BEGIN:VEVENT
DTSTART;TZID=America/Vancouver:20301216T193000
DTEND;TZID=America/Vancouver:20301216T210000
DTSTAMP:20260425T092404
CREATED:20260124T222638Z
LAST-MODIFIED:20260124T222748Z
UID:10000523-1923679800-1923685200@pressplaysalem.com
SUMMARY:Weekly Drop-In Improv Comedy Class
DESCRIPTION:Date: Every Monday \nTime: 7:30pm – 9:00pm \nPrice: $5 (first class free!) – Pay at doors \nAll experience levels welcome \n15+‍ \nTake a break from real life to come play and let loose! Improv is all about teamwork\, communication and\, most importantly\, FUN!‍ \nWhether you’re a casual fan or seasoned performer\, this class is great for improvisers of all experience levels! Ages 15+ recommended. Classes are $5 each and your first class is FREE!
URL:https://pressplaysalem.com/calendar/weekly-drop-in-improv-comedy-class/2030-12-16/
LOCATION:Grand Ballroom\, 187 High St NE\, Salem\, Oregon\, 97301\, United States
CATEGORIES:activity,comedy
ATTACH;FMTTYPE=image/png:https://pressplaysalem.com/wp-content/uploads/2026/01/drop-in-comedy-at-grand-scaled.png
END:VEVENT
BEGIN:VEVENT
DTSTART;TZID=America/Vancouver:20301223T193000
DTEND;TZID=America/Vancouver:20301223T210000
DTSTAMP:20260425T092404
CREATED:20260124T222638Z
LAST-MODIFIED:20260124T222748Z
UID:10000525-1924284600-1924290000@pressplaysalem.com
SUMMARY:Weekly Drop-In Improv Comedy Class
DESCRIPTION:Date: Every Monday \nTime: 7:30pm – 9:00pm \nPrice: $5 (first class free!) – Pay at doors \nAll experience levels welcome \n15+‍ \nTake a break from real life to come play and let loose! Improv is all about teamwork\, communication and\, most importantly\, FUN!‍ \nWhether you’re a casual fan or seasoned performer\, this class is great for improvisers of all experience levels! Ages 15+ recommended. Classes are $5 each and your first class is FREE!
URL:https://pressplaysalem.com/calendar/weekly-drop-in-improv-comedy-class/2030-12-23/
LOCATION:Grand Ballroom\, 187 High St NE\, Salem\, Oregon\, 97301\, United States
CATEGORIES:activity,comedy
ATTACH;FMTTYPE=image/png:https://pressplaysalem.com/wp-content/uploads/2026/01/drop-in-comedy-at-grand-scaled.png
END:VEVENT
BEGIN:VEVENT
DTSTART;TZID=America/Vancouver:20301230T193000
DTEND;TZID=America/Vancouver:20301230T210000
DTSTAMP:20260425T092404
CREATED:20260124T222638Z
LAST-MODIFIED:20260124T222748Z
UID:10000527-1924889400-1924894800@pressplaysalem.com
SUMMARY:Weekly Drop-In Improv Comedy Class
DESCRIPTION:Date: Every Monday \nTime: 7:30pm – 9:00pm \nPrice: $5 (first class free!) – Pay at doors \nAll experience levels welcome \n15+‍ \nTake a break from real life to come play and let loose! Improv is all about teamwork\, communication and\, most importantly\, FUN!‍ \nWhether you’re a casual fan or seasoned performer\, this class is great for improvisers of all experience levels! Ages 15+ recommended. Classes are $5 each and your first class is FREE!
URL:https://pressplaysalem.com/calendar/weekly-drop-in-improv-comedy-class/2030-12-30/
LOCATION:Grand Ballroom\, 187 High St NE\, Salem\, Oregon\, 97301\, United States
CATEGORIES:activity,comedy
ATTACH;FMTTYPE=image/png:https://pressplaysalem.com/wp-content/uploads/2026/01/drop-in-comedy-at-grand-scaled.png
END:VEVENT
BEGIN:VEVENT
DTSTART;TZID=America/Vancouver:20310106T193000
DTEND;TZID=America/Vancouver:20310106T210000
DTSTAMP:20260425T092404
CREATED:20260124T222638Z
LAST-MODIFIED:20260124T222748Z
UID:10000529-1925494200-1925499600@pressplaysalem.com
SUMMARY:Weekly Drop-In Improv Comedy Class
DESCRIPTION:Date: Every Monday \nTime: 7:30pm – 9:00pm \nPrice: $5 (first class free!) – Pay at doors \nAll experience levels welcome \n15+‍ \nTake a break from real life to come play and let loose! Improv is all about teamwork\, communication and\, most importantly\, FUN!‍ \nWhether you’re a casual fan or seasoned performer\, this class is great for improvisers of all experience levels! Ages 15+ recommended. Classes are $5 each and your first class is FREE!
URL:https://pressplaysalem.com/calendar/weekly-drop-in-improv-comedy-class/2031-01-06/
LOCATION:Grand Ballroom\, 187 High St NE\, Salem\, Oregon\, 97301\, United States
CATEGORIES:activity,comedy
ATTACH;FMTTYPE=image/png:https://pressplaysalem.com/wp-content/uploads/2026/01/drop-in-comedy-at-grand-scaled.png
END:VEVENT
BEGIN:VEVENT
DTSTART;TZID=America/Vancouver:20310113T193000
DTEND;TZID=America/Vancouver:20310113T210000
DTSTAMP:20260425T092404
CREATED:20260124T222638Z
LAST-MODIFIED:20260124T222748Z
UID:10000531-1926099000-1926104400@pressplaysalem.com
SUMMARY:Weekly Drop-In Improv Comedy Class
DESCRIPTION:Date: Every Monday \nTime: 7:30pm – 9:00pm \nPrice: $5 (first class free!) – Pay at doors \nAll experience levels welcome \n15+‍ \nTake a break from real life to come play and let loose! Improv is all about teamwork\, communication and\, most importantly\, FUN!‍ \nWhether you’re a casual fan or seasoned performer\, this class is great for improvisers of all experience levels! Ages 15+ recommended. Classes are $5 each and your first class is FREE!
URL:https://pressplaysalem.com/calendar/weekly-drop-in-improv-comedy-class/2031-01-13/
LOCATION:Grand Ballroom\, 187 High St NE\, Salem\, Oregon\, 97301\, United States
CATEGORIES:activity,comedy
ATTACH;FMTTYPE=image/png:https://pressplaysalem.com/wp-content/uploads/2026/01/drop-in-comedy-at-grand-scaled.png
END:VEVENT
BEGIN:VEVENT
DTSTART;TZID=America/Vancouver:20310120T193000
DTEND;TZID=America/Vancouver:20310120T210000
DTSTAMP:20260425T092404
CREATED:20260124T222638Z
LAST-MODIFIED:20260124T222748Z
UID:10000533-1926703800-1926709200@pressplaysalem.com
SUMMARY:Weekly Drop-In Improv Comedy Class
DESCRIPTION:Date: Every Monday \nTime: 7:30pm – 9:00pm \nPrice: $5 (first class free!) – Pay at doors \nAll experience levels welcome \n15+‍ \nTake a break from real life to come play and let loose! Improv is all about teamwork\, communication and\, most importantly\, FUN!‍ \nWhether you’re a casual fan or seasoned performer\, this class is great for improvisers of all experience levels! Ages 15+ recommended. Classes are $5 each and your first class is FREE!
URL:https://pressplaysalem.com/calendar/weekly-drop-in-improv-comedy-class/2031-01-20/
LOCATION:Grand Ballroom\, 187 High St NE\, Salem\, Oregon\, 97301\, United States
CATEGORIES:activity,comedy
ATTACH;FMTTYPE=image/png:https://pressplaysalem.com/wp-content/uploads/2026/01/drop-in-comedy-at-grand-scaled.png
END:VEVENT
END:VCALENDAR