BEGIN:VCALENDAR
VERSION:2.0
PRODID:-//Press Play Salem - ECPv6.15.20//NONSGML v1.0//EN
CALSCALE:GREGORIAN
METHOD:PUBLISH
X-WR-CALNAME:Press Play Salem
X-ORIGINAL-URL:https://pressplaysalem.com
X-WR-CALDESC:Events for Press Play Salem
REFRESH-INTERVAL;VALUE=DURATION:PT1H
X-Robots-Tag:noindex
X-PUBLISHED-TTL:PT1H
BEGIN:VTIMEZONE
TZID:America/Vancouver
BEGIN:DAYLIGHT
TZOFFSETFROM:-0800
TZOFFSETTO:-0700
TZNAME:PDT
DTSTART:20250309T100000
END:DAYLIGHT
BEGIN:STANDARD
TZOFFSETFROM:-0700
TZOFFSETTO:-0800
TZNAME:PST
DTSTART:20251102T090000
END:STANDARD
BEGIN:DAYLIGHT
TZOFFSETFROM:-0800
TZOFFSETTO:-0700
TZNAME:PDT
DTSTART:20260308T100000
END:DAYLIGHT
BEGIN:STANDARD
TZOFFSETFROM:-0700
TZOFFSETTO:-0800
TZNAME:PST
DTSTART:20261101T090000
END:STANDARD
BEGIN:DAYLIGHT
TZOFFSETFROM:-0800
TZOFFSETTO:-0700
TZNAME:PDT
DTSTART:20270314T100000
END:DAYLIGHT
BEGIN:STANDARD
TZOFFSETFROM:-0700
TZOFFSETTO:-0800
TZNAME:PST
DTSTART:20271107T090000
END:STANDARD
END:VTIMEZONE
BEGIN:VEVENT
DTSTART;TZID=America/Vancouver:20260403T193000
DTEND;TZID=America/Vancouver:20260403T210000
DTSTAMP:20260423T163037
CREATED:20260208T184027Z
LAST-MODIFIED:20260208T184027Z
UID:10000668-1775244600-1775250000@pressplaysalem.com
SUMMARY:Alfred Robles: Vatos With Gatos
DESCRIPTION:After getting kicked out of the police academy\, Alfred Robles rose to become one of the hottest young comedians in the country. Two years into his comedy career\, Alfred was featured in the hit show “Loco Comedy Jam” and the Latino Laugh Festival. He was the only comedian to be featured on all 3 seasons of Stand Up Revolution on Comedy Central. Alfred is currently on a world wide tour with Gabriel Iglesias\, and was one of the first comedians to perform at Dodger Stadium alongside Gabriel Iglesias. Alfred was also featured on “Mr. Iglesias” on Netflix\, “Entre Nos” on HBO\, and is currently working on his hour special.
URL:https://pressplaysalem.com/calendar/alfred-robles-vatos-with-gatos/
LOCATION:Elsinore Theatre\, 170 High St SE\, Salem\, OR\, 97301\, United States
CATEGORIES:comedy
ATTACH;FMTTYPE=image/jpeg:https://pressplaysalem.com/wp-content/uploads/2026/02/AR-040326-1920x1080-Horizontal-Screen.jpg
END:VEVENT
END:VCALENDAR