BEGIN:VCALENDAR
VERSION:2.0
PRODID:-//Press Play Salem - ECPv6.15.20//NONSGML v1.0//EN
CALSCALE:GREGORIAN
METHOD:PUBLISH
X-ORIGINAL-URL:https://pressplaysalem.com
X-WR-CALDESC:Events for Press Play Salem
REFRESH-INTERVAL;VALUE=DURATION:PT1H
X-Robots-Tag:noindex
X-PUBLISHED-TTL:PT1H
BEGIN:VTIMEZONE
TZID:America/Vancouver
BEGIN:DAYLIGHT
TZOFFSETFROM:-0800
TZOFFSETTO:-0700
TZNAME:PDT
DTSTART:20250309T100000
END:DAYLIGHT
BEGIN:STANDARD
TZOFFSETFROM:-0700
TZOFFSETTO:-0800
TZNAME:PST
DTSTART:20251102T090000
END:STANDARD
BEGIN:DAYLIGHT
TZOFFSETFROM:-0800
TZOFFSETTO:-0700
TZNAME:PDT
DTSTART:20260308T100000
END:DAYLIGHT
BEGIN:STANDARD
TZOFFSETFROM:-0700
TZOFFSETTO:-0800
TZNAME:PST
DTSTART:20261101T090000
END:STANDARD
BEGIN:DAYLIGHT
TZOFFSETFROM:-0800
TZOFFSETTO:-0700
TZNAME:PDT
DTSTART:20270314T100000
END:DAYLIGHT
BEGIN:STANDARD
TZOFFSETFROM:-0700
TZOFFSETTO:-0800
TZNAME:PST
DTSTART:20271107T090000
END:STANDARD
END:VTIMEZONE
BEGIN:VEVENT
DTSTART;TZID=America/Vancouver:20260419T110000
DTEND;TZID=America/Vancouver:20260419T150000
DTSTAMP:20260423T160238
CREATED:20260202T011732Z
LAST-MODIFIED:20260202T012245Z
UID:10000648-1776596400-1776610800@pressplaysalem.com
SUMMARY:Family Clay Sunday
DESCRIPTION:Bring the whole family for some quality together time and learn simple hand-built projects that are fun for everyone and create magical memories for your family. \nFamily Clay Sunday is a drop-in program. No registration required \nFamily Clay Sundays are back. We now offer an “early bird” hour for families that prefer a quieter setting and simpler projects. \n11 a.m. – 12 p.m. for early birds \n12 – 3 p.m. Family Clay Sunday drop-in sessions \nCost\n$5 per artist to create a new project on the first Sunday of the month. \n$5 for glazing day on the third Sunday of the Month. We will offer bisque pieces to purchase at $5 each for those who didn’t attend the first Sunday session so everyone can enjoy glaze day. \nWe’re so glad that our little studio is able to offer this activity to our community. \nFacilitated by Kelly Matney supported by Doug Dacar. \nDates & Projects:\nFebruary 1 & 15:\n\nEarly birds: Thumb vase\nDrop in: Ice cream bowls\n\nMarch 1 & 15:\n\nEarly Birds: Textured hand prints\nDrop-in: Chicken plates\n\nApril 19:\n\nCatch-up glaze day\n\nMay 3 & 17:\n\nEarly birds: Name frames\nDrop-in: Coil name plaques’\n\nJune 7 and 21:\n\nEarly birds: Familer faces\nDrop-in: Moon Face
URL:https://pressplaysalem.com/calendar/family-clay-sunday/2026-04-19/
CATEGORIES:activity,community
END:VEVENT
BEGIN:VEVENT
DTSTART;TZID=America/Vancouver:20260419T140000
DTEND;TZID=America/Vancouver:20260419T153000
DTSTAMP:20260423T160238
CREATED:20260208T184912Z
LAST-MODIFIED:20260208T184912Z
UID:10000671-1776607200-1776612600@pressplaysalem.com
SUMMARY:Silent Film Series: Battleship Potemkin (1923)
DESCRIPTION:The Elsinore Theatre Silent Film Series presents Battleship Potemkin (1923). \nIn the midst of the Russian Revolution of 1905\, the crew of the battleship Potemkin mutiny against the brutal\, tyrannical regime of the vessel’s officers. The resulting street demonstration in Odessa brings on a police massacre. 1h 6m (not rated) \nWith live organ accompaniment by Rick Parks on the Mighty Wurlitzer.
URL:https://pressplaysalem.com/calendar/silent-film-series-battleship-potemkin-1923/
LOCATION:Elsinore Theatre\, 170 High St SE\, Salem\, OR\, 97301\, United States
CATEGORIES:movie
ATTACH;FMTTYPE=image/jpeg:https://pressplaysalem.com/wp-content/uploads/2026/02/Elsinore-4x53-1.jpg
END:VEVENT
BEGIN:VEVENT
DTSTART;TZID=America/Vancouver:20260419T140000
DTEND;TZID=America/Vancouver:20260419T153000
DTSTAMP:20260423T160238
CREATED:20260409T001452Z
LAST-MODIFIED:20260409T001453Z
UID:10009525-1776607200-1776612600@pressplaysalem.com
SUMMARY:Room of Forgotten Souls
DESCRIPTION:Room of Forgotten Souls\nan original\, ensemble-devised performance\nIn 2004\, a tour group discovered a locked room in the Oregon State Hospital crematorium\, filled with thousands of decaying copper canisters holding the remains of over 4\,000 former patients. Abandoned or forgotten\, these individuals sparked a movement to honor the lost. Inspired by this haunting discovery\, the Willamette University Theatre ensemble will create Room of Forgotten Souls—an original\, ensemble-devised performance exploring memory\, loss\, mental health\, and recognition.
URL:https://pressplaysalem.com/calendar/room-of-forgotten-souls-2/2026-04-19/
LOCATION:Pelton Theatre at Willamette University\, 900 State St\, Salem\, 97301\, United States
CATEGORIES:theater
ATTACH;FMTTYPE=image/png:https://pressplaysalem.com/wp-content/uploads/2026/02/25-26-forgotten-souls-showmoji.png
END:VEVENT
END:VCALENDAR