BEGIN:VCALENDAR
VERSION:2.0
PRODID:-//Press Play Salem - ECPv6.15.20//NONSGML v1.0//EN
CALSCALE:GREGORIAN
METHOD:PUBLISH
X-ORIGINAL-URL:https://pressplaysalem.com
X-WR-CALDESC:Events for Press Play Salem
REFRESH-INTERVAL;VALUE=DURATION:PT1H
X-Robots-Tag:noindex
X-PUBLISHED-TTL:PT1H
BEGIN:VTIMEZONE
TZID:America/Vancouver
BEGIN:DAYLIGHT
TZOFFSETFROM:-0800
TZOFFSETTO:-0700
TZNAME:PDT
DTSTART:20250309T100000
END:DAYLIGHT
BEGIN:STANDARD
TZOFFSETFROM:-0700
TZOFFSETTO:-0800
TZNAME:PST
DTSTART:20251102T090000
END:STANDARD
BEGIN:DAYLIGHT
TZOFFSETFROM:-0800
TZOFFSETTO:-0700
TZNAME:PDT
DTSTART:20260308T100000
END:DAYLIGHT
BEGIN:STANDARD
TZOFFSETFROM:-0700
TZOFFSETTO:-0800
TZNAME:PST
DTSTART:20261101T090000
END:STANDARD
BEGIN:DAYLIGHT
TZOFFSETFROM:-0800
TZOFFSETTO:-0700
TZNAME:PDT
DTSTART:20270314T100000
END:DAYLIGHT
BEGIN:STANDARD
TZOFFSETFROM:-0700
TZOFFSETTO:-0800
TZNAME:PST
DTSTART:20271107T090000
END:STANDARD
END:VTIMEZONE
BEGIN:VEVENT
DTSTART;TZID=America/Vancouver:20260417T180000
DTEND;TZID=America/Vancouver:20260417T210000
DTSTAMP:20260423T155335
CREATED:20260208T214833Z
LAST-MODIFIED:20260208T214833Z
UID:10011509-1776448800-1776459600@pressplaysalem.com
SUMMARY:"A New Moon Ball" A Bridgerton Themed Ball
DESCRIPTION:Get ready to transport back in time to the elegant world of Bridgerton at A New Moon Ball – it’s going to be a night to remember! \n\n\n\n\nWelcome to “A New Moon Ball” A Bridgerton Themed Ball! Join us for an enchanting evening filled with elegance and grandeur at the Willamette Heritage Center. Immerse yourself in the Regency era with lavish decorations\, period costumes\, and delightful music. Indulge in a night of dancing\, socializing\, and revelry reminiscent of the hit series Bridgerton. Don your finest attire and prepare to be swept away in a world of romance and charm. Don’t miss out on this magical event! \nThere will be VIP dinner provided at 4pm. Contact seller at pixiedesignseventplanning@gmail.com for more details or to reserve your spot for a VIP dinner
URL:https://pressplaysalem.com/calendar/a-new-moon-ball-a-bridgerton-themed-ball/
LOCATION:Willamette Heritage Center\, 1313 Mill St\, Salem\, 97301\, United States
CATEGORIES:dance
END:VEVENT
BEGIN:VEVENT
DTSTART;TZID=America/Vancouver:20260417T193000
DTEND;TZID=America/Vancouver:20260417T210000
DTSTAMP:20260423T155335
CREATED:20260409T001452Z
LAST-MODIFIED:20260409T001453Z
UID:10011531-1776454200-1776459600@pressplaysalem.com
SUMMARY:Room of Forgotten Souls
DESCRIPTION:Room of Forgotten Souls\nan original\, ensemble-devised performance\nIn 2004\, a tour group discovered a locked room in the Oregon State Hospital crematorium\, filled with thousands of decaying copper canisters holding the remains of over 4\,000 former patients. Abandoned or forgotten\, these individuals sparked a movement to honor the lost. Inspired by this haunting discovery\, the Willamette University Theatre ensemble will create Room of Forgotten Souls—an original\, ensemble-devised performance exploring memory\, loss\, mental health\, and recognition.
URL:https://pressplaysalem.com/calendar/room-of-forgotten-souls-2/2026-04-17/
LOCATION:Pelton Theatre at Willamette University\, 900 State St\, Salem\, 97301\, United States
CATEGORIES:theater
ATTACH;FMTTYPE=image/png:https://pressplaysalem.com/wp-content/uploads/2026/02/25-26-forgotten-souls-showmoji.png
END:VEVENT
END:VCALENDAR