BEGIN:VCALENDAR
VERSION:2.0
PRODID:-//Press Play Salem - ECPv6.15.20//NONSGML v1.0//EN
CALSCALE:GREGORIAN
METHOD:PUBLISH
X-WR-CALNAME:Press Play Salem
X-ORIGINAL-URL:https://pressplaysalem.com
X-WR-CALDESC:Events for Press Play Salem
REFRESH-INTERVAL;VALUE=DURATION:PT1H
X-Robots-Tag:noindex
X-PUBLISHED-TTL:PT1H
BEGIN:VTIMEZONE
TZID:America/Vancouver
BEGIN:DAYLIGHT
TZOFFSETFROM:-0800
TZOFFSETTO:-0700
TZNAME:PDT
DTSTART:20250309T100000
END:DAYLIGHT
BEGIN:STANDARD
TZOFFSETFROM:-0700
TZOFFSETTO:-0800
TZNAME:PST
DTSTART:20251102T090000
END:STANDARD
BEGIN:DAYLIGHT
TZOFFSETFROM:-0800
TZOFFSETTO:-0700
TZNAME:PDT
DTSTART:20260308T100000
END:DAYLIGHT
BEGIN:STANDARD
TZOFFSETFROM:-0700
TZOFFSETTO:-0800
TZNAME:PST
DTSTART:20261101T090000
END:STANDARD
BEGIN:DAYLIGHT
TZOFFSETFROM:-0800
TZOFFSETTO:-0700
TZNAME:PDT
DTSTART:20270314T100000
END:DAYLIGHT
BEGIN:STANDARD
TZOFFSETFROM:-0700
TZOFFSETTO:-0800
TZNAME:PST
DTSTART:20271107T090000
END:STANDARD
END:VTIMEZONE
BEGIN:VEVENT
DTSTART;TZID=America/Vancouver:20260328T193000
DTEND;TZID=America/Vancouver:20260328T210000
DTSTAMP:20260423T170029
CREATED:20260208T190340Z
LAST-MODIFIED:20260208T190340Z
UID:10000678-1774726200-1774731600@pressplaysalem.com
SUMMARY:Russ Taff & Steve Taylor
DESCRIPTION:Multiple Grammy and Dove Award-winners Russ Taff and Steve Taylor will appear in one electrifying night together on the The Almost Farewell Tour. Taff will be both supported and backed on all dates by his longtime friend and collaborator and his Some Band.
URL:https://pressplaysalem.com/calendar/russ-taff-steve-taylor/
LOCATION:Elsinore Theatre\, 170 High St SE\, Salem\, OR\, 97301\, United States
CATEGORIES:concert + live music
ATTACH;FMTTYPE=image/jpeg:https://pressplaysalem.com/wp-content/uploads/2026/02/RTST-032826-1920x1080-Display-r.jpg
END:VEVENT
BEGIN:VEVENT
DTSTART;TZID=America/Vancouver:20260328T200000
DTEND;TZID=America/Vancouver:20260328T220000
DTSTAMP:20260423T170030
CREATED:20260208T014252Z
LAST-MODIFIED:20260208T014252Z
UID:10000659-1774728000-1774735200@pressplaysalem.com
SUMMARY:Parabola: A Tribute to Tool
DESCRIPTION:Saturday\, March 28 | Doors at 7:00 | Show at 8:00 | all ages | $15 presale | $20 day of show \nStraight out of PDX\, Parabola delivers an intense tribute to Tool with precision and fire. Crushing riffs\, hypnotic vocals\, and spiraling energy colliding for a live experience that feels every bit as powerful as the real thing. \nhttps://www.facebook.com/ParabolaToolTribute
URL:https://pressplaysalem.com/calendar/parabola-a-tribute-to-tool/
LOCATION:Salem’s Historic Grand Theatre\, 187 High St NE\, Salem\, OR\, 97301\, United States
CATEGORIES:concert + live music
ATTACH;FMTTYPE=image/png:https://pressplaysalem.com/wp-content/uploads/2026/02/2026-03-28-Grand.png
END:VEVENT
END:VCALENDAR