BEGIN:VCALENDAR
VERSION:2.0
PRODID:-//Press Play Salem - ECPv6.15.20//NONSGML v1.0//EN
CALSCALE:GREGORIAN
METHOD:PUBLISH
X-WR-CALNAME:Press Play Salem
X-ORIGINAL-URL:https://pressplaysalem.com
X-WR-CALDESC:Events for Press Play Salem
REFRESH-INTERVAL;VALUE=DURATION:PT1H
X-Robots-Tag:noindex
X-PUBLISHED-TTL:PT1H
BEGIN:VTIMEZONE
TZID:America/Vancouver
BEGIN:DAYLIGHT
TZOFFSETFROM:-0800
TZOFFSETTO:-0700
TZNAME:PDT
DTSTART:20250309T100000
END:DAYLIGHT
BEGIN:STANDARD
TZOFFSETFROM:-0700
TZOFFSETTO:-0800
TZNAME:PST
DTSTART:20251102T090000
END:STANDARD
BEGIN:DAYLIGHT
TZOFFSETFROM:-0800
TZOFFSETTO:-0700
TZNAME:PDT
DTSTART:20260308T100000
END:DAYLIGHT
BEGIN:STANDARD
TZOFFSETFROM:-0700
TZOFFSETTO:-0800
TZNAME:PST
DTSTART:20261101T090000
END:STANDARD
BEGIN:DAYLIGHT
TZOFFSETFROM:-0800
TZOFFSETTO:-0700
TZNAME:PDT
DTSTART:20270314T100000
END:DAYLIGHT
BEGIN:STANDARD
TZOFFSETFROM:-0700
TZOFFSETTO:-0800
TZNAME:PST
DTSTART:20271107T090000
END:STANDARD
END:VTIMEZONE
BEGIN:VEVENT
DTSTART;VALUE=DATE:20260323
DTEND;VALUE=DATE:20260328
DTSTAMP:20260423T170026
CREATED:20260208T174033Z
LAST-MODIFIED:20260208T174647Z
UID:10000667-1774224000-1774655999@pressplaysalem.com
SUMMARY:Spring Break Passport to Fun!
DESCRIPTION:Downtown venues have joined together to create “Spring Break Passport to Fun”\, which offers activities for the family during spring break week. Oregon State Capitol\, State Capitol State Park\, Willamette Heritage Center\, Hallie Ford Museum of Art\, World Beat Gallery\, Salem Art Association at Bush Bart Art Center\, Salem Public Library\, and Deepwood Museum have teamed up to offer families a fun and free\, or discounted\, way to fill the week off school with activities. A passport for download will be available starting March 1\, 2026. \nYou can start and end your journey at any of the participating locations.
URL:https://pressplaysalem.com/calendar/spring-break-passport-to-fun/
LOCATION:Oregon State Capitol\, 900 Court St NE\, Salem\, 97301\, United States
CATEGORIES:activity,education + learning
ATTACH;FMTTYPE=image/jpeg:https://pressplaysalem.com/wp-content/uploads/2026/02/spring-break-set-3-scaled.jpg
END:VEVENT
BEGIN:VEVENT
DTSTART;TZID=America/Vancouver:20260327T200000
DTEND;TZID=America/Vancouver:20260327T220000
DTSTAMP:20260423T170026
CREATED:20260208T014146Z
LAST-MODIFIED:20260208T014146Z
UID:10000658-1774641600-1774648800@pressplaysalem.com
SUMMARY:Laurie Kilmartin
DESCRIPTION:Laurie Kilmartin is stand up comedian and an Emmy-nominated\, WGA award-winning comedy writer. She was a staff writer for all 11 years of CONAN on TBS\, and has performed standup on CONAN\, Late Late Show w/James Corden\, and Comedy Central. She was a Top 10 finalist on season 9 of NBC’s Last Comic Standing\, and has been a guest on Marc Maron’s WTF 3 times. She is the author of Dead People Suck\, a comedic memoir about grief\, and Shitty Mom\, a NY Times bestselling comedy about parenting. Her special “45 Jokes About My Dead Dad” was named among Vulture ‘s Top Ten Comedy Specials of 2016. In 2022\, she was a guest in the “Comedy” episode of Hillary Clinton’s 2022 Apple TV series “Gutsy.” Her new special “Cis Woke Grief Slut\,” taped at Hollywood’s El Portal Theater is available across streaming platforms. \nBorn and raised in the Bay Area\, Laurie became interested in trying standup after seeing one too many male comics talk about women. even in San Francisco\, the early 90s lineups were stacked with men lazily stereotyping approximately half the people in the audience. Laurie distinctly remembers sitting through a comedy showcase thinking\, “I don’t like shopping\, and I don’t go to the bathroom in pairs.” Her need to try standup came from an intense desire to tell her own story\, instead of hearing it being told to her by a dude. \nAfter a successful first time onstage\, Laurie moved back in with her parents\, bought a Chevy Blazer and started driving to gigs all over the West. By the time she donated the Blazer to KCRW\, there were over 500\,000 miles on the odometer. She has worked one nighters\, comedy clubs\, casinos and wars. In fact\, she performed for troops in both Iraq wars\, including a New Year’s Eve show at one of Saddam Hussein’s occupied palaces. After ten years of basing herself in NorCal\, she relocated to New York City in 1999. In 2003\, she added TV writing to her resume\, with her first staff job on Comedy Central’s “Tough Crowd with Colin Quinn.” She moved onto “The Late Late Show with Craig Ferguson” and tried her hand at daytime on “The Bonnie Hunt Show” before being hired as a monologue writer on “CONAN” for its entire 11 year run on TBS. \nIn 2006\, she became a mom\, and in 2009\, a single mom. In 2014\, she famously (or infamously) live-tweeted jokes her father’s hospice passing from lung cancer\, and in 2020\, she did the same after her mother was hospitalized with COVID. From these literal cremated ashes came her comedy special and second book (“45 Jokes About My Dead Dad” and Dead People Suck)\, and the 3rd titular element of her 2024 comedy special\, “Cis Woke Grief Slut.” \nFriday\, March 27th\, 2026 in The Grand Ballroom\nDoors at 7:00 PM | Show at 8:00 PM\n$25 General Admission | $35 VIP Front Row + Fees\nGeneral Admission or VIP | 21+ \nClick Here To Request ADA Seating
URL:https://pressplaysalem.com/calendar/laurie-kilmartin/
LOCATION:Salem’s Historic Grand Theatre\, 187 High St NE\, Salem\, OR\, 97301\, United States
CATEGORIES:comedy
ATTACH;FMTTYPE=image/png:https://pressplaysalem.com/wp-content/uploads/2026/02/2026-03-27-Grand.png
END:VEVENT
END:VCALENDAR