BEGIN:VCALENDAR
VERSION:2.0
PRODID:-//Press Play Salem - ECPv6.15.20//NONSGML v1.0//EN
CALSCALE:GREGORIAN
METHOD:PUBLISH
X-WR-CALNAME:Press Play Salem
X-ORIGINAL-URL:https://pressplaysalem.com
X-WR-CALDESC:Events for Press Play Salem
REFRESH-INTERVAL;VALUE=DURATION:PT1H
X-Robots-Tag:noindex
X-PUBLISHED-TTL:PT1H
BEGIN:VTIMEZONE
TZID:America/Vancouver
BEGIN:DAYLIGHT
TZOFFSETFROM:-0800
TZOFFSETTO:-0700
TZNAME:PDT
DTSTART:20250309T100000
END:DAYLIGHT
BEGIN:STANDARD
TZOFFSETFROM:-0700
TZOFFSETTO:-0800
TZNAME:PST
DTSTART:20251102T090000
END:STANDARD
BEGIN:DAYLIGHT
TZOFFSETFROM:-0800
TZOFFSETTO:-0700
TZNAME:PDT
DTSTART:20260308T100000
END:DAYLIGHT
BEGIN:STANDARD
TZOFFSETFROM:-0700
TZOFFSETTO:-0800
TZNAME:PST
DTSTART:20261101T090000
END:STANDARD
BEGIN:DAYLIGHT
TZOFFSETFROM:-0800
TZOFFSETTO:-0700
TZNAME:PDT
DTSTART:20270314T100000
END:DAYLIGHT
BEGIN:STANDARD
TZOFFSETFROM:-0700
TZOFFSETTO:-0800
TZNAME:PST
DTSTART:20271107T090000
END:STANDARD
END:VTIMEZONE
BEGIN:VEVENT
DTSTART;TZID=America/Vancouver:20260228T180000
DTEND;TZID=America/Vancouver:20260228T203000
DTSTAMP:20260423T165950
CREATED:20260208T191637Z
LAST-MODIFIED:20260208T191637Z
UID:10000682-1772301600-1772310600@pressplaysalem.com
SUMMARY:Mud & Mingle with Andrea Misbach
DESCRIPTION:Clay and conversation are at the center of this relaxed\, social workshop. Beginner-friendly\, low-pressure\, and oddly soothing. \nPerfect for a date night or a get-together with your friends! \nNew Project Each Workshop \nFeb 14 – Valentine Wall Plaque \nFeb 21 – Salt dish and spoon \nFeb 28 – Creative Creatures
URL:https://pressplaysalem.com/calendar/mud-mingle-with-andrea-misbach/2026-02-28/
CATEGORIES:activity
ATTACH;FMTTYPE=image/webp:https://pressplaysalem.com/wp-content/uploads/2026/02/mud-and-mingle.webp
END:VEVENT
BEGIN:VEVENT
DTSTART;TZID=America/Vancouver:20260228T193000
DTEND;TZID=America/Vancouver:20260228T210000
DTSTAMP:20260423T165950
CREATED:20260208T200304Z
LAST-MODIFIED:20260208T200405Z
UID:10000698-1772307000-1772312400@pressplaysalem.com
SUMMARY:The Glass Door
DESCRIPTION:The Glass Door reimagines Henrik Ibsen’s Hedda Gabler for a new audience\, exploring the ambitions and struggles of a woman trapped in a society that denies her agency. As she seeks control in a world that resists her\, she becomes entangled in a web of intrigue\, seduction\, and destruction. \nAdapted by: Stephen Evans \nPreview: Thursday\, February 12\, 2026Opening: Friday\, February 13\, 2026 \nPerformances \n\nPreview: Thursday\, February 12\, 7:30 p.m.\nGala Opening: Friday\, February 13\, 7:30 p.m.\nEvenings: Wednesday – Saturday\, 7:30 p.m.\nMatinees: February 15\, 21\, & 22\, March 1\, 2:00 p.m.
URL:https://pressplaysalem.com/calendar/the-glass-door/2026-02-28/
LOCATION:Pelton Theatre at Willamette University\, 900 State St\, Salem\, 97301\, United States
CATEGORIES:theater
ATTACH;FMTTYPE=image/png:https://pressplaysalem.com/wp-content/uploads/2026/02/25-26-glass-door-showmoji.png
END:VEVENT
BEGIN:VEVENT
DTSTART;TZID=America/Vancouver:20260228T200000
DTEND;TZID=America/Vancouver:20260228T220000
DTSTAMP:20260423T165950
CREATED:20260202T003655Z
LAST-MODIFIED:20260202T003655Z
UID:10000604-1772308800-1772316000@pressplaysalem.com
SUMMARY:Smocus Pocus
DESCRIPTION:World’s Dopest Magic Show | “Guaranteed to blow your mind!” -Las Vegas Magazine\n\n\n\nElevate your weekend plans with a night of magic that hits different. Innovative feats of trickery are infused with the world of weed as jars of bud appear\, lighters come to life\, and bongs bend reality in a show designed to enthrall both the stoned and sober. \n“Experience a higher kind of magic.” -Time Out New York \n“Rapid-fire wit injects life and laughs into the show.” -Las Vegas Weekly \n🪑 Seating is assigned on a first come first served basis in each zone. \n⏳ Duration: 75 minutes (doors open 30 mins prior to the start time and late entry is not permitted). \n👤 Age requirement: 21 years old or older \n♿ Accessibility: Contact us to reserve ADA compliant seating. \n💨 While this is a themed magic show\, please note that the theater is not licensed for consumption; no smoking is permitted inside the venue. \n🎟️All sales are final. We can accommodate date transfers if available\, however refunds are unable to be processed. \nFor more info visit www.SmokusPocus.com
URL:https://pressplaysalem.com/calendar/smocus-pocus/
LOCATION:Salem’s Historic Grand Theatre\, 187 High St NE\, Salem\, OR\, 97301\, United States
CATEGORIES:comedy
END:VEVENT
END:VCALENDAR